Workbook

Sheet Performance average
B3: Required Service | C3: Full Mark | D3: Percent Per Services | E3: Percent to total contract | F3: Percent per month | G3: Actual percentage | H3: Deduction
B4: Administration area & Edge | C4: 10 | D4: =C4/C19 -> 0.1 | E4: =H19*D4 -> 34620 | F4: ='Administraion Area& Edge'!AI71/'Administraion Area& Edge'!AI70 -> 0.94064516 | G4: =E4*F4 -> 32565.135 | H4: =100%-F4 -> 0.059354839
B5: Toilets | C5: 5 | D5: 0.05 | E5: =H19*D5 -> 17310 | F5: =Toilets!AI82/Toilets!AI81 -> 0.88258065 | G5: =E5*F5 -> 15277.471 | H5: =100%-F5 -> 0.11741935
B6: Lobby & floors, & guest elevators | C6: 10 | D6: 0.1 | E6: =H19*D6 -> 34620 | F6: ='Lobby&Floors&elevators'!AI85/'Lobby&Floors&elevators'!AI84 -> 0.9487666 | G6: =E6*F6 -> 32846.3 | H6: =100%-F6 -> 0.051233397
B7: Celebration area | C7: 5 | D7: 0.05 | E7: =H19*D7 -> 17310 | F7: ='Celebration area'!AI61/'Celebration area'!AI60 -> 0.94709677 | G7: =E7*F7 -> 16394.245 | H7: =100%-F7 -> 0.052903226
B8: Receiving Area | C8: 5 | D8: 0.05 | E8: =H19*D8 -> 17310 | F8: ='Receiving Area'!AI55/'Receiving Area'!AI54 -> 0.88967742 | G8: =E8*F8 -> 15400.316 | H8: =100%-F8 -> 0.11032258
B9: Stairs | C9: 5 | D9: 0.05 | E9: =H19*D9 -> 17310 | F9: =Stairs!AI45/Stairs!AI44 -> 0.83032258 | G9: =E9*F9 -> 14372.884 | H9: =100%-F9 -> 0.16967742
B10: Back Area & service elevators | C10: 5 | D10: 0.05 | E10: =H19*D10 -> 17310 | F10: ='Back areas & service elevators'!AI56/'Back areas & service elevators'!AI55 -> 0.84580645 | G10: =E10*F10 -> 14640.91 | H10: =100%-F10 -> 0.15419355
B11: Environments | C11: 5 | D11: 0.05 | E11: =H19*D11 -> 17310 | F11: =Environment!AI37/Environment!AI36 -> 1 | G11: =E11*F11 -> 17310 | H11: =100%-F11 -> 0
B12: Sky Light& canopies | C12: 5 | D12: 0.05 | E12: =H19*D12 -> 17310 | F12: ='Sky light &canopies'!AI39/'Sky light &canopies'!AI38 -> 0.96774194 | G12: =E12*F12 -> 16751.613 | H12: =100%-F12 -> 0.032258065
B13: Basement | C13: 5 | D13: 0.05 | E13: =H19*D13 -> 17310 | F13: =Basement!AI72/Basement!AI71 -> 1 | G13: =E13*F13 -> 17310 | H13: =100%-F13 -> 0
B14: Maintenance & mechanical rooms | C14: 5 | D14: 0.05 | E14: =H19*D14 -> 17310 | F14: ='Maintenance&mechanical rooms '!AI53/'Maintenance&mechanical rooms '!AI52 -> 1 | G14: =E14*F14 -> 17310 | H14: =100%-F14 -> 0
B15: Attendance | C15: 10 | D15: =C15/C19 -> 0.1 | E15: =H19*D15 -> 34620 | F15: =Attendance!GF13/Attendance!GF11 -> 0.95714286 | G15: =E15*F15 -> 33136.286 | H15: =100%-F15 -> 0.042857143
B16: Equipment & tools & Response | C16: 10 | D16: =10% -> 0.1 | E16: =H19*D16 -> 34620 | F16: ='Equipment and Tools'!BM52/'Equipment and Tools'!BM51 -> 0.91928657 | G16: =E16*F16 -> 31825.701 | H16: =100%-F16 -> 0.080713432
B17: Food hall | C17: 5 | D17: 0.05 | E17: =H19*D17 -> 17310 | F17: ='Food hall'!AI59/'Food hall'!AI58 -> 0.90322581 | G17: =E17*F17 -> 15634.839 | H17: =100%-F17 -> 0.096774194
B18: Appearance and Hygiene | C18: 10 | D18: =10% -> 0.1 | E18: =H19*D18 -> 34620 | F18: ='Appearance and hygiene'!AI38/'Appearance and hygiene'!AI37 -> 0.99139785 | G18: =E18*F18 -> 34322.194 | H18: =100%-F18 -> 0.0086021505
B19: Total Marks | C19: =SUM(C4:C18) -> 100 | E19: =SUM(E4:E18) -> 346200 | G19: =SUM(G4:G18) -> 325097.89 | H19: 346200
B20: Overall precentage | G20: =G19/H19 -> 0.93904648 | H20: =H19-G19 -> 21102.107

Sheet Administraion Area& Edge
B2: Date | D2: 1 | E2: 2 | F2: 3 | G2: 4 | H2: 5 | I2: 6 | J2: 7 | K2: 8 | L2: 9 | M2: 10 | N2: 11 | O2: 12 | P2: 13 | Q2: 14 | R2: 15 | S2: 16 | T2: 17 | U2: 18 | V2: 19 | W2: 20 | X2: 21 | Y2: 22 | Z2: 23 | AA2: 24 | AB2: 25 | AC2: 26 | AD2: 27 | AE2: 28 | AF2: 29 | AG2: 30 | AH2: 31
B3: Area | C3: Standard | D3: Score
A4: 1 | B4: Ceiling | D4: 0.5 | E4: 0.5 | F4: 0.5 | G4: 0.5 | H4: 0.5 | I4: 0.5 | J4: 0.5 | K4: 0.5 | L4: 0.5 | M4: 0.5 | N4: 0.5 | O4: 0.5 | P4: 0.5 | Q4: 0.5 | R4: 0.5 | S4: 0.5 | T4: 0.5 | U4: 0.5 | V4: 0.5 | W4: 0.5 | X4: 0.5 | Y4: 0.5 | Z4: 0.5 | AA4: 0.5 | AB4: 0.5 | AC4: 0.5 | AD4: 0.5 | AE4: 0.5 | AF4: 0.5 | AG4: 0.5 | AH4: 0.5
B5: Tiles | C5: Free of dust and no finger prints
B6: Air diffusers | C6: Free of dust and no finger prints
B7: Light fixtures | C7: Free of dust and no finger prints
B8: Actual Score | D8: ='[1]01'!$C$4 -> 0.5 | E8: ='[1]02'!$C$4 -> 0.5 | F8: ='[1]03'!$C$4 -> 0.5 | G8: ='[1]04'!$C$4 -> 0.5 | H8: ='[1]05'!$C$4 -> 0.5 | I8: ='[1]06'!$C$4 -> 0.5 | J8: ='[1]07'!$C$4 -> 0.5 | K8: ='[1]08'!$C$4 -> 0.5 | L8: ='[1]09'!$C$4 -> 0.5 | M8: ='[1]10'!$C$4 -> 0.5 | N8: ='[1]11'!$C$4 -> 0.5 | O8: ='[1]12'!$C$4 -> 0.5 | P8: ='[1]13'!$C$4 -> 0.5 | Q8: ='[1]14'!$C$4 -> 0.5 | R8: ='[1]15'!$C$4 -> 0.5 | S8: ='[1]16'!$C$4 -> 0.5 | T8: ='[1]17'!$C$4 -> 0.5 | U8: ='[1]18'!$C$4 -> 0.5 | V8: ='[1]19'!$C$4 -> 0.5 | W8: ='[1]20'!$C$4 -> 0.5 | X8: ='[1]21'!$C$4 -> 0.5 | Y8: ='[1]22'!$C$4 -> 0.5 | Z8: ='[1]23'!$C$4 -> 0.5 | AA8: ='[1]24'!$C$4 -> 0.5 | AB8: ='[1]25'!$C$4 -> 0.5 | AC8: ='[1]26'!$C$4 -> 0.5 | AD8: ='[1]27'!$C$4 -> 0.5 | AE8: ='[1]28'!$C$4 -> 0.5 | AF8: ='[1]29'!$C$4 -> 0.5 | AG8: ='[1]30'!$C$4 -> 0.5 | AH8: ='[1]31'!$C$4 -> 0.5
A9: 2 | B9: Walls | D9: 0.5 | E9: 0.5 | F9: 0.5 | G9: 0.5 | H9: 0.5 | I9: 0.5 | J9: 0.5 | K9: 0.5 | L9: 0.5 | M9: 0.5 | N9: 0.5 | O9: 0.5 | P9: 0.5 | Q9: 0.5 | R9: 0.5 | S9: 0.5 | T9: 0.5 | U9: 0.5 | V9: 0.5 | W9: 0.5 | X9: 0.5 | Y9: 0.5 | Z9: 0.5 | AA9: 0.5 | AB9: 0.5 | AC9: 0.5 | AD9: 0.5 | AE9: 0.5 | AF9: 0.5 | AG9: 0.5 | AH9: 0.5
B10: Painted Walls | C10: No finger prints or black marks
B11: Wood walls | C11: Free of dust and no finger prints
B12: Corners and baseboard | C12: Free of dust and black marks
B13: Switches and sockets | C13: Free of dust and no finger prints
B14: Signs | C14: Shiny and no finger prints
B15: Stainless steel work | C15: Free of dust and no finger prints
B16: wood work | C16: Free of dust and no finger prints
B17: Actual Score | D17: ='[1]01'!$C$5 -> 0.5 | E17: ='[1]02'!$C$5 -> 0.5 | F17: ='[1]03'!$C$5 -> 0.5 | G17: ='[1]04'!$C$5 -> 0.5 | H17: ='[1]05'!$C$5 -> 0.5 | I17: ='[1]06'!$C$5 -> 0.5 | J17: ='[1]07'!$C$5 -> 0.5 | K17: ='[1]08'!$C$5 -> 0.5 | L17: ='[1]09'!$C$5 -> 0.5 | M17: ='[1]10'!$C$5 -> 0.5 | N17: ='[1]11'!$C$5 -> 0.5 | O17: ='[1]12'!$C$5 -> 0.5 | P17: ='[1]13'!$C$5 -> 0.5 | Q17: ='[1]14'!$C$5 -> 0.5 | R17: ='[1]15'!$C$5 -> 0.5 | S17: ='[1]16'!$C$5 -> 0.5 | T17: ='[1]17'!$C$5 -> 0.5 | U17: ='[1]18'!$C$5 -> 0.5 | V17: ='[1]19'!$C$5 -> 0.5 | W17: ='[1]20'!$C$5 -> 0.5 | X17: ='[1]21'!$C$5 -> 0.5 | Y17: ='[1]22'!$C$5 -> 0.5 | Z17: ='[1]23'!$C$5 -> 0.5 | AA17: ='[1]24'!$C$5 -> 0.5 | AB17: ='[1]25'!$C$5 -> 0.5 | AC17: ='[1]26'!$C$5 -> 0.5 | AD17: ='[1]27'!$C$5 -> 0.5 | AE17: ='[1]28'!$C$5 -> 0.5 | AF17: ='[1]29'!$C$5 -> 0.5 | AG17: ='[1]30'!$C$5 -> 0.5 | AH17: ='[1]31'!$C$5 -> 0.5
A18: 3 | B18: Glass work | D18: 0.5 | E18: 0.5 | F18: 0.5 | G18: 0.5 | H18: 0.5 | I18: 0.5 | J18: 0.5 | K18: 0.5 | L18: 0.5 | M18: 0.5 | N18: 0.5 | O18: 0.5 | P18: 0.5 | Q18: 0.5 | R18: 0.5 | S18: 0.5 | T18: 0.5 | U18: 0.5 | V18: 0.5 | W18: 0.5 | X18: 0.5 | Y18: 0.5 | Z18: 0.5 | AA18: 0.5 | AB18: 0.5 | AC18: 0.5 | AD18: 0.5 | AE18: 0.5 | AF18: 0.5 | AG18: 0.5 | AH18: 0.5
B19: Partitions) | C19: Free of dust and no finger prints
B20: Actual Score | D20: ='[1]01'!$C$6 -> 0.5 | E20: ='[1]02'!$C$6 -> 0.5 | F20: ='[1]03'!$C$6 -> 0.5 | G20: ='[1]04'!$C$6 -> 0.5 | H20: ='[1]05'!$C$6 -> 0.5 | I20: ='[1]06'!$C$6 -> 0.5 | J20: ='[1]07'!$C$6 -> 0.5 | K20: ='[1]08'!$C$6 -> 0.5 | L20: ='[1]09'!$C$6 -> 0.5 | M20: ='[1]10'!$C$6 -> 0.5 | N20: ='[1]11'!$C$6 -> 0.5 | O20: ='[1]12'!$C$6 -> 0.5 | P20: ='[1]13'!$C$6 -> 0.5 | Q20: ='[1]14'!$C$6 -> 0.5 | R20: ='[1]15'!$C$6 -> 0.5 | S20: ='[1]16'!$C$6 -> 0.5 | T20: ='[1]17'!$C$6 -> 0.5 | U20: ='[1]18'!$C$6 -> 0.5 | V20: ='[1]19'!$C$6 -> 0.5 | W20: ='[1]20'!$C$6 -> 0.5 | X20: ='[1]21'!$C$6 -> 0.5 | Y20: ='[1]22'!$C$6 -> 0.5 | Z20: ='[1]23'!$C$6 -> 0.5 | AA20: ='[1]24'!$C$6 -> 0.5 | AB20: ='[1]25'!$C$6 -> 0.5 | AC20: ='[1]26'!$C$6 -> 0.5 | AD20: ='[1]27'!$C$6 -> 0.5 | AE20: ='[1]28'!$C$6 -> 0.5 | AF20: ='[1]29'!$C$6 -> 0.5 | AG20: ='[1]30'!$C$6 -> 0.5 | AH20: ='[1]31'!$C$6 -> 0.5
A21: 4 | B21: Windows | D21: 0.5 | E21: 0.5 | F21: 0.5 | G21: 0.5 | H21: 0.5 | I21: 0.5 | J21: 0.5 | K21: 0.5 | L21: 0.5 | M21: 0.5 | N21: 0.5 | O21: 0.5 | P21: 0.5 | Q21: 0.5 | R21: 0.5 | S21: 0.5 | T21: 0.5 | U21: 0.5 | V21: 0.5 | W21: 0.5 | X21: 0.5 | Y21: 0.5 | Z21: 0.5 | AA21: 0.5 | AB21: 0.5 | AC21: 0.5 | AD21: 0.5 | AE21: 0.5 | AF21: 0.5 | AG21: 0.5 | AH21: 0.5
B22: Glass | C22: Free of dust and no finger prints
B23: Frames | C23: Free of dust and no finger prints
B24: Drapery/ blinds | C24: Free of dust and spots
B25: Actual Score | D25: ='[1]01'!$C$7 -> 0.5 | E25: ='[1]02'!$C$7 -> 0.5 | F25: ='[1]03'!$C$6 -> 0.5 | G25: ='[1]04'!$C$6 -> 0.5 | H25: ='[1]05'!$C$6 -> 0.5 | I25: ='[1]06'!$C$6 -> 0.5 | J25: ='[1]07'!$C$6 -> 0.5 | K25: ='[1]08'!$C$6 -> 0.5 | L25: ='[1]09'!$C$6 -> 0.5 | M25: ='[1]10'!$C$6 -> 0.5 | N25: ='[1]11'!$C$6 -> 0.5 | O25: ='[1]12'!$C$6 -> 0.5 | P25: ='[1]13'!$C$6 -> 0.5 | Q25: ='[1]14'!$C$6 -> 0.5 | R25: ='[1]15'!$C$6 -> 0.5 | S25: ='[1]16'!$C$6 -> 0.5 | T25: ='[1]17'!$C$6 -> 0.5 | U25: ='[1]18'!$C$6 -> 0.5 | V25: ='[1]19'!$C$6 -> 0.5 | W25: ='[1]20'!$C$6 -> 0.5 | X25: ='[1]21'!$C$6 -> 0.5 | Y25: ='[1]22'!$C$6 -> 0.5 | Z25: ='[1]23'!$C$6 -> 0.5 | AA25: ='[1]24'!$C$6 -> 0.5 | AB25: ='[1]25'!$C$6 -> 0.5 | AC25: ='[1]26'!$C$6 -> 0.5 | AD25: ='[1]27'!$C$6 -> 0.5 | AE25: ='[1]28'!$C$6 -> 0.5 | AF25: ='[1]29'!$C$6 -> 0.5 | AG25: ='[1]30'!$C$6 -> 0.5 | AH25: ='[1]31'!$C$6 -> 0.5
A26: 5 | B26: Offices, work station and meeting rooms | D26: 0.5 | E26: 0.5 | F26: 0.5 | G26: 0.5 | H26: 0.5 | I26: 0.5 | J26: 0.5 | K26: 0.5 | L26: 0.5 | M26: 0.5 | N26: 0.5 | O26: 0.5 | P26: 0.5 | Q26: 0.5 | R26: 0.5 | S26: 0.5 | T26: 0.5 | U26: 0.5 | V26: 0.5 | W26: 0.5 | X26: 0.5 | Y26: 0.5 | Z26: 0.5 | AA26: 0.5 | AB26: 0.5 | AC26: 0.5 | AD26: 0.5 | AE26: 0.5 | AF26: 0.5 | AG26: 0.5 | AH26: 0.5
B27: Desks | C27: Free of dust and no finger prints
B28: Fabric seats of offices | C28: Free of dust and spots
B29: Leather seats | C29: Free of dust and no finger prints
B30: Computers & electronic eqt, screens, cables etc. | C30: Free of dust and no finger prints
B31: Cupboards | C31: Free of dust and no finger prints
B32: Corner and center tables | C32: Free of dust and no finger prints
B33: Decorations items | C33: Free of dust and no finger prints
B34: Garbage baskets | C34: Clean and shiny and not smelly
B35: Garbage bags | C35: Clean and not smelly
B36: Carpet floors | C36: Free of dust, debris, spots, and bad smell
B37: Wooden floor | C37: Free of dust, debris and shads
B38: Actual Score | D38: ='[1]28'!$C$4 -> 0.5 | E38: ='[1]28'!$C$4 -> 0.5 | F38: ='[1]28'!$C$4 -> 0.5 | G38: ='[1]28'!$C$4 -> 0.5 | H38: ='[1]28'!$C$4 -> 0.5 | I38: ='[1]28'!$C$4 -> 0.5 | J38: ='[1]28'!$C$4 -> 0.5 | K38: ='[1]28'!$C$4 -> 0.5 | ... N38: ='[1]28'!$C$4 -> 0.5 | O38: 0 | P38: 0 | Q38: 0 | R38: 0 | S38: 0 | T38: 0 | U38: 0 | V38: ='[1]28'!$C$4 -> 0.5 | W38: ='[1]28'!$C$4 -> 0.5 | X38: ='[1]28'!$C$4 -> 0.5 | Y38: ='[1]28'!$C$4 -> 0.5 | Z38: ='[1]28'!$C$4 -> 0.5 | AA38: ='[1]28'!$C$4 -> 0.5 | AB38: ='[1]28'!$C$4 -> 0.5 | AC38: ='[1]28'!$C$4 -> 0.5 | ... AH38: ='[1]28'!$C$4 -> 0.5
A39: 6 | B39: Reception | D39: 0.5 | E39: 0.5 | F39: 0.5 | G39: 0.5 | H39: 0.5 | I39: 0.5 | J39: 0.5 | K39: 0.5 | L39: 0.5 | M39: 0.5 | N39: 0.5 | O39: 0.5 | P39: 0.5 | Q39: 0.5 | R39: 0.5 | S39: 0.5 | T39: 0.5 | U39: 0.5 | V39: 0.5 | W39: 0.5 | X39: 0.5 | Y39: 0.5 | Z39: 0.5 | AA39: 0.5 | AB39: 0.5 | AC39: 0.5 | AD39: 0.5 | AE39: 0.5 | AF39: 0.5 | AG39: 0.5 | AH39: 0.5
B40: Leather seats | C40: Free of dust and no finger prints
B41: Corner and center tables | C41: Free of dust and no finger prints
B42: Stones | C42: Free of dust and garbage
B43: Signs | C43: Free of dust, shiny and no finger prints
B44: Wooden floor | C44: Free of dust, debris and shads
B45: Hard floors | C45: Free of dust, spots and shiny
B46: Actual Score | D46: ='[1]28'!$C$4 -> 0.5 | E46: ='[1]28'!$C$4 -> 0.5 | F46: ='[1]28'!$C$4 -> 0.5 | G46: ='[1]28'!$C$4 -> 0.5 | H46: ='[1]28'!$C$4 -> 0.5 | I46: ='[1]28'!$C$4 -> 0.5 | J46: ='[1]28'!$C$4 -> 0.5 | K46: ='[1]28'!$C$4 -> 0.5 | ... V46: ='[1]28'!$C$4 -> 0.5 | W46: 0.4 | X46: 0.4 | Y46: 0.4 | Z46: 0.4 | AA46: 0.4 | AB46: 0.4 | AC46: 0.4 | AD46: 0.4 | AE46: 0.4 | AF46: 0.4 | AG46: 0.4 | AH46: 0.4
A47: 7 | B47: Lounge | D47: 0.5 | E47: 0.5 | F47: 0.5 | G47: 0.5 | H47: 0.5 | I47: 0.5 | J47: 0.5 | K47: 0.5 | L47: 0.5 | M47: 0.5 | N47: 0.5 | O47: 0.5 | P47: 0.5 | Q47: 0.5 | R47: 0.5 | S47: 0.5 | T47: 0.5 | U47: 0.5 | V47: 0.5 | W47: 0.5 | X47: 0.5 | Y47: 0.5 | Z47: 0.5 | AA47: 0.5 | AB47: 0.5 | AC47: 0.5 | AD47: 0.5 | AE47: 0.5 | AF47: 0.5 | AG47: 0.5 | AH47: 0.5
B48: Leather seats | C48: Free of dust and no finger prints
B49: Carpet floors | C49: Free of dust, debris, spots, and bad smell
B50: Garbage baskets | C50: Clean and shiny and not smelly
B51: Garbage bags | C51: Clean and not smelly
B52: Actual Score | D52: ='[1]28'!$C$4 -> 0.5 | E52: ='[1]28'!$C$4 -> 0.5 | F52: ='[1]28'!$C$4 -> 0.5 | G52: ='[1]28'!$C$4 -> 0.5 | H52: ='[1]28'!$C$4 -> 0.5 | I52: ='[1]28'!$C$4 -> 0.5 | J52: ='[1]28'!$C$4 -> 0.5 | K52: 0.3 | L52: 0.3 | M52: 0.3 | N52: 0.3 | O52: 0.3 | P52: 0.3 | Q52: 0.3 | R52: 0.3 | S52: 0.3 | T52: 0.3 | U52: ='[1]28'!$C$4 -> 0.5 | V52: ='[1]28'!$C$4 -> 0.5 | W52: ='[1]28'!$C$4 -> 0.5 | X52: ='[1]28'!$C$4 -> 0.5 | Y52: ='[1]28'!$C$4 -> 0.5 | Z52: ='[1]28'!$C$4 -> 0.5 | AA52: ='[1]28'!$C$4 -> 0.5 | AB52: ='[1]28'!$C$4 -> 0.5 | ... AH52: ='[1]28'!$C$4 -> 0.5
A53: 8 | B53: Floors | D53: 0.5 | E53: 0.5 | F53: 0.5 | G53: 0.5 | H53: 0.5 | I53: 0.5 | J53: 0.5 | K53: 0.5 | L53: 0.5 | M53: 0.5 | N53: 0.5 | O53: 0.5 | P53: 0.5 | Q53: 0.5 | R53: 0.5 | S53: 0.5 | T53: 0.5 | U53: 0.5 | V53: 0.5 | W53: 0.5 | X53: 0.5 | Y53: 0.5 | Z53: 0.5 | AA53: 0.5 | AB53: 0.5 | AC53: 0.5 | AD53: 0.5 | AE53: 0.5 | AF53: 0.5 | AG53: 0.5 | AH53: 0.5
B54: Carpet | C54: Free of dust, debris and spots
B55: Hard floors | C55: Free of dust, spots and shiny
B56: Actual Score | D56: ='[1]28'!$C$4 -> 0.5 | E56: ='[1]28'!$C$4 -> 0.5 | F56: ='[1]28'!$C$4 -> 0.5 | G56: ='[1]28'!$C$4 -> 0.5 | H56: ='[1]28'!$C$4 -> 0.5 | I56: ='[1]28'!$C$4 -> 0.5 | J56: ='[1]28'!$C$4 -> 0.5 | K56: ='[1]28'!$C$4 -> 0.5 | ... N56: ='[1]28'!$C$4 -> 0.5 | O56: 0 | P56: 0 | Q56: 0 | R56: 0 | S56: 0 | T56: ='[1]28'!$C$4 -> 0.5 | U56: ='[1]28'!$C$4 -> 0.5 | V56: ='[1]28'!$C$4 -> 0.5 | W56: ='[1]28'!$C$4 -> 0.5 | X56: ='[1]28'!$C$4 -> 0.5 | Y56: ='[1]28'!$C$4 -> 0.5 | Z56: ='[1]28'!$C$4 -> 0.5 | AA56: ='[1]28'!$C$4 -> 0.5 | ... AH56: ='[1]28'!$C$4 -> 0.5
A57: 9 | B57: Equipment Standared | D57: 0.5 | E57: 0.5 | F57: 0.5 | G57: 0.5 | H57: 0.5 | I57: 0.5 | J57: 0.5 | K57: 0.5 | L57: 0.5 | M57: 0.5 | N57: 0.5 | O57: 0.5 | P57: 0.5 | Q57: 0.5 | R57: 0.5 | S57: 0.5 | T57: 0.5 | U57: 0.5 | V57: 0.5 | W57: 0.5 | X57: 0.5 | Y57: 0.5 | Z57: 0.5 | AA57: 0.5 | AB57: 0.5 | AC57: 0.5 | AD57: 0.5 | AE57: 0.5 | AF57: 0.5 | AG57: 0.5 | AH57: 0.5
B58: Wher to store it | C58: Janitor room
B59: Machines | C59: Clean, No bad smell, Not noisy
B60: Tools | C60: Clean, No bad smell,Not torn,and no broken stiks
B61: Chemicals | C61: bottels tobe keept at the tray, and keep it at the janitor room
B62: Actual Score | D62: ='[1]28'!$C$4 -> 0.5 | E62: ='[1]28'!$C$4 -> 0.5 | F62: ='[1]28'!$C$4 -> 0.5 | G62: ='[1]28'!$C$4 -> 0.5 | H62: ='[1]28'!$C$4 -> 0.5 | I62: ='[1]28'!$C$4 -> 0.5 | J62: ='[1]28'!$C$4 -> 0.5 | K62: ='[1]28'!$C$4 -> 0.5 | ... AH62: ='[1]28'!$C$4 -> 0.5
A63: 10 | B63: Safty procedure | D63: 0.5 | E63: 0.5 | F63: 0.5 | G63: 0.5 | H63: 0.5 | I63: 0.5 | J63: 0.5 | K63: 0.5 | L63: 0.5 | M63: 0.5 | N63: 0.5 | O63: 0.5 | P63: 0.5 | Q63: 0.5 | R63: 0.5 | S63: 0.5 | T63: 0.5 | U63: 0.5 | V63: 0.5 | W63: 0.5 | X63: 0.5 | Y63: 0.5 | Z63: 0.5 | AA63: 0.5 | AB63: 0.5 | AC63: 0.5 | AD63: 0.5 | AE63: 0.5 | AF63: 0.5 | AG63: 0.5 | AH63: 0.5
B64: Machines | C64: The cable has no cutting, blug is fixed, warning sign to be used
B65: Tools | C65: Warning sign to be used, no ladder on wet floor
B66: Chemicals | C66: Known, covered, on the properet botteles
B67: Uniform | C67: shoes without heel, and not slippery
B68: Actual Score | D68: ='[1]28'!$C$4 -> 0.5 | E68: ='[1]28'!$C$4 -> 0.5 | F68: ='[1]28'!$C$4 -> 0.5 | G68: ='[1]28'!$C$4 -> 0.5 | H68: ='[1]28'!$C$4 -> 0.5 | I68: ='[1]28'!$C$4 -> 0.5 | J68: ='[1]28'!$C$4 -> 0.5 | K68: ='[1]28'!$C$4 -> 0.5 | ... AH68: ='[1]28'!$C$4 -> 0.5
B70: Total Score | D70: =D4+D9+D18+D21+D26+D39+D47+D53+D57+D63 -> 5 | E70: =E4+E9+E18+E21+E26+E39+E47+E53+E57+E63 -> 5 | F70: =F4+F9+F18+F21+F26+F39+F47+F53+F57+F63 -> 5 | G70: =G4+G9+G18+G21+G26+G39+G47+G53+G57+G63 -> 5 | H70: =H4+H9+H18+H21+H26+H39+H47+H53+H57+H63 -> 5 | I70: =I4+I9+I18+I21+I26+I39+I47+I53+I57+I63 -> 5 | J70: =J4+J9+J18+J21+J26+J39+J47+J53+J57+J63 -> 5 | K70: =K4+K9+K18+K21+K26+K39+K47+K53+K57+K63 -> 5 | ... AH70: =AH4+AH9+AH18+AH21+AH26+AH39+AH47+AH53+AH57+AH63 -> 5 | AI70: =SUM(D70:AH70) -> 155
B71: Total Actual Score | D71: =D8+D17+D20+D25+D38+D46+D52+D56+D62+D68 -> 5 | E71: =E8+E17+E20+E25+E38+E46+E52+E56+E62+E68 -> 5 | F71: =F8+F17+F20+F25+F38+F46+F52+F56+F62+F68 -> 5 | G71: =G8+G17+G20+G25+G38+G46+G52+G56+G62+G68 -> 5 | H71: =H8+H17+H20+H25+H38+H46+H52+H56+H62+H68 -> 5 | I71: =I8+I17+I20+I25+I38+I46+I52+I56+I62+I68 -> 5 | J71: =J8+J17+J20+J25+J38+J46+J52+J56+J62+J68 -> 5 | K71: =K8+K17+K20+K25+K38+K46+K52+K56+K62+K68 -> 4.8 | ... AH71: =AH8+AH17+AH20+AH25+AH38+AH46+AH52+AH56+AH62+AH68 -> 4.9 | AI71: =SUM(D71:AH71) -> 145.8

Sheet Toilets
D2: 1 | E2: 2 | F2: 3 | G2: 4 | H2: 5 | I2: 6 | J2: 7 | K2: 8 | L2: 9 | M2: 10 | N2: 11 | O2: 12 | P2: 13 | Q2: 14 | R2: 15 | S2: 16 | T2: 17 | U2: 18 | V2: 19 | W2: 20 | X2: 21 | Y2: 22 | Z2: 23 | AA2: 24 | AB2: 25 | AC2: 26 | AD2: 27 | AE2: 28 | AF2: 29 | AG2: 30 | AH2: 31
B3: Area | C3: Standard | D3: Score
A4: 1 | B4: Ceiling | D4: 0.5 | E4: 0.5 | F4: 0.5 | G4: 0.5 | H4: 0.5 | I4: 0.5 | J4: 0.5 | K4: 0.5 | L4: 0.5 | M4: 0.5 | N4: 0.5 | O4: 0.5 | P4: 0.5 | Q4: 0.5 | R4: 0.5 | S4: 0.5 | T4: 0.5 | U4: 0.5 | V4: 0.5 | W4: 0.5 | X4: 0.5 | Y4: 0.5 | Z4: 0.5 | AA4: 0.5 | AB4: 0.5 | AC4: 0.5 | AD4: 0.5 | AE4: 0.5 | AF4: 0.5 | AG4: 0.5 | AH4: 0.5
B5: Tiles | C5: Free of dust and no finger prints
B6: Air diffusers | C6: Free of dust and no finger prints
B7: Light fixtures | C7: Free of dust and no finger prints
B8: Exhausts | C8: Free of dust and no finger prints
B9: Smell | C9: Smell to be nice and not strong
B10: Appearance | C10: As per standard
B11: Actual Score | D11: ='[1]01'!$C$16 -> 0.5 | E11: ='[1]01'!$C$16 -> 0.5 | F11: ='[1]01'!$C$16 -> 0.5 | G11: ='[1]01'!$C$16 -> 0.5 | H11: ='[1]01'!$C$16 -> 0.5 | I11: ='[1]01'!$C$16 -> 0.5 | J11: ='[1]01'!$C$16 -> 0.5 | K11: ='[1]01'!$C$16 -> 0.5 | ... AH11: ='[1]01'!$C$16 -> 0.5
A12: 2 | B12: Walls | D12: 0.5 | E12: 0.5 | F12: 0.5 | G12: 0.5 | H12: 0.5 | I12: 0.5 | J12: 0.5 | K12: 0.5 | L12: 0.5 | M12: 0.5 | N12: 0.5 | O12: 0.5 | P12: 0.5 | Q12: 0.5 | R12: 0.5 | S12: 0.5 | T12: 0.5 | U12: 0.5 | V12: 0.5 | W12: 0.5 | X12: 0.5 | Y12: 0.5 | Z12: 0.5 | AA12: 0.5 | AB12: 0.5 | AC12: 0.5 | AD12: 0.5 | AE12: 0.5 | AF12: 0.5 | AG12: 0.5 | AH12: 0.5
B13: Marble walls | C13: No finger prints, water spots or black marks
B14: Corners and baseboard | C14: Free of dust, dirt's and water spots
B15: Switches and sockets | C15: Free of dust and no finger prints
B16: Wooden doors and frames | C16: Free of dust, no finger prints, or water spots
B17: Stainless steel work | C17: Free of dust and no finger prints
B18: Signs | C18: Shiny and no finger prints and well fixed
B19: Actual Score | D19: ='[1]01'!$C$16 -> 0.5 | E19: ='[1]01'!$C$16 -> 0.5 | F19: ='[1]01'!$C$16 -> 0.5 | G19: ='[1]01'!$C$16 -> 0.5 | H19: ='[1]01'!$C$16 -> 0.5 | I19: ='[1]01'!$C$16 -> 0.5 | J19: ='[1]01'!$C$16 -> 0.5 | K19: ='[1]01'!$C$16 -> 0.5 | ... AH19: ='[1]01'!$C$16 -> 0.5
A20: 3 | B20: Glass work | D20: 0.5 | E20: 0.5 | F20: 0.5 | G20: 0.5 | H20: 0.5 | I20: 0.5 | J20: 0.5 | K20: 0.5 | L20: 0.5 | M20: 0.5 | N20: 0.5 | O20: 0.5 | P20: 0.5 | Q20: 0.5 | R20: 0.5 | S20: 0.5 | T20: 0.5 | U20: 0.5 | V20: 0.5 | W20: 0.5 | X20: 0.5 | Y20: 0.5 | Z20: 0.5 | AA20: 0.5 | AB20: 0.5 | AC20: 0.5 | AD20: 0.5 | AE20: 0.5 | AF20: 0.5 | AG20: 0.5 | AH20: 0.5
B21: Mirrors | C21: Shiny and no finger prints, or water spots
B22: Actual Score | D22: ='[1]01'!$C$16 -> 0.5 | E22: ='[1]01'!$C$16 -> 0.5 | F22: ='[1]01'!$C$16 -> 0.5 | G22: ='[1]01'!$C$16 -> 0.5 | H22: ='[1]01'!$C$16 -> 0.5 | I22: ='[1]01'!$C$16 -> 0.5 | J22: ='[1]01'!$C$16 -> 0.5 | K22: ='[1]01'!$C$16 -> 0.5 | ... O22: ='[1]01'!$C$16 -> 0.5 | P22: 0.3 | Q22: 0.3 | R22: 0.3 | S22: 0.3 | T22: 0.3 | U22: 0.3 | V22: 0.3 | W22: 0.3 | X22: 0.3 | Y22: 0.3 | Z22: 0.3 | AA22: 0.3 | AB22: 0.3 | AC22: ='[1]01'!$C$16 -> 0.5 | AD22: ='[1]01'!$C$16 -> 0.5 | AE22: ='[1]01'!$C$16 -> 0.5 | AF22: ='[1]01'!$C$16 -> 0.5 | AG22: ='[1]01'!$C$16 -> 0.5 | AH22: ='[1]01'!$C$16 -> 0.5
A23: 4 | B23: Cabinets | D23: 0.5 | E23: 0.5 | F23: 0.5 | G23: 0.5 | H23: 0.5 | I23: 0.5 | J23: 0.5 | K23: 0.5 | L23: 0.5 | M23: 0.5 | N23: 0.5 | O23: 0.5 | P23: 0.5 | Q23: 0.5 | R23: 0.5 | S23: 0.5 | T23: 0.5 | U23: 0.5 | V23: 0.5 | W23: 0.5 | X23: 0.5 | Y23: 0.5 | Z23: 0.5 | AA23: 0.5 | AB23: 0.5 | AC23: 0.5 | AD23: 0.5 | AE23: 0.5 | AF23: 0.5 | AG23: 0.5 | AH23: 0.5
B24: Walls | C24: No finger prints, water spots or black marks
B25: Toilet flush | C25: Shiny cover, working
B26: Toilet seat in and out | C26: Clean in and out, clean flush halls, well fixed
B27: Toilet seat cover | C27: Clean, dry, well fixed
B28: Toilet washer | C28: Clean, working
B29: Toilet paper dispenser | C29: Free of dust, no finger prints, and toilet roll is enough
B30: Garbage basket | C30: Clean, shiny, not smelly, and in the right location
B31: Garbage basket Bag | C31: Clean and not smelly
B32: Door | C32: Free of dust and no finger prints or water spots
B33: Door Frame | C33: Free of dust and no finger prints
B34: Door lock | C34: Shiny and no finger prints and well fixed
B35: Door Stopper | C35: Free of dust and well fixed
... B41: Soap dispenser | C41: Shiny, enough soap, closed cover, working
B42: Actual Score | D42: ='[1]01'!$C$16 -> 0.5 | E42: ='[1]01'!$C$16 -> 0.5 | F42: ='[1]01'!$C$16 -> 0.5 | G42: ='[1]01'!$C$16 -> 0.5 | H42: ='[1]01'!$C$16 -> 0.5 | I42: ='[1]01'!$C$16 -> 0.5 | J42: ='[1]01'!$C$16 -> 0.5 | K42: ='[1]01'!$C$16 -> 0.5 | ... P42: ='[1]01'!$C$16 -> 0.5 | Q42: 0.3 | R42: 0.3 | S42: 0.3 | T42: 0.3 | U42: 0.3 | V42: 0.3 | W42: 0.3 | X42: 0.3 | Y42: 0.3 | Z42: 0.3 | AA42: 0.3 | AB42: 0.3 | AC42: 0.3 | AD42: 0.3 | AE42: ='[1]01'!$C$16 -> 0.5 | AF42: ='[1]01'!$C$16 -> 0.5 | AG42: ='[1]01'!$C$16 -> 0.5 | AH42: ='[1]01'!$C$16 -> 0.5
A43: 5 | B43: Wash basin area | D43: 0.5 | E43: 0.5 | F43: 0.5 | G43: 0.5 | H43: 0.5 | I43: 0.5 | J43: 0.5 | K43: 0.5 | L43: 0.5 | M43: 0.5 | N43: 0.5 | O43: 0.5 | P43: 0.5 | Q43: 0.5 | R43: 0.5 | S43: 0.5 | T43: 0.5 | U43: 0.5 | V43: 0.5 | W43: 0.5 | X43: 0.5 | Y43: 0.5 | Z43: 0.5 | AA43: 0.5 | AB43: 0.5 | AC43: 0.5 | AD43: 0.5 | AE43: 0.5 | AF43: 0.5 | AG43: 0.5 | AH43: 0.5
B44: Wash basin | C44: Clean, dry, drain is clean and shiny
B45: Wash basin Tap | C45: Shiny, no spots, and working
B46: Soap dispenser | C46: Shiny, enough soap, closed cover, working
B47: Marble counter
B48: Hand dryer | C48: Shiny, no spots, and working
B49: Paper hand towels dispenser | C49: Free of dust, no finger prints, and paper hand towel is enough
B50: Large garbage basket | C50: Clean, shiny, not smelly, and in the right location
B51: Garbage basket Bag | C51: Clean and not smelly
B52: Actual Score | D52: ='[1]01'!$C$16 -> 0.5 | E52: ='[1]01'!$C$16 -> 0.5 | F52: ='[1]01'!$C$16 -> 0.5 | G52: ='[1]01'!$C$16 -> 0.5 | H52: ='[1]01'!$C$16 -> 0.5 | I52: 0.4 | J52: 0.4 | K52: 0.4 | L52: 0.4 | M52: 0.4 | N52: 0.4 | O52: 0.4 | P52: 0.4 | Q52: 0.4 | R52: 0.4 | S52: 0.4 | T52: ='[1]01'!$C$16 -> 0.5 | U52: ='[1]01'!$C$16 -> 0.5 | V52: ='[1]01'!$C$16 -> 0.5 | W52: ='[1]01'!$C$16 -> 0.5 | X52: ='[1]01'!$C$16 -> 0.5 | Y52: ='[1]01'!$C$16 -> 0.5 | Z52: ='[1]01'!$C$16 -> 0.5 | AA52: 0.4 | AB52: 0.4 | AC52: 0.4 | AD52: 0.4 | AE52: 0.4 | AF52: 0.4 | AG52: ='[1]01'!$C$16 -> 0.5 | AH52: ='[1]01'!$C$16 -> 0.5
A53: 6 | B53: Urinals area | D53: 0.5 | E53: 0.5 | F53: 0.5 | G53: 0.5 | H53: 0.5 | I53: 0.5 | J53: 0.5 | K53: 0.5 | L53: 0.5 | M53: 0.5 | N53: 0.5 | O53: 0.5 | P53: 0.5 | Q53: 0.5 | R53: 0.5 | S53: 0.5 | T53: 0.5 | U53: 0.5 | V53: 0.5 | W53: 0.5 | X53: 0.5 | Y53: 0.5 | Z53: 0.5 | AA53: 0.5 | AB53: 0.5 | AC53: 0.5 | AD53: 0.5 | AE53: 0.5 | AF53: 0.5 | AG53: 0.5 | AH53: 0.5
B54: Walls | C54: No finger prints, water spots or black marks
B55: Urinal flush | C55: Shiny cover, working
B56: Urinal in and out | C56: Clean in and out, clean flush halls
B57: Partitions | C57: Clean, and dry
B58: Actual Score | D58: 0 | E58: 0 | F58: 0 | G58: 0 | H58: 0.3 | I58: 0.3 | J58: 0.3 | K58: 0.3 | L58: 0.3 | M58: 0.3 | N58: 0.3 | O58: 0.3 | P58: 0.3 | Q58: 0.3 | R58: 0 | S58: 0 | T58: 0.4 | U58: 0.4 | V58: 0.4 | W58: 0.4 | X58: 0 | Y58: 0 | Z58: 0 | AA58: 0 | AB58: 0 | AC58: 0 | AD58: 0 | AE58: 0 | AF58: 0 | AG58: ='[1]01'!$C$16 -> 0.5 | AH58: ='[1]01'!$C$16 -> 0.5
A59: 7 | B59: Floors | D59: 0.5 | E59: 0.5 | F59: 0.5 | G59: 0.5 | H59: 0.5 | I59: 0.5 | J59: 0.5 | K59: 0.5 | L59: 0.5 | M59: 0.5 | N59: 0.5 | O59: 0.5 | P59: 0.5 | Q59: 0.5 | R59: 0.5 | S59: 0.5 | T59: 0.5 | U59: 0.5 | V59: 0.5 | W59: 0.5 | X59: 0.5 | Y59: 0.5 | Z59: 0.5 | AA59: 0.5 | AB59: 0.5 | AC59: 0.5 | AD59: 0.5 | AE59: 0.5 | AF59: 0.5 | AG59: 0.5 | AH59: 0.5
B60: Hard floors | C60: Free of dust, spots and shiny
B61: Drains | C61: Clean and not blocked
B62: Actual Score | D62: ='[1]01'!$C$16 -> 0.5 | E62: ='[1]01'!$C$16 -> 0.5 | F62: ='[1]01'!$C$16 -> 0.5 | G62: ='[1]01'!$C$16 -> 0.5 | H62: ='[1]01'!$C$16 -> 0.5 | I62: ='[1]01'!$C$16 -> 0.5 | J62: ='[1]01'!$C$16 -> 0.5 | K62: ='[1]01'!$C$16 -> 0.5 | ... X62: ='[1]01'!$C$16 -> 0.5 | Y62: 0.3 | Z62: 0.3 | AA62: 0.3 | AB62: 0.3 | AC62: ='[1]01'!$C$16 -> 0.5 | AD62: ='[1]01'!$C$16 -> 0.5 | AE62: ='[1]01'!$C$16 -> 0.5 | AF62: ='[1]01'!$C$16 -> 0.5 | AG62: ='[1]01'!$C$16 -> 0.5 | AH62: ='[1]01'!$C$16 -> 0.5
A63: 8 | B63: Consumables refill | D63: 0.5 | E63: 0.5 | F63: 0.5 | G63: 0.5 | H63: 0.5 | I63: 0.5 | J63: 0.5 | K63: 0.5 | L63: 0.5 | M63: 0.5 | N63: 0.5 | O63: 0.5 | P63: 0.5 | Q63: 0.5 | R63: 0.5 | S63: 0.5 | T63: 0.5 | U63: 0.5 | V63: 0.5 | W63: 0.5 | X63: 0.5 | Y63: 0.5 | Z63: 0.5 | AA63: 0.5 | AB63: 0.5 | AC63: 0.5 | AD63: 0.5 | AE63: 0.5 | AF63: 0.5 | AG63: 0.5 | AH63: 0.5
B64: Toilet paper | C64: Free of dust, spots and shiny
B65: Paper hand towels
B66: Hand Soap | C66: Clean and not blocked
B67: Actual Score | D67: ='[1]01'!$C$16 -> 0.5 | E67: ='[1]01'!$C$16 -> 0.5 | F67: ='[1]01'!$C$16 -> 0.5 | G67: ='[1]01'!$C$16 -> 0.5 | H67: ='[1]01'!$C$16 -> 0.5 | I67: ='[1]01'!$C$16 -> 0.5 | J67: ='[1]01'!$C$16 -> 0.5 | K67: ='[1]01'!$C$16 -> 0.5 | ... AH67: ='[1]01'!$C$16 -> 0.5
A68: 9 | B68: Equipment Standared | D68: 0.5 | E68: 0.5 | F68: 0.5 | G68: 0.5 | H68: 0.5 | I68: 0.5 | J68: 0.5 | K68: 0.5 | L68: 0.5 | M68: 0.5 | N68: 0.5 | O68: 0.5 | P68: 0.5 | Q68: 0.5 | R68: 0.5 | S68: 0.5 | T68: 0.5 | U68: 0.5 | V68: 0.5 | W68: 0.5 | X68: 0.5 | Y68: 0.5 | Z68: 0.5 | AA68: 0.5 | AB68: 0.5 | AC68: 0.5 | AD68: 0.5 | AE68: 0.5 | AF68: 0.5 | AG68: 0.5 | AH68: 0.5
B69: Wher to store it | C69: Janitor room
B70: Machines | C70: Clean, No bad smell, Not noisy
B71: Tools | C71: Clean, No bad smell,Not torn,and no broken stiks
B72: Chemicals | C72: bottels tobe keept at the tray, and keep it at the janitor room
B73: Actual Score | D73: ='[1]01'!$C$16 -> 0.5 | E73: ='[1]01'!$C$16 -> 0.5 | F73: ='[1]01'!$C$16 -> 0.5 | G73: ='[1]01'!$C$16 -> 0.5 | H73: ='[1]01'!$C$16 -> 0.5 | I73: ='[1]01'!$C$16 -> 0.5 | J73: ='[1]01'!$C$16 -> 0.5 | K73: ='[1]01'!$C$16 -> 0.5 | ... Y73: ='[1]01'!$C$16 -> 0.5 | Z73: 0.4 | AA73: 0.4 | AB73: 0.4 | AC73: 0.4 | AD73: ='[1]01'!$C$16 -> 0.5 | AE73: ='[1]01'!$C$16 -> 0.5 | AF73: ='[1]01'!$C$16 -> 0.5 | AG73: ='[1]01'!$C$16 -> 0.5 | AH73: ='[1]01'!$C$16 -> 0.5
A74: 10 | B74: Safty procedure | D74: 0.5 | E74: 0.5 | F74: 0.5 | G74: 0.5 | H74: 0.5 | I74: 0.5 | J74: 0.5 | K74: 0.5 | L74: 0.5 | M74: 0.5 | N74: 0.5 | O74: 0.5 | P74: 0.5 | Q74: 0.5 | R74: 0.5 | S74: 0.5 | T74: 0.5 | U74: 0.5 | V74: 0.5 | W74: 0.5 | X74: 0.5 | Y74: 0.5 | Z74: 0.5 | AA74: 0.5 | AB74: 0.5 | AC74: 0.5 | AD74: 0.5 | AE74: 0.5 | AF74: 0.5 | AG74: 0.5 | AH74: 0.5
B75: Machines | C75: The cable has no cutting, blug is fixed, warning sign to be used
B76: Tools | C76: Warning sign to be used, no ladder on wet floor
B77: Chemicals | C77: Known, covered, on the properet botteles
B78: Uniform | C78: shoes without heel, and not slippery
B79: Actual Score | D79: ='[1]01'!$C$16 -> 0.5 | E79: ='[1]01'!$C$16 -> 0.5 | F79: ='[1]01'!$C$16 -> 0.5 | G79: ='[1]01'!$C$16 -> 0.5 | H79: ='[1]01'!$C$16 -> 0.5 | I79: ='[1]01'!$C$16 -> 0.5 | J79: ='[1]01'!$C$16 -> 0.5 | K79: ='[1]01'!$C$16 -> 0.5 | ... AH79: ='[1]01'!$C$16 -> 0.5
B81: Total Score | D81: =D4+D12+D20+D23+D43+D53+D59+D63+D68+D74 -> 5 | E81: =E4+E12+E20+E23+E43+E53+E59+E63+E68+E74 -> 5 | F81: =F4+F12+F20+F23+F43+F53+F59+F63+F68+F74 -> 5 | G81: =G4+G12+G20+G23+G43+G53+G59+G63+G68+G74 -> 5 | H81: =H4+H12+H20+H23+H43+H53+H59+H63+H68+H74 -> 5 | I81: =I4+I12+I20+I23+I43+I53+I59+I63+I68+I74 -> 5 | J81: =J4+J12+J20+J23+J43+J53+J59+J63+J68+J74 -> 5 | K81: =K4+K12+K20+K23+K43+K53+K59+K63+K68+K74 -> 5 | ... AH81: =AH4+AH12+AH20+AH23+AH43+AH53+AH59+AH63+AH68+AH74 -> 5 | AI81: =SUM(D81:AH81) -> 155
B82: Actual score | D82: =D11+D19+D22+D42+D52+D58+D62+D67+D73+D79 -> 4.5 | E82: =E11+E19+E22+E42+E52+E58+E62+E67+E73+E79 -> 4.5 | F82: =F11+F19+F22+F42+F52+F58+F62+F67+F73+F79 -> 4.5 | G82: =G11+G19+G22+G42+G52+G58+G62+G67+G73+G79 -> 4.5 | H82: =H11+H19+H22+H42+H52+H58+H62+H67+H73+H79 -> 4.8 | I82: =I11+I19+I22+I42+I52+I58+I62+I67+I73+I79 -> 4.7 | J82: =J11+J19+J22+J42+J52+J58+J62+J67+J73+J79 -> 4.7 | K82: =K11+K19+K22+K42+K52+K58+K62+K67+K73+K79 -> 4.7 | ... AH82: =AH11+AH19+AH22+AH42+AH52+AH58+AH62+AH67+AH73+AH79 -> 5 | AI82: =SUM(D82:AH82) -> 136.8

Sheet Lobby&Floors&elevators
D2: 1 | E2: 2 | F2: 3 | G2: 4 | H2: 5 | I2: 6 | J2: 7 | K2: 8 | L2: 9 | M2: 10 | N2: 11 | O2: 12 | P2: 13 | Q2: 14 | R2: 15 | S2: 16 | T2: 17 | U2: 18 | V2: 19 | W2: 20 | X2: 21 | Y2: 22 | Z2: 23 | AA2: 24 | AB2: 25 | AC2: 26 | AD2: 27 | AE2: 28 | AF2: 29 | AG2: 30 | AH2: 31
B3: Area | C3: Standard | D3: Score
A4: 1 | B4: Ceiling | D4: 0.5 | E4: 0.5 | F4: 0.5 | G4: 0.5 | H4: 0.5 | I4: 0.5 | J4: 0.5 | K4: 0.5 | L4: 0.5 | M4: 0.5 | N4: 0.5 | O4: 0.5 | P4: 0.5 | Q4: 0.5 | R4: 0.5 | S4: 0.5 | T4: 0.5 | U4: 0.5 | V4: 0.5 | W4: 0.5 | X4: 0.5 | Y4: 0.5 | Z4: 0.5 | AA4: 0.5 | AB4: 0.5 | AC4: 0.5 | AD4: 0.5 | AE4: 0.5 | AF4: 0.5 | AG4: 0.5 | AH4: 0.5
B5: Tiles | C5: Free of dust and no finger prints
B6: Wooden ceiling
B7: Air diffusers | C7: Free of dust and no finger prints
B8: Light fixtures | C8: Free of dust and no finger prints
D9: 0.5 | E9: 0.5 | F9: 0.5 | G9: 0.5 | H9: 0.5 | I9: 0.5 | J9: 0.5 | K9: 0.5 | L9: 0.5 | M9: 0.5 | N9: 0.5 | O9: 0.5 | P9: 0.5 | Q9: 0.5 | R9: 0.5 | S9: 0.5 | T9: 0.5 | U9: 0.5 | V9: 0.5 | W9: 0.5 | X9: 0.5 | Y9: 0.5 | Z9: 0.5 | AA9: 0.5 | AB9: 0.5 | AC9: 0.5 | AD9: 0.5 | AE9: 0.5 | AF9: 0.5 | AG9: 0.5 | AH9: 0.5
A10: 2 | B10: Walls | D10: 1 | E10: 1 | F10: 1 | G10: 1 | H10: 1 | I10: 1 | J10: 1 | K10: 1 | L10: 1 | M10: 1 | N10: 1 | O10: 1 | P10: 1 | Q10: 1 | R10: 1 | S10: 1 | T10: 1 | U10: 1 | V10: 1 | W10: 1 | X10: 1 | Y10: 1 | Z10: 1 | AA10: 1 | AB10: 1 | AC10: 1 | AD10: 1 | AE10: 1 | AF10: 1 | AG10: 1 | AH10: 1
B11: Painted Walls | C11: No finger prints or black marks
B12: Wood walls | C12: Free of dust and no finger prints
B13: Marble walls | C13: Free of dust and no finger prints
B14: Leather walls | C14: Free of dust and no finger prints
B15: Corners and baseboard | C15: Free of dust dirts and black marks
B16: Switches and sockets | C16: Free of dust and no finger prints
B17: Signs | C17: Shiny and no finger prints
B18: Stainless steel work | C18: Free of dust and no finger prints
D19: 1 | E19: 1 | F19: 1 | G19: 1 | H19: 1 | I19: 1 | J19: 1 | K19: 1 | L19: 1 | M19: 1 | N19: 1 | O19: 1 | P19: 1 | Q19: 1 | R19: 1 | S19: 1 | T19: 1 | U19: 1 | V19: 1 | W19: 1 | X19: 1 | Y19: 1 | Z19: 1 | AA19: 1 | AB19: 1 | AC19: 1 | AD19: 1 | AE19: 1 | AF19: 1 | AG19: 1 | AH19: 1
A20: 3 | B20: Furniture | D20: 0.5 | E20: 0.5 | F20: 0.5 | G20: 0.5 | H20: 0.5 | I20: 0.5 | J20: 0.5 | K20: 0.5 | L20: 0.5 | M20: 0.5 | N20: 0.5 | O20: 0.5 | P20: 0.5 | Q20: 0.5 | R20: 0.5 | S20: 0.5 | T20: 0.5 | U20: 0.5 | V20: 0.5 | W20: 0.5 | X20: 0.5 | Y20: 0.5 | Z20: 0.5 | AA20: 0.5 | AB20: 0.5 | AC20: 0.5 | AD20: 0.5 | AE20: 0.5 | AF20: 0.5 | AG20: 0.5 | AH20: 0.5
B21: Reception Desk | C21: Free of dust and no finger prints
B22: Computers & electronic eqt, screens, cables etc. | C22: Free of dust and no finger prints
B23: Cupboards | C23: Free of dust and no finger prints
B24: Screens | C24: Free of dust and spots
B25: Leather seats | C25: Free of dust and no finger prints
B26: Garbage baskets | C26: Clean and shiny and not smelly
B27: Garbage bags | C27: Clean and not smelly
B28: Sofa | C28: Free of dust and no spots
B29: Corner and center tables | C29: Free of dust and no finger prints
B30: Carpet | C30: Free of dust, debris, and spots
D31: 0.5 | E31: 0.5 | F31: 0.5 | G31: 0.5 | H31: 0.5 | I31: 0.5 | J31: 0.5 | K31: 0.5 | L31: 0.5 | M31: 0.5 | N31: 0.5 | O31: 0.5 | P31: 0.5 | Q31: 0.5 | R31: 0.5 | S31: 0.5 | T31: 0.5 | U31: 0.5 | V31: 0.5 | W31: 0.5 | X31: 0.5 | Y31: 0.5 | Z31: 0.5 | AA31: 0.5 | AB31: 0.5 | AC31: 0.5 | AD31: 0.5 | AE31: 0.5 | AF31: 0.5 | AG31: 0.5 | AH31: 0.5
A32: 4 | B32: Plants Vases | D32: 0.5 | E32: 0.5 | F32: 0.5 | G32: 0.5 | H32: 0.5 | I32: 0.5 | J32: 0.5 | K32: 0.5 | L32: 0.5 | M32: 0.5 | N32: 0.5 | O32: 0.5 | P32: 0.5 | Q32: 0.5 | R32: 0.5 | S32: 0.5 | T32: 0.5 | U32: 0.5 | V32: 0.5 | W32: 0.5 | X32: 0.5 | Y32: 0.5 | Z32: 0.5 | AA32: 0.5 | AB32: 0.5 | AC32: 0.5 | AD32: 0.5 | AE32: 0.5 | AF32: 0.5 | AG32: 0.5 | AH32: 0.5
B33: Plant Vases | C33: Free of dust spots and no cigarettes
D34: 0.5 | E34: 0.5 | F34: 0.5 | G34: 0.5 | H34: 0.5 | I34: 0.5 | J34: 0.5 | K34: 0.5 | L34: 0.5 | M34: 0.5 | N34: 0.5 | O34: 0.5 | P34: 0.5 | Q34: 0.5 | R34: 0.5 | S34: 0.5 | T34: 0.5 | U34: 0.5 | V34: 0.5 | W34: 0.5 | X34: 0.5 | Y34: 0.5 | Z34: 0.5 | AA34: 0.5 | AB34: 0.5 | AC34: 0.5 | AD34: 0.5 | AE34: 0.5 | AF34: 0.5 | AG34: 0.5 | AH34: 0.5
A35: 5 | B35: Garbage baskets | D35: 0.5 | E35: 0.5 | F35: 0.5 | G35: 0.5 | H35: 0.5 | I35: 0.5 | J35: 0.5 | K35: 0.5 | L35: 0.5 | M35: 0.5 | N35: 0.5 | O35: 0.5 | P35: 0.5 | Q35: 0.5 | R35: 0.5 | S35: 0.5 | T35: 0.5 | U35: 0.5 | V35: 0.5 | W35: 0.5 | X35: 0.5 | Y35: 0.5 | Z35: 0.5 | AA35: 0.5 | AB35: 0.5 | AC35: 0.5 | AD35: 0.5 | AE35: 0.5 | AF35: 0.5 | AG35: 0.5 | AH35: 0.5
B36: Garbage baskets | C36: Clean, not smelly, in the right location
B37: Garbage bags | C37: Clean and not smelly
D38: 0.5 | E38: 0.5 | F38: 0.5 | G38: 0.5 | H38: 0.5 | I38: 0.5 | J38: 0.5 | K38: 0.5 | L38: 0.5 | M38: 0.5 | N38: 0.5 | O38: 0.5 | P38: 0.5 | Q38: 0.5 | R38: 0.5 | S38: 0.5 | T38: 0.5 | U38: 0.5 | V38: 0.5 | W38: 0.5 | X38: 0.5 | Y38: 0.5 | Z38: 0.5 | AA38: 0.5 | AB38: 0.5 | AC38: 0.5 | AD38: 0.5 | AE38: 0.5 | AF38: 0.5 | AG38: 0.5 | AH38: 0.5
A39: 6 | B39: Floors | D39: 1 | E39: 1 | F39: 1 | G39: 1 | H39: 1 | I39: 1 | J39: 1 | K39: 1 | L39: 1 | M39: 1 | N39: 1 | O39: 1 | P39: 1 | Q39: 1 | R39: 1 | S39: 1 | T39: 1 | U39: 1 | V39: 1 | W39: 1 | X39: 1 | Y39: 1 | Z39: 1 | AA39: 1 | AB39: 1 | AC39: 1 | AD39: 1 | AE39: 1 | AF39: 1 | AG39: 1 | AH39: 1
B40: Hard floors | C40: Free of dust, spots and shiny
B41: Drains | C41: Clean and not blocked
B42: Carpet | C42: Free of dust, debris and spots
D43: 1 | E43: 1 | F43: 1 | G43: 1 | H43: 1 | I43: 1 | J43: 1 | K43: 1 | L43: 1 | M43: 1 | N43: 1 | O43: 1 | P43: 1 | Q43: 1 | R43: 1 | S43: 1 | T43: 1 | U43: 1 | V43: 1 | W43: 1 | X43: 1 | Y43: 1 | Z43: 1 | AA43: 1 | AB43: 1 | AC43: 1 | AD43: 1 | AE43: 1 | AF43: 1 | AG43: 1 | AH43: 1
A44: 7 | B44: Fire boxes and extinguisher | D44: 0.5 | E44: 0.5 | F44: 0.5 | G44: 0.5 | H44: 0.5 | I44: 0.5 | J44: 0.5 | K44: 0.5 | L44: 0.5 | M44: 0.5 | N44: 0.5 | O44: 0.5 | P44: 0.5 | Q44: 0.5 | R44: 0.5 | S44: 0.5 | T44: 0.5 | U44: 0.5 | V44: 0.5 | W44: 0.5 | X44: 0.5 | Y44: 0.5 | Z44: 0.5 | AA44: 0.5 | AB44: 0.5 | AC44: 0.5 | AD44: 0.5 | AE44: 0.5 | AF44: 0.5 | AG44: 0.5 | AH44: 0.5
B45: Box in and out | C45: Free of dust, debris and garbage
B46: Fire extinguisher and holder | C46: Free of dust, spots
D47: 0.5 | E47: 0.5 | F47: 0.5 | G47: 0.5 | H47: 0.5 | I47: 0.5 | J47: 0.5 | K47: 0.5 | L47: 0.5 | M47: 0.5 | N47: 0.5 | O47: 0.5 | P47: 0.5 | Q47: 0.5 | R47: 0.5 | S47: 0.5 | T47: 0.5 | U47: 0.5 | V47: 0.5 | W47: 0.5 | X47: 0.5 | Y47: 0.5 | Z47: 0.5 | AA47: 0.5 | AB47: 0.5 | AC47: 0.5 | AD47: 0.5 | AE47: 0.5 | AF47: 0.5 | AG47: 0.5 | AH47: 0.5
A48: 8 | B48: Elevators | D48: 1 | E48: 1 | F48: 1 | G48: 1 | H48: 1 | I48: 1 | J48: 1 | K48: 1 | L48: 1 | M48: 1 | N48: 1 | O48: 1 | P48: 1 | Q48: 1 | R48: 1 | S48: 1 | T48: 1 | U48: 1 | V48: 1 | W48: 1 | X48: 1 | Y48: 1 | Z48: 1 | AA48: 1 | AB48: 1 | AC48: 1 | AD48: 1 | AE48: 1 | AF48: 1 | AG48: 1 | AH48: 1
B49: Stainless walls | C49: Free of dust, spots, shads
B50: Stainless doors in and out | C50: Free of dust, spots, shads
B51: Stainless ceiling | C51: Free of dust, spots, shads
B52: Stainless entrance | C52: Free of dust, spots, shads
B53: Metal step | C53: Free of dust, spots, Dirt's
B54: Call buttons in and out | C54: Free of dust, spots, shads
B55: Signage | C55: Free of dust, spots and shiny
B56: Mirrors | C56: Free of dust, spots and shiny
B57: Floors | C57: Free of dust, spots, shiny
D58: 1 | E58: 1 | F58: 1 | G58: 1 | H58: 1 | I58: 1 | J58: 1 | K58: 1 | L58: 1 | M58: 1 | N58: 1 | O58: 1 | P58: 1 | Q58: 0.5 | R58: 0.5 | S58: 0.5 | T58: 0.5 | U58: 0.5 | V58: 0.5 | W58: 0.5 | X58: 0.5 | Y58: 0.5 | Z58: 0.5 | AA58: 0.5 | AB58: 0.5 | AC58: 0.5 | AD58: 0.5 | AE58: 1 | AF58: 1 | AG58: 1 | AH58: 1
A59: 9 | B59: Escalator | D59: 1 | E59: 1 | F59: 1 | G59: 1 | H59: 1 | I59: 1 | J59: 1 | K59: 1 | L59: 1 | M59: 1 | N59: 1 | O59: 1 | P59: 1 | Q59: 1 | R59: 1 | S59: 1 | T59: 1 | U59: 1 | V59: 1 | W59: 1 | X59: 1 | Y59: 1 | Z59: 1 | AA59: 1 | AB59: 1 | AC59: 1 | AD59: 1 | AE59: 1 | AF59: 1 | AG59: 1 | AH59: 1
B60: Hand rail glass and sides | C60: Free of dust, spots and shiny
B61: Steps | C61: Free of dust, debris and shads
B62: Matts | C62: Free of dust, debris and shads
B63: Marble baseboard | C63: Free of dust, spots and shiny
D64: 1 | E64: 1 | F64: 1 | G64: 1 | H64: 1 | I64: 1 | J64: 1 | K64: 1 | L64: 1 | M64: 0.5 | N64: 0.5 | O64: 0.5 | P64: 0.5 | Q64: 0.5 | R64: 0.5 | S64: 0.5 | T64: 0.5 | U64: 0.5 | V64: 0.5 | W64: 0.5 | X64: 0.5 | Y64: 0.5 | Z64: 1 | AA64: 1 | AB64: 1 | AC64: 1 | AD64: 1 | AE64: 1 | AF64: 1 | AG64: 1 | AH64: 1
A65: 10 | B65: Equipment Standared | D65: 0.5 | E65: 0.5 | F65: 0.5 | G65: 0.5 | H65: 0.5 | I65: 0.5 | J65: 0.5 | K65: 0.5 | L65: 0.5 | M65: 0.5 | N65: 0.5 | O65: 0.5 | P65: 0.5 | Q65: 0.5 | R65: 0.5 | S65: 0.5 | T65: 0.5 | U65: 0.5 | V65: 0.5 | W65: 0.5 | X65: 0.5 | Y65: 0.5 | Z65: 0.5 | AA65: 0.5 | AB65: 0.5 | AC65: 0.5 | AD65: 0.5 | AE65: 0.5 | AF65: 0.5 | AG65: 0.5 | AH65: 0.5
B66: Wher to store it | C66: Janitor room
B67: Machines | C67: Clean, No bad smell, Not noisy
B68: Tools | C68: Clean, No bad smell,Not torn,and no broken stiks
B69: Chemicals | C69: bottels tobe keept at the tray, and keep it at the janitor room
D70: 0.5 | E70: 0.5 | F70: 0.5 | G70: 0.5 | H70: 0.5 | I70: 0.5 | J70: 0.5 | K70: 0.5 | L70: 0.5 | M70: 0.5 | N70: 0.5 | O70: 0.5 | P70: 0.5 | Q70: 0.5 | R70: 0.5 | S70: 0.5 | T70: 0.5 | U70: 0.5 | V70: 0.5 | W70: 0.5 | X70: 0.5 | Y70: 0.5 | Z70: 0.5 | AA70: 0.5 | AB70: 0.5 | AC70: 0.5 | AD70: 0.5 | AE70: 0.5 | AF70: 0.5 | AG70: 0.5 | AH70: 0.5
A71: 11 | B71: Safty procedure | D71: 0.5 | E71: 0.5 | F71: 0.5 | G71: 0.5 | H71: 0.5 | I71: 0.5 | J71: 0.5 | K71: 0.5 | L71: 0.5 | M71: 0.5 | N71: 0.5 | O71: 0.5 | P71: 0.5 | Q71: 0.5 | R71: 0.5 | S71: 0.5 | T71: 0.5 | U71: 0.5 | V71: 0.5 | W71: 0.5 | X71: 0.5 | Y71: 0.5 | Z71: 0.5 | AA71: 0.5 | AB71: 0.5 | AC71: 0.5 | AD71: 0.5 | AE71: 0.5 | AF71: 0.5 | AG71: 0.5 | AH71: 0.5
B72: Machines | C72: The cable has no cutting, blug is fixed, warning sign to be used
B73: Tools | C73: Warning sign to be used, no ladder on wet floor
B74: Chemicals | C74: Known, covered, on the properet botteles
B75: Uniform | C75: shoes without heel, and not slippery
D76: 0.5 | E76: 0.5 | F76: 0.5 | G76: 0.5 | H76: 0.5 | I76: 0.5 | J76: 0.5 | K76: 0.5 | L76: 0.5 | M76: 0.5 | N76: 0.5 | O76: 0.5 | P76: 0.5 | Q76: 0.5 | R76: 0.5 | S76: 0.5 | T76: 0.5 | U76: 0.5 | V76: 0.5 | W76: 0.5 | X76: 0.5 | Y76: 0.5 | Z76: 0.5 | AA76: 0.5 | AB76: 0.5 | AC76: 0.5 | AD76: 0.5 | AE76: 0.5 | AF76: 0.5 | AG76: 0.5 | AH76: 0.5
A77: 11 | B77: ATM machines | D77: 1 | E77: 1 | F77: 1 | G77: 1 | H77: 1 | I77: 1 | J77: 1 | K77: 1 | L77: 1 | M77: 1 | N77: 1 | O77: 1 | P77: 1 | Q77: 1 | R77: 1 | S77: 1 | T77: 1 | U77: 1 | V77: 1 | W77: 1 | X77: 1 | Y77: 1 | Z77: 1 | AA77: 1 | AB77: 1 | AC77: 1 | AD77: 1 | AE77: 1 | AF77: 1 | AG77: 1 | AH77: 1
B78: ATM machines | C78: Free of dust, spots
C79: electric cables connected
D82: 1 | E82: 1 | F82: 1 | G82: 1 | H82: 1 | I82: 1 | J82: 1 | K82: 1 | L82: 1 | M82: 1 | N82: 1 | O82: 1 | P82: 1 | Q82: 1 | R82: 1 | S82: 1 | T82: 1 | U82: 1 | V82: 1 | W82: 1 | X82: 1 | Y82: 1 | Z82: 1 | AA82: 1 | AB82: 1 | AC82: 1 | AD82: 1 | AE82: 1 | AF82: 1 | AG82: 1 | AH82: 1
B84: Total Score | D84: =D4+D10+D20+D32+D35+D39+D44+D48+D59+D65+D71+D77 -> 8.5 | E84: =E4+E10+E20+E32+E35+E39+E44+E48+E59+E65+E71+E77 -> 8.5 | F84: =F4+F10+F20+F32+F35+F39+F44+F48+F59+F65+F71+F77 -> 8.5 | G84: =G4+G10+G20+G32+G35+G39+G44+G48+G59+G65+G71+G77 -> 8.5 | H84: =H4+H10+H20+H32+H35+H39+H44+H48+H59+H65+H71+H77 -> 8.5 | I84: =I4+I10+I20+I32+I35+I39+I44+I48+I59+I65+I71+I77 -> 8.5 | J84: =J4+J10+J20+J32+J35+J39+J44+J48+J59+J65+J71+J77 -> 8.5 | K84: =K4+K10+K20+K32+K35+K39+K44+K48+K59+K65+K71+K77 -> 8.5 | ... AH84: =AH4+AH10+AH20+AH32+AH35+AH39+AH44+AH48+AH59+AH65+AH71+AH77 -> 8.5 | AI84: =SUM(D84:AH84) -> 263.5
B85: Actual score | D85: =D9+D19+D31+D34+D38+D43+D47+D58+D64+D70+D76+D82 -> 8.5 | E85: =E9+E19+E31+E34+E38+E43+E47+E58+E64+E70+E76+E82 -> 8.5 | F85: =F9+F19+F31+F34+F38+F43+F47+F58+F64+F70+F76+F82 -> 8.5 | G85: =G9+G19+G31+G34+G38+G43+G47+G58+G64+G70+G76+G82 -> 8.5 | H85: =H9+H19+H31+H34+H38+H43+H47+H58+H64+H70+H76+H82 -> 8.5 | I85: =I9+I19+I31+I34+I38+I43+I47+I58+I64+I70+I76+I82 -> 8.5 | J85: =J9+J19+J31+J34+J38+J43+J47+J58+J64+J70+J76+J82 -> 8.5 | K85: =K9+K19+K31+K34+K38+K43+K47+K58+K64+K70+K76+K82 -> 8.5 | ... AH85: =AH9+AH19+AH31+AH34+AH38+AH43+AH47+AH58+AH64+AH70+AH76+AH82 -> 8.5 | AI85: =SUM(D85:AH85) -> 250

Sheet Celebration area
D2: 1 | E2: 2 | F2: 3 | G2: 4 | H2: 5 | I2: 6 | J2: 7 | K2: 8 | L2: 9 | M2: 10 | N2: 11 | O2: 12 | P2: 13 | Q2: 14 | R2: 15 | S2: 16 | T2: 17 | U2: 18 | V2: 19 | W2: 20 | X2: 21 | Y2: 22 | Z2: 23 | AA2: 24 | AB2: 25 | AC2: 26 | AD2: 27 | AE2: 28 | AF2: 29 | AG2: 30 | AH2: 31
B3: Area | C3: Standard | D3: Score
A4: 1 | B4: Walls | D4: 0.5 | E4: 0.5 | F4: 0.5 | G4: 0.5 | H4: 0.5 | I4: 0.5 | J4: 0.5 | K4: 0.5 | L4: 0.5 | M4: 0.5 | N4: 0.5 | O4: 0.5 | P4: 0.5 | Q4: 0.5 | R4: 0.5 | S4: 0.5 | T4: 0.5 | U4: 0.5 | V4: 0.5 | W4: 0.5 | X4: 0.5 | Y4: 0.5 | Z4: 0.5 | AA4: 0.5 | AB4: 0.5 | AC4: 0.5 | AD4: 0.5 | AE4: 0.5 | AF4: 0.5 | AG4: 0.5 | AH4: 0.5
B5: Marble walls | C5: Free of dust and no finger prints
B6: Corners and baseboard | C6: Free of dust dirts and black marks
B7: Switches and sockets | C7: Free of dust and no finger prints
B8: Signs | C8: Free of dust, Shiny and no finger prints
B9: Stainless steel work | C9: Free of dust and no finger prints
D10: ='[1]01'!$C$42 -> 0.5 | E10: ='[1]01'!$C$42 -> 0.5 | F10: ='[1]01'!$C$42 -> 0.5 | G10: ='[1]01'!$C$42 -> 0.5 | H10: ='[1]01'!$C$42 -> 0.5 | I10: ='[1]01'!$C$42 -> 0.5 | J10: ='[1]01'!$C$42 -> 0.5 | K10: ='[1]01'!$C$42 -> 0.5 | ... AH10: ='[1]01'!$C$42 -> 0.5
A11: 2 | B11: Plants Vases | D11: 0.25 | E11: 0.25 | F11: 0.25 | G11: 0.25 | H11: 0.25 | I11: 0.25 | J11: 0.25 | K11: 0.25 | L11: 0.25 | M11: 0.25 | N11: 0.25 | O11: 0.25 | P11: 0.25 | Q11: 0.25 | R11: 0.25 | S11: 0.25 | T11: 0.25 | U11: 0.25 | V11: 0.25 | W11: 0.25 | X11: 0.25 | Y11: 0.25 | Z11: 0.25 | AA11: 0.25 | AB11: 0.25 | AC11: 0.25 | AD11: 0.25 | AE11: 0.25 | AF11: 0.25 | AG11: 0.25 | AH11: 0.25
B12: Plant Pots and plats | C12: Free of dust spots and no cigarettes or garbage
B13: Marble Plants Pots | C13: Free of dust spots and no cigarettes or garbage
B14: Palm marble pots | C14: Free of dust, no cigarettes or garbage and cobwebs
D15: ='[1]01'!$C$43 -> 0.25 | E15: ='[1]01'!$C$43 -> 0.25 | F15: ='[1]01'!$C$43 -> 0.25 | G15: ='[1]01'!$C$43 -> 0.25 | H15: ='[1]01'!$C$43 -> 0.25 | I15: ='[1]01'!$C$43 -> 0.25 | J15: ='[1]01'!$C$43 -> 0.25 | K15: ='[1]01'!$C$43 -> 0.25 | ... AH15: ='[1]01'!$C$43 -> 0.25
A16: 3 | B16: Fountain | D16: 0.5 | E16: 0.5 | F16: 0.5 | G16: 0.5 | H16: 0.5 | I16: 0.5 | J16: 0.5 | K16: 0.5 | L16: 0.5 | M16: 0.5 | N16: 0.5 | O16: 0.5 | P16: 0.5 | Q16: 0.5 | R16: 0.5 | S16: 0.5 | T16: 0.5 | U16: 0.5 | V16: 0.5 | W16: 0.5 | X16: 0.5 | Y16: 0.5 | Z16: 0.5 | AA16: 0.5 | AB16: 0.5 | AC16: 0.5 | AD16: 0.5 | AE16: 0.5 | AF16: 0.5 | AG16: 0.5 | AH16: 0.5
B17: Marble areas | C17: Free of dust spots and dry
B18: Inside fountain | C18: Free of dust or sand and no garbage
B19: Fountain floors | C19: clean and no algae
D20: ='[1]01'!$C$44 -> 0.5 | E20: ='[1]01'!$C$44 -> 0.5 | F20: ='[1]01'!$C$44 -> 0.5 | G20: ='[1]01'!$C$44 -> 0.5 | H20: ='[1]01'!$C$44 -> 0.5 | I20: ='[1]01'!$C$44 -> 0.5 | J20: ='[1]01'!$C$44 -> 0.5 | K20: ='[1]01'!$C$44 -> 0.5 | ... AH20: ='[1]01'!$C$44 -> 0.5
A21: 4 | B21: Floors | D21: 0.5 | E21: 0.5 | F21: 0.5 | G21: 0.5 | H21: 0.5 | I21: 0.5 | J21: 0.5 | K21: 0.5 | L21: 0.5 | M21: 0.5 | N21: 0.5 | O21: 0.5 | P21: 0.5 | Q21: 0.5 | R21: 0.5 | S21: 0.5 | T21: 0.5 | U21: 0.5 | V21: 0.5 | W21: 0.5 | X21: 0.5 | Y21: 0.5 | Z21: 0.5 | AA21: 0.5 | AB21: 0.5 | AC21: 0.5 | AD21: 0.5 | AE21: 0.5 | AF21: 0.5 | AG21: 0.5 | AH21: 0.5
B22: Hard floors | C22: Free of dust, spots and shiny
B23: Drains | C23: Clean and not blocked
D24: ='[1]01'!$C$45 -> 0.5 | E24: ='[1]01'!$C$45 -> 0.5 | F24: ='[1]01'!$C$45 -> 0.5 | G24: ='[1]01'!$C$45 -> 0.5 | H24: ='[1]01'!$C$45 -> 0.5 | I24: ='[1]01'!$C$45 -> 0.5 | J24: ='[1]01'!$C$45 -> 0.5 | K24: ='[1]01'!$C$45 -> 0.5 | ... AH24: ='[1]01'!$C$45 -> 0.5
A25: 5 | B25: Fire Boxes and extinguisher | D25: 0.25 | E25: 0.25 | F25: 0.25 | G25: 0.25 | H25: 0.25 | I25: 0.25 | J25: 0.25 | K25: 0.25 | L25: 0.25 | M25: 0.25 | N25: 0.25 | O25: 0.25 | P25: 0.25 | Q25: 0.25 | R25: 0.25 | S25: 0.25 | T25: 0.25 | U25: 0.25 | V25: 0.25 | W25: 0.25 | X25: 0.25 | Y25: 0.25 | Z25: 0.25 | AA25: 0.25 | AB25: 0.25 | AC25: 0.25 | AD25: 0.25 | AE25: 0.25 | AF25: 0.25 | AG25: 0.25 | AH25: 0.25
B26: Box in and out | C26: Free of dust, debris and garbage
B27: Fire extinguisher and holder | C27: Free of dust, spots
D28: ='[1]01'!$C$44 -> 0.5 | E28: ='[1]01'!$C$44 -> 0.5 | F28: ='[1]01'!$C$44 -> 0.5 | G28: ='[1]01'!$C$44 -> 0.5 | H28: ='[1]01'!$C$44 -> 0.5 | I28: ='[1]01'!$C$44 -> 0.5 | J28: ='[1]01'!$C$44 -> 0.5 | K28: ='[1]01'!$C$44 -> 0.5 | ... AH28: ='[1]01'!$C$44 -> 0.5
A29: 6 | B29: Ashtrays and garbage baskets | D29: 0.5 | E29: 0.5 | F29: 0.5 | G29: 0.5 | H29: 0.5 | I29: 0.5 | J29: 0.5 | K29: 0.5 | L29: 0.5 | M29: 0.5 | N29: 0.5 | O29: 0.5 | P29: 0.5 | Q29: 0.5 | R29: 0.5 | S29: 0.5 | T29: 0.5 | U29: 0.5 | V29: 0.5 | W29: 0.5 | X29: 0.5 | Y29: 0.5 | Z29: 0.5 | AA29: 0.5 | AB29: 0.5 | AC29: 0.5 | AD29: 0.5 | AE29: 0.5 | AF29: 0.5 | AG29: 0.5 | AH29: 0.5
B30: Garbage baskets | C30: Clean, not smelly, in the right location
B31: Garbage bags | C31: Clean and not smelly
B32: Ashtray | C32: Clean and no cigarettes
B33: Sand | C33: Clean and dry
D34: ='[1]01'!$C$47 -> 0.25 | E34: ='[1]01'!$C$47 -> 0.25 | F34: ='[1]01'!$C$47 -> 0.25 | G34: ='[1]01'!$C$47 -> 0.25 | H34: ='[1]01'!$C$47 -> 0.25 | I34: ='[1]01'!$C$47 -> 0.25 | J34: ='[1]01'!$C$47 -> 0.25 | K34: 0.25 | L34: 0.25 | M34: 0.25 | N34: 0.25 | O34: 0.25 | P34: 0.25 | Q34: 0.25 | R34: 0.25 | S34: 0.25 | T34: 0.25 | U34: 0.25 | V34: 0.25 | W34: ='[1]01'!$C$47 -> 0.25 | X34: ='[1]01'!$C$47 -> 0.25 | Y34: ='[1]01'!$C$47 -> 0.25 | Z34: ='[1]01'!$C$47 -> 0.25 | AA34: ='[1]01'!$C$47 -> 0.25 | AB34: ='[1]01'!$C$47 -> 0.25 | AC34: ='[1]01'!$C$47 -> 0.25 | AD34: ='[1]01'!$C$47 -> 0.25 | ... AH34: ='[1]01'!$C$47 -> 0.25
A35: 7 | B35: Signs | D35: 0.5 | E35: 0.5 | F35: 0.5 | G35: 0.5 | H35: 0.5 | I35: 0.5 | J35: 0.5 | K35: 0.5 | L35: 0.5 | M35: 0.5 | N35: 0.5 | O35: 0.5 | P35: 0.5 | Q35: 0.5 | R35: 0.5 | S35: 0.5 | T35: 0.5 | U35: 0.5 | V35: 0.5 | W35: 0.5 | X35: 0.5 | Y35: 0.5 | Z35: 0.5 | AA35: 0.5 | AB35: 0.5 | AC35: 0.5 | AD35: 0.5 | AE35: 0.5 | AF35: 0.5 | AG35: 0.5 | AH35: 0.5
B36: Advertising signs | C36: Free of dust and no finger prints
D37: ='[1]01'!$C$48 -> 0.5 | E37: ='[1]01'!$C$48 -> 0.5 | F37: ='[1]01'!$C$48 -> 0.5 | G37: ='[1]01'!$C$48 -> 0.5 | H37: ='[1]01'!$C$48 -> 0.5 | I37: ='[1]01'!$C$48 -> 0.5 | J37: ='[1]01'!$C$48 -> 0.5 | K37: ='[1]01'!$C$48 -> 0.5 | ... AH37: ='[1]01'!$C$48 -> 0.5
A38: 8 | B38: Glass and entrance doors | D38: 0.5 | E38: 0.5 | F38: 0.5 | G38: 0.5 | H38: 0.5 | I38: 0.5 | J38: 0.5 | K38: 0.5 | L38: 0.5 | M38: 0.5 | N38: 0.5 | O38: 0.5 | P38: 0.5 | Q38: 0.5 | R38: 0.5 | S38: 0.5 | T38: 0.5 | U38: 0.5 | V38: 0.5 | W38: 0.5 | X38: 0.5 | Y38: 0.5 | Z38: 0.5 | AA38: 0.5 | AB38: 0.5 | AC38: 0.5 | AD38: 0.5 | AE38: 0.5 | AF38: 0.5 | AG38: 0.5 | AH38: 0.5
B39: Glass | C39: Free of dust and no finger prints
B40: Frames | C40: Free of dust and no finger prints
B41: Rubber frames | C41: Free of dust
B42: Door handles | C42: Free of dust, no finger prints, and well fixed
D43: ='[1]01'!$C$49 -> 0.5 | E43: ='[1]01'!$C$49 -> 0.5 | F43: ='[1]01'!$C$49 -> 0.5 | G43: ='[1]01'!$C$49 -> 0.5 | H43: ='[1]01'!$C$49 -> 0.5 | I43: ='[1]01'!$C$49 -> 0.5 | J43: ='[1]01'!$C$49 -> 0.5 | K43: ='[1]01'!$C$49 -> 0.5 | ... AH43: ='[1]01'!$C$49 -> 0.5
A44: 9 | B44: Fences | D44: 0.5 | E44: 0.5 | F44: 0.5 | G44: 0.5 | H44: 0.5 | I44: 0.5 | J44: 0.5 | K44: 0.5 | L44: 0.5 | M44: 0.5 | N44: 0.5 | O44: 0.5 | P44: 0.5 | Q44: 0.5 | R44: 0.5 | S44: 0.5 | T44: 0.5 | U44: 0.5 | V44: 0.5 | W44: 0.5 | X44: 0.5 | Y44: 0.5 | Z44: 0.5 | AA44: 0.5 | AB44: 0.5 | AC44: 0.5 | AD44: 0.5 | AE44: 0.5 | AF44: 0.5 | AG44: 0.5 | AH44: 0.5
B45: Poles | C45: Free of dust, no finger prints, and no black marks
D46: ='[1]01'!$C$62 -> 0.5 | E46: ='[1]01'!$C$62 -> 0.5 | F46: ='[1]01'!$C$62 -> 0.5 | G46: ='[1]01'!$C$62 -> 0.5 | H46: ='[1]01'!$C$62 -> 0.5 | I46: ='[1]01'!$C$62 -> 0.5 | J46: ='[1]01'!$C$62 -> 0.5 | K46: ='[1]01'!$C$62 -> 0.5 | L46: ='[1]01'!$C$62 -> 0.5 | M46: 0.3 | N46: 0.3 | O46: 0.3 | P46: 0.3 | Q46: 0.3 | R46: 0.3 | S46: 0.3 | T46: 0.3 | U46: 0.3 | V46: 0.3 | W46: 0.3 | X46: 0.3 | Y46: 0.3 | Z46: 0.3 | AA46: ='[1]01'!$C$62 -> 0.5 | AB46: ='[1]01'!$C$62 -> 0.5 | AC46: ='[1]01'!$C$62 -> 0.5 | AD46: ='[1]01'!$C$62 -> 0.5 | AE46: ='[1]01'!$C$62 -> 0.5 | AF46: ='[1]01'!$C$62 -> 0.5 | AG46: ='[1]01'!$C$62 -> 0.5 | AH46: ='[1]01'!$C$62 -> 0.5
A47: 10 | B47: Equipment Standared | D47: 0.5 | E47: 0.5 | F47: 0.5 | G47: 0.5 | H47: 0.5 | I47: 0.5 | J47: 0.5 | K47: 0.5 | L47: 0.5 | M47: 0.5 | N47: 0.5 | O47: 0.5 | P47: 0.5 | Q47: 0.5 | R47: 0.5 | S47: 0.5 | T47: 0.5 | U47: 0.5 | V47: 0.5 | W47: 0.5 | X47: 0.5 | Y47: 0.5 | Z47: 0.5 | AA47: 0.5 | AB47: 0.5 | AC47: 0.5 | AD47: 0.5 | AE47: 0.5 | AF47: 0.5 | AG47: 0.5 | AH47: 0.5
B48: Wher to store it | C48: Janitor room
B49: Machines | C49: Clean, No bad smell, Not noisy
B50: Tools | C50: Clean, No bad smell,Not torn,and no broken stiks
B51: Chemicals | C51: bottels tobe keept at the tray, and keep it at the janitor room
D52: ='[1]01'!$C$62 -> 0.5 | E52: ='[1]01'!$C$62 -> 0.5 | F52: 0.3 | G52: 0.3 | H52: 0.3 | I52: 0.3 | J52: 0.3 | K52: 0.3 | L52: 0.3 | M52: 0.3 | N52: ='[1]01'!$C$62 -> 0.5 | O52: ='[1]01'!$C$62 -> 0.5 | P52: ='[1]01'!$C$62 -> 0.5 | Q52: ='[1]01'!$C$62 -> 0.5 | R52: 0.3 | S52: 0.3 | T52: 0.3 | U52: 0.3 | V52: 0.3 | W52: 0.3 | X52: 0.3 | Y52: 0.3 | Z52: 0.3 | AA52: 0.3 | AB52: 0.3 | AC52: 0.3 | AD52: 0.3 | AE52: 0.3 | AF52: ='[1]01'!$C$62 -> 0.5 | AG52: ='[1]01'!$C$62 -> 0.5 | AH52: ='[1]01'!$C$62 -> 0.5
A53: 11 | B53: Safty procedure | D53: 0.5 | E53: 0.5 | F53: 0.5 | G53: 0.5 | H53: 0.5 | I53: 0.5 | J53: 0.5 | K53: 0.5 | L53: 0.5 | M53: 0.5 | N53: 0.5 | O53: 0.5 | P53: 0.5 | Q53: 0.5 | R53: 0.5 | S53: 0.5 | T53: 0.5 | U53: 0.5 | V53: 0.5 | W53: 0.5 | X53: 0.5 | Y53: 0.5 | Z53: 0.5 | AA53: 0.5 | AB53: 0.5 | AC53: 0.5 | AD53: 0.5 | AE53: 0.5 | AF53: 0.5 | AG53: 0.5 | AH53: 0.5
B54: Machines | C54: The cable has no cutting, blug is fixed, warning sign to be used
B55: Tools | C55: Warning sign to be used, no ladder on wet floor
B56: Chemicals | C56: Known, covered, on the properet botteles
B57: Uniform | C57: shoes without heel, and not slippery
D58: ='[1]01'!$C$63 -> 0.5 | E58: ='[1]01'!$C$63 -> 0.5 | F58: ='[1]01'!$C$63 -> 0.5 | G58: ='[1]01'!$C$63 -> 0.5 | H58: ='[1]01'!$C$63 -> 0.5 | I58: ='[1]01'!$C$63 -> 0.5 | J58: ='[1]01'!$C$63 -> 0.5 | K58: ='[1]01'!$C$63 -> 0.5 | L58: ='[1]01'!$C$16 -> 0.5 | M58: ='[1]01'!$C$16 -> 0.5 | N58: ='[1]01'!$C$16 -> 0.5 | O58: ='[1]01'!$C$16 -> 0.5 | P58: ='[1]01'!$C$16 -> 0.5 | Q58: ='[1]01'!$C$16 -> 0.5 | R58: ='[1]01'!$C$16 -> 0.5 | S58: ='[1]01'!$C$16 -> 0.5 | ... AC58: ='[1]01'!$C$16 -> 0.5 | AD58: 0.3 | AE58: 0.3 | AF58: 0.3 | AG58: 0.3 | AH58: 0.3
B60: Total Score | D60: =D4+D11+D16+D21+D25+D29+D35+D38+D44+D47+D53 -> 5 | E60: =E4+E11+E16+E21+E25+E29+E35+E38+E44+E47+E53 -> 5 | F60: =F4+F11+F16+F21+F25+F29+F35+F38+F44+F47+F53 -> 5 | G60: =G4+G11+G16+G21+G25+G29+G35+G38+G44+G47+G53 -> 5 | H60: =H4+H11+H16+H21+H25+H29+H35+H38+H44+H47+H53 -> 5 | I60: =I4+I11+I16+I21+I25+I29+I35+I38+I44+I47+I53 -> 5 | J60: =J4+J11+J16+J21+J25+J29+J35+J38+J44+J47+J53 -> 5 | K60: =K4+K11+K16+K21+K25+K29+K35+K38+K44+K47+K53 -> 5 | ... AH60: =AH4+AH11+AH16+AH21+AH25+AH29+AH35+AH38+AH44+AH47+AH53 -> 5 | AI60: =SUM(D60:AH60) -> 155
B61: Actual score | D61: =D10+D15+D20+D24+D28+D34+D37+D43+D46+D52+D58 -> 5 | E61: =E10+E15+E20+E24+E28+E34+E37+E43+E46+E52+E58 -> 5 | F61: =F10+F15+F20+F24+F28+F34+F37+F43+F46+F52+F58 -> 4.8 | G61: =G10+G15+G20+G24+G28+G34+G37+G43+G46+G52+G58 -> 4.8 | H61: =H10+H15+H20+H24+H28+H34+H37+H43+H46+H52+H58 -> 4.8 | I61: =I10+I15+I20+I24+I28+I34+I37+I43+I46+I52+I58 -> 4.8 | J61: =J10+J15+J20+J24+J28+J34+J37+J43+J46+J52+J58 -> 4.8 | K61: =K10+K15+K20+K24+K28+K34+K37+K43+K46+K52+K58 -> 4.8 | ... AH61: =AH10+AH15+AH20+AH24+AH28+AH34+AH37+AH43+AH46+AH52+AH58 -> 4.8 | AI61: =SUM(D61:AH61) -> 146.8

Sheet Receiving Area
D2: 1 | E2: 2 | F2: 3 | G2: 4 | H2: 5 | I2: 6 | J2: 7 | K2: 8 | L2: 9 | M2: 10 | N2: 11 | O2: 12 | P2: 13 | Q2: 14 | R2: 15 | S2: 16 | T2: 17 | U2: 18 | V2: 19 | W2: 20 | X2: 21 | Y2: 22 | Z2: 23 | AA2: 24 | AB2: 25 | AC2: 26 | AD2: 27 | AE2: 28 | AF2: 29 | AG2: 30 | AH2: 31
B3: Area | C3: Standard | D3: Score
A4: 1 | B4: Ceiling | D4: 0.5 | E4: 0.5 | F4: 0.5 | G4: 0.5 | H4: 0.5 | I4: 0.5 | J4: 0.5 | K4: 0.5 | L4: 0.5 | M4: 0.5 | N4: 0.5 | O4: 0.5 | P4: 0.5 | Q4: 0.5 | R4: 0.5 | S4: 0.5 | T4: 0.5 | U4: 0.5 | V4: 0.5 | W4: 0.5 | X4: 0.5 | Y4: 0.5 | Z4: 0.5 | AA4: 0.5 | AB4: 0.5 | AC4: 0.5 | AD4: 0.5 | AE4: 0.5 | AF4: 0.5 | AG4: 0.5 | AH4: 0.5
B5: Pips | C5: Free of dust and no finger prints
B6: Air diffusers | C6: Free of dust and no finger prints
B7: Light fixtures | C7: Free of dust and no finger prints
D8: ='[1]01'!$G$4 -> 0.5 | E8: ='[1]01'!$G$4 -> 0.5 | F8: ='[1]01'!$G$4 -> 0.5 | G8: ='[1]01'!$G$4 -> 0.5 | H8: ='[1]01'!$G$4 -> 0.5 | I8: ='[1]01'!$G$4 -> 0.5 | J8: ='[1]01'!$G$4 -> 0.5 | K8: ='[1]01'!$G$4 -> 0.5 | ... AH8: ='[1]01'!$G$4 -> 0.5
A9: 2 | B9: Walls | D9: 0.5 | E9: 0.5 | F9: 0.5 | G9: 0.5 | H9: 0.5 | I9: 0.5 | J9: 0.5 | K9: 0.5 | L9: 0.5 | M9: 0.5 | N9: 0.5 | O9: 0.5 | P9: 0.5 | Q9: 0.5 | R9: 0.5 | S9: 0.5 | T9: 0.5 | U9: 0.5 | V9: 0.5 | W9: 0.5 | X9: 0.5 | Y9: 0.5 | Z9: 0.5 | AA9: 0.5 | AB9: 0.5 | AC9: 0.5 | AD9: 0.5 | AE9: 0.5 | AF9: 0.5 | AG9: 0.5 | AH9: 0.5
B10: Painted Walls | C10: No finger prints or black marks
B11: Ceramic walls | C11: Free of dust and no finger prints
B12: Corners and baseboard | C12: Free of dust dirts and black marks
B13: Switches and sockets | C13: Free of dust and no finger prints
B14: Signs | C14: Shiny and no finger prints
B15: Stainless steel work | C15: Free of dust and no finger prints
D16: ='[1]01'!$G$5 -> 0.5 | E16: ='[1]01'!$G$5 -> 0.5 | F16: ='[1]01'!$G$5 -> 0.5 | G16: ='[1]01'!$G$5 -> 0.5 | H16: ='[1]01'!$G$5 -> 0.5 | I16: ='[1]01'!$G$5 -> 0.5 | J16: ='[1]01'!$G$5 -> 0.5 | K16: ='[1]01'!$G$5 -> 0.5 | ... AH16: ='[1]01'!$G$5 -> 0.5
A17: 3 | B17: Break area | D17: 1 | E17: 1 | F17: 1 | G17: 1 | H17: 1 | I17: 1 | J17: 1 | K17: 1 | L17: 1 | M17: 1 | N17: 1 | O17: 1 | P17: 1 | Q17: 1 | R17: 1 | S17: 1 | T17: 1 | U17: 1 | V17: 1 | W17: 1 | X17: 1 | Y17: 1 | Z17: 1 | AA17: 1 | AB17: 1 | AC17: 1 | AD17: 1 | AE17: 1 | AF17: 1 | AG17: 1 | AH17: 1
B18: Tables | C18: Free of dust and spots
B19: Chairs | C19: Free of dust and spots
B20: Garbage baskets | C20: Clean, and not smelly
B21: Garbage bags | C21: Clean and not smelly
B22: Epoxy floors | C22: Free of dust, spots, and dry
B23: Drains | C23: Clean and not blocked
D24: ='[1]01'!$G$6 -> 1 | E24: ='[1]01'!$G$6 -> 1 | F24: ='[1]01'!$G$6 -> 1 | G24: ='[1]01'!$G$6 -> 1 | H24: ='[1]01'!$G$6 -> 1 | I24: ='[1]01'!$G$6 -> 1 | J24: ='[1]01'!$G$6 -> 1 | K24: ='[1]01'!$G$6 -> 1 | L24: 0.5 | M24: 0.5 | N24: 0.5 | O24: 0.5 | P24: 0.5 | Q24: 0.5 | R24: 0.5 | S24: ='[1]01'!$G$6 -> 1 | T24: ='[1]01'!$G$6 -> 1 | U24: ='[1]01'!$G$6 -> 1 | V24: ='[1]01'!$G$6 -> 1 | W24: 0.5 | X24: 0.5 | Y24: 0.5 | Z24: 0.5 | AA24: 0.5 | AB24: 0.5 | AC24: 0.5 | AD24: 0.5 | AE24: 0.5 | AF24: 0.5 | AG24: ='[1]01'!$G$6 -> 1 | AH24: ='[1]01'!$G$6 -> 1
A25: 4 | B25: Garbage room | D25: 0.5 | E25: 0.5 | F25: 0.5 | G25: 0.5 | H25: 0.5 | I25: 0.5 | J25: 0.5 | K25: 0.5 | L25: 0.5 | M25: 0.5 | N25: 0.5 | O25: 0.5 | P25: 0.5 | Q25: 0.5 | R25: 0.5 | S25: 0.5 | T25: 0.5 | U25: 0.5 | V25: 0.5 | W25: 0.5 | X25: 0.5 | Y25: 0.5 | Z25: 0.5 | AA25: 0.5 | AB25: 0.5 | AC25: 0.5 | AD25: 0.5 | AE25: 0.5 | AF25: 0.5 | AG25: 0.5 | AH25: 0.5
B26: Ceiling pips | C26: Free of dust
B27: Garbage baskets | C27: Clean, and not smelly
B28: Garbage room walls | C28: Free of dust and spots
B29: Garbage room door | C29: Free of dust and spots
B30: Garbage room floors | C30: Free of dust, spots, and dry
B31: Drains | C31: Clean and not blocked
D32: ='[1]01'!$G$7 -> 0.5 | E32: ='[1]01'!$G$7 -> 0.5 | F32: ='[1]01'!$G$7 -> 0.5 | G32: ='[1]01'!$G$7 -> 0.5 | H32: ='[1]01'!$G$7 -> 0.5 | I32: ='[1]01'!$G$7 -> 0.5 | J32: ='[1]01'!$G$7 -> 0.5 | K32: ='[1]01'!$G$7 -> 0.5 | ... AH32: ='[1]01'!$G$7 -> 0.5
A33: 5 | B33: Floors | D33: 1 | E33: 1 | F33: 1 | G33: 1 | H33: 1 | I33: 1 | J33: 1 | K33: 1 | L33: 1 | M33: 1 | N33: 1 | O33: 1 | P33: 1 | Q33: 1 | R33: 1 | S33: 1 | T33: 1 | U33: 1 | V33: 1 | W33: 1 | X33: 1 | Y33: 1 | Z33: 1 | AA33: 1 | AB33: 1 | AC33: 1 | AD33: 1 | AE33: 1 | AF33: 1 | AG33: 1 | AH33: 1
B34: Hard floors | C34: Free of dust, spots and shiny
B35: Drains | C35: Clean and not blocked
D36: ='[1]01'!$G$8 -> 1 | E36: ='[1]01'!$G$8 -> 1 | F36: ='[1]01'!$G$8 -> 1 | G36: ='[1]01'!$G$8 -> 1 | H36: ='[1]01'!$G$8 -> 1 | I36: ='[1]01'!$G$8 -> 1 | J36: ='[1]01'!$G$8 -> 1 | K36: ='[1]01'!$G$8 -> 1 | ... X36: ='[1]01'!$G$8 -> 1 | Y36: 0.5 | Z36: 0.5 | AA36: 0.5 | AB36: 0.5 | AC36: 0.5 | AD36: 0.5 | AE36: 0.5 | AF36: 0.5 | AG36: 0.5 | AH36: 0.5
A37: 6 | B37: Fire Boxes and extinguisher | D37: 0.5 | E37: 0.5 | F37: 0.5 | G37: 0.5 | H37: 0.5 | I37: 0.5 | J37: 0.5 | K37: 0.5 | L37: 0.5 | M37: 0.5 | N37: 0.5 | O37: 0.5 | P37: 0.5 | Q37: 0.5 | R37: 0.5 | S37: 0.5 | T37: 0.5 | U37: 0.5 | V37: 0.5 | W37: 0.5 | X37: 0.5 | Y37: 0.5 | Z37: 0.5 | AA37: 0.5 | AB37: 0.5 | AC37: 0.5 | AD37: 0.5 | AE37: 0.5 | AF37: 0.5 | AG37: 0.5 | AH37: 0.5
B38: Box in and out | C38: Free of dust, debris and garbage
B39: Fire extinguisher and holder | C39: Free of dust, spots
D40: ='[1]01'!$G$9 -> 0.5 | E40: ='[1]01'!$G$9 -> 0.5 | F40: ='[1]01'!$G$9 -> 0.5 | G40: ='[1]01'!$G$9 -> 0.5 | H40: ='[1]01'!$G$9 -> 0.5 | I40: ='[1]01'!$G$9 -> 0.5 | J40: ='[1]01'!$G$9 -> 0.5 | K40: ='[1]01'!$G$9 -> 0.5 | ... O40: ='[1]01'!$G$9 -> 0.5 | P40: 0.2 | Q40: 0.2 | R40: 0.2 | S40: 0.2 | T40: 0.2 | U40: 0.2 | V40: 0.2 | W40: 0.2 | X40: 0.2 | Y40: 0.2 | Z40: 0.2 | AA40: 0.2 | AB40: ='[1]01'!$G$9 -> 0.5 | AC40: ='[1]01'!$G$9 -> 0.5 | AD40: ='[1]01'!$G$9 -> 0.5 | AE40: ='[1]01'!$G$9 -> 0.5 | AF40: ='[1]01'!$G$9 -> 0.5 | AG40: ='[1]01'!$G$9 -> 0.5 | AH40: ='[1]01'!$G$9 -> 0.5
A41: 7 | B41: Equipment Standared | D41: 0.5 | E41: 0.5 | F41: 0.5 | G41: 0.5 | H41: 0.5 | I41: 0.5 | J41: 0.5 | K41: 0.5 | L41: 0.5 | M41: 0.5 | N41: 0.5 | O41: 0.5 | P41: 0.5 | Q41: 0.5 | R41: 0.5 | S41: 0.5 | T41: 0.5 | U41: 0.5 | V41: 0.5 | W41: 0.5 | X41: 0.5 | Y41: 0.5 | Z41: 0.5 | AA41: 0.5 | AB41: 0.5 | AC41: 0.5 | AD41: 0.5 | AE41: 0.5 | AF41: 0.5 | AG41: 0.5 | AH41: 0.5
B42: Wher to store it | C42: Janitor room
B43: Machines | C43: Clean, No bad smell, Not noisy
B44: Tools | C44: Clean, No bad smell,Not torn,and no broken stiks
B45: Chemicals | C45: bottels tobe keept at the tray, and keep it at the janitor room
D46: ='[1]01'!$G$10 -> 0.5 | E46: ='[1]01'!$G$10 -> 0.5 | F46: ='[1]01'!$C$16 -> 0.5 | G46: ='[1]01'!$C$16 -> 0.5 | H46: ='[1]01'!$C$16 -> 0.5 | I46: ='[1]01'!$C$16 -> 0.5 | J46: ='[1]01'!$C$16 -> 0.5 | K46: ='[1]01'!$C$16 -> 0.5 | L46: ='[1]01'!$C$16 -> 0.5 | M46: ='[1]01'!$C$16 -> 0.5 | ... W46: ='[1]01'!$C$16 -> 0.5 | X46: ='[1]01'!$G$10 -> 0.5 | Y46: ='[1]01'!$G$10 -> 0.5 | Z46: ='[1]01'!$G$10 -> 0.5 | AA46: ='[1]01'!$G$10 -> 0.5 | AB46: ='[1]01'!$G$10 -> 0.5 | AC46: ='[1]01'!$G$10 -> 0.5 | AD46: ='[1]01'!$G$10 -> 0.5 | AE46: ='[1]01'!$G$10 -> 0.5 | ... AH46: ='[1]01'!$G$10 -> 0.5
A47: 8 | B47: Safty procedure | D47: 0.5 | E47: 0.5 | F47: 0.5 | G47: 0.5 | H47: 0.5 | I47: 0.5 | J47: 0.5 | K47: 0.5 | L47: 0.5 | M47: 0.5 | N47: 0.5 | O47: 0.5 | P47: 0.5 | Q47: 0.5 | R47: 0.5 | S47: 0.5 | T47: 0.5 | U47: 0.5 | V47: 0.5 | W47: 0.5 | X47: 0.5 | Y47: 0.5 | Z47: 0.5 | AA47: 0.5 | AB47: 0.5 | AC47: 0.5 | AD47: 0.5 | AE47: 0.5 | AF47: 0.5 | AG47: 0.5 | AH47: 0.5
B48: Machines | C48: The cable has no cutting, blug is fixed, warning sign to be used
B49: Tools | C49: Warning sign to be used, no ladder on wet floor
B50: Chemicals | C50: Known, covered, on the properet botteles
B51: Uniform | C51: shoes without heel, and not slippery
D52: ='[1]01'!$G$11 -> 0.5 | E52: ='[1]01'!$G$11 -> 0.5 | F52: ='[1]01'!$G$11 -> 0.5 | G52: ='[1]01'!$G$11 -> 0.5 | H52: ='[1]01'!$G$11 -> 0.5 | I52: ='[1]01'!$G$11 -> 0.5 | J52: ='[1]01'!$G$11 -> 0.5 | K52: ='[1]01'!$G$11 -> 0.5 | ... AH52: ='[1]01'!$G$11 -> 0.5
B54: Total Score | D54: =D4+D9+D17+D25+D33+D37+D41+D47 -> 5 | E54: =E4+E9+E17+E25+E33+E37+E41+E47 -> 5 | F54: =F4+F9+F17+F25+F33+F37+F41+F47 -> 5 | G54: =G4+G9+G17+G25+G33+G37+G41+G47 -> 5 | H54: =H4+H9+H17+H25+H33+H37+H41+H47 -> 5 | I54: =I4+I9+I17+I25+I33+I37+I41+I47 -> 5 | J54: =J4+J9+J17+J25+J33+J37+J41+J47 -> 5 | K54: =K4+K9+K17+K25+K33+K37+K41+K47 -> 5 | ... AH54: =AH4+AH9+AH17+AH25+AH33+AH37+AH41+AH47 -> 5 | AI54: =SUM(D54:AH54) -> 155
B55: Actual score | D55: =D8+D16+D24+D32+D36+D40+D46+D52 -> 5 | E55: =E8+E16+E24+E32+E36+E40+E46+E52 -> 5 | F55: =F8+F16+F24+F32+F36+F40+F46+F52 -> 5 | G55: =G8+G16+G24+G32+G36+G40+G46+G52 -> 5 | H55: =H8+H16+H24+H32+H36+H40+H46+H52 -> 5 | I55: =I8+I16+I24+I32+I36+I40+I46+I52 -> 5 | J55: =J8+J16+J24+J32+J36+J40+J46+J52 -> 5 | K55: =K8+K16+K24+K32+K36+K40+K46+K52 -> 5 | ... AH55: =AH8+AH16+AH24+AH32+AH36+AH40+AH46+AH52 -> 4.5 | AI55: =SUM(D55:AH55) -> 137.9

Sheet Stairs
D2: 1 | E2: 2 | F2: 3 | G2: 4 | H2: 5 | I2: 6 | J2: 7 | K2: 8 | L2: 9 | M2: 10 | N2: 11 | O2: 12 | P2: 13 | Q2: 14 | R2: 15 | S2: 16 | T2: 17 | U2: 18 | V2: 19 | W2: 20 | X2: 21 | Y2: 22 | Z2: 23 | AA2: 24 | AB2: 25 | AC2: 26 | AD2: 27 | AE2: 28 | AF2: 29 | AG2: 30 | AH2: 31
B3: Area | C3: Standard | D3: Score
A4: 1 | B4: Ceiling | D4: 0.5 | E4: 0.5 | F4: 0.5 | G4: 0.5 | H4: 0.5 | I4: 0.5 | J4: 0.5 | K4: 0.5 | L4: 0.5 | M4: 0.5 | N4: 0.5 | O4: 0.5 | P4: 0.5 | Q4: 0.5 | R4: 0.5 | S4: 0.5 | T4: 0.5 | U4: 0.5 | V4: 0.5 | W4: 0.5 | X4: 0.5 | Y4: 0.5 | Z4: 0.5 | AA4: 0.5 | AB4: 0.5 | AC4: 0.5 | AD4: 0.5 | AE4: 0.5 | AF4: 0.5 | AG4: 0.5 | AH4: 0.5
B5: Ceiling | C5: Free of dust and no cobwebs
B6: Air diffusers | C6: Free of dust and no finger prints
B7: Light fixtures | C7: Free of dust and no finger prints
B8: Exhaust | C8: Free of dust and no finger prints
D9: ='[1]01'!$G$14 -> 0.5 | E9: ='[1]01'!$G$14 -> 0.5 | F9: ='[1]01'!$G$14 -> 0.5 | G9: ='[1]01'!$G$14 -> 0.5 | H9: ='[1]01'!$G$14 -> 0.5 | I9: ='[1]01'!$G$14 -> 0.5 | J9: ='[1]01'!$G$14 -> 0.5 | K9: ='[1]01'!$G$14 -> 0.5 | ... AH9: ='[1]01'!$G$14 -> 0.5
A10: 2 | B10: Walls and doors | D10: 1 | E10: 1 | F10: 1 | G10: 1 | H10: 1 | I10: 1 | J10: 1 | K10: 1 | L10: 1 | M10: 1 | N10: 1 | O10: 1 | P10: 1 | Q10: 1 | R10: 1 | S10: 1 | T10: 1 | U10: 1 | V10: 1 | W10: 1 | X10: 1 | Y10: 1 | Z10: 1 | AA10: 1 | AB10: 1 | AC10: 1 | AD10: 1 | AE10: 1 | AF10: 1 | AG10: 1 | AH10: 1
B11: Painted Walls | C11: No finger prints or black marks
B12: Ceramic walls | C12: Free of dust and no finger prints
B13: Corners and baseboard | C13: Free of dust and no cobwebs
B14: Signs | C14: Shiny and no finger prints
B15: Door and frame | C15: Free of dust, and no finger prints, or black marks
D16: 1 | E16: 1 | F16: 1 | G16: 1 | H16: 1 | I16: 1 | J16: 1 | K16: 1 | L16: 1 | M16: 1 | N16: 1 | O16: 1 | P16: 1 | Q16: 1 | R16: 0.5 | S16: 0.5 | T16: 0.5 | U16: 0.5 | V16: 0.5 | W16: 0.3 | X16: 0.3 | Y16: 0.3 | Z16: 1 | AA16: 1 | AB16: 1 | AC16: 1 | AD16: 1 | AE16: 1 | AF16: 1 | AG16: 1 | AH16: 1
A17: 3 | B17: Stairs | D17: 1 | E17: 1 | F17: 1 | G17: 1 | H17: 1 | I17: 1 | J17: 1 | K17: 1 | L17: 1 | M17: 1 | N17: 1 | O17: 1 | P17: 1 | Q17: 1 | R17: 1 | S17: 1 | T17: 1 | U17: 1 | V17: 1 | W17: 1 | X17: 1 | Y17: 1 | Z17: 1 | AA17: 1 | AB17: 1 | AC17: 1 | AD17: 1 | AE17: 1 | AF17: 1 | AG17: 1 | AH17: 1
B18: Hand rail | C18: Free of dust and spots
B19: Granite Steps | C19: Free of dust, and black marks
B20: Pips | C20: Free of dust, and black marks
D21: 1 | E21: 1 | F21: 1 | G21: 1 | H21: 0.5 | I21: 0.5 | J21: 0.5 | K21: 0.5 | L21: 0.5 | M21: 0.5 | N21: 0.5 | O21: 0.5 | P21: 0.5 | Q21: 0.5 | R21: 0.5 | S21: 0.5 | T21: 1 | U21: 1 | V21: 1 | W21: 1 | X21: 1 | Y21: 1 | Z21: 1 | AA21: 1 | AB21: 1 | AC21: 1 | AD21: 1 | AE21: 1 | AF21: 1 | AG21: 1 | AH21: 1
A22: 4 | B22: Floors | D22: 1 | E22: 1 | F22: 1 | G22: 1 | H22: 1 | I22: 1 | J22: 1 | K22: 1 | L22: 1 | M22: 1 | N22: 1 | O22: 1 | P22: 1 | Q22: 1 | R22: 1 | S22: 1 | T22: 1 | U22: 1 | V22: 1 | W22: 1 | X22: 1 | Y22: 1 | Z22: 1 | AA22: 1 | AB22: 1 | AC22: 1 | AD22: 1 | AE22: 1 | AF22: 1 | AG22: 1 | AH22: 1
B23: Hard floors | C23: Free of dust, spots and shiny
B24: Drains | C24: Clean and not blocked
D25: 0.5 | E25: 0.5 | F25: 0.5 | G25: 0.5 | H25: 0.5 | I25: 0.5 | J25: 0.5 | K25: 0.5 | L25: 0.5 | M25: 0.5 | N25: 0.5 | O25: 0.5 | P25: 0.5 | Q25: 0.5 | R25: 0.5 | S25: 0.5 | T25: 0.5 | U25: 0.5 | V25: 0.5 | W25: 0.5 | X25: 0.5 | Y25: 0.5 | Z25: 0.5 | AA25: 0.5 | AB25: 0.5 | AC25: 0.5 | AD25: 0.5 | AE25: 0.5 | AF25: 0.5 | AG25: 0.5 | AH25: 0.5
A26: 5 | B26: Fire Boxes and extinguisher | D26: 0.5 | E26: 0.5 | F26: 0.5 | G26: 0.5 | H26: 0.5 | I26: 0.5 | J26: 0.5 | K26: 0.5 | L26: 0.5 | M26: 0.5 | N26: 0.5 | O26: 0.5 | P26: 0.5 | Q26: 0.5 | R26: 0.5 | S26: 0.5 | T26: 0.5 | U26: 0.5 | V26: 0.5 | W26: 0.5 | X26: 0.5 | Y26: 0.5 | Z26: 0.5 | AA26: 0.5 | AB26: 0.5 | AC26: 0.5 | AD26: 0.5 | AE26: 0.5 | AF26: 0.5 | AG26: 0.5 | AH26: 0.5
B27: Box in and out | C27: Free of dust, debris and garbage
B28: Fire extinguisher and holder | C28: Free of dust, spots
B29: Emergency telephone
D30: ='[1]01'!$G$7 -> 0.5 | E30: ='[1]01'!$G$7 -> 0.5 | F30: ='[1]01'!$G$7 -> 0.5 | G30: ='[1]01'!$G$7 -> 0.5 | H30: ='[1]01'!$G$7 -> 0.5 | I30: ='[1]01'!$G$7 -> 0.5 | J30: ='[1]01'!$G$7 -> 0.5 | K30: ='[1]01'!$G$7 -> 0.5 | ... AH30: ='[1]01'!$G$7 -> 0.5
A31: 6 | B31: Equipment Standared | D31: 0.5 | E31: 0.5 | F31: 0.5 | G31: 0.5 | H31: 0.5 | I31: 0.5 | J31: 0.5 | K31: 0.5 | L31: 0.5 | M31: 0.5 | N31: 0.5 | O31: 0.5 | P31: 0.5 | Q31: 0.5 | R31: 0.5 | S31: 0.5 | T31: 0.5 | U31: 0.5 | V31: 0.5 | W31: 0.5 | X31: 0.5 | Y31: 0.5 | Z31: 0.5 | AA31: 0.5 | AB31: 0.5 | AC31: 0.5 | AD31: 0.5 | AE31: 0.5 | AF31: 0.5 | AG31: 0.5 | AH31: 0.5
B32: Wher to store it | C32: Janitor room
B33: Machines | C33: Clean, No bad smell, Not noisy
B34: Tools | C34: Clean, No bad smell,Not torn,and no broken stiks
B35: Chemicals | C35: bottels tobe keept at the tray, and keep it at the janitor room
D36: ='[1]01'!$G$19 -> 0.5 | E36: ='[1]01'!$G$19 -> 0.5 | F36: ='[1]01'!$G$19 -> 0.5 | G36: ='[1]01'!$G$19 -> 0.5 | H36: 0.5 | I36: 0.5 | J36: 0.5 | K36: 0.5 | L36: 0.5 | M36: 0.5 | N36: 0.5 | O36: 0.5 | P36: 0.5 | Q36: 0.5 | R36: 0.5 | S36: 0.5 | T36: 0.5 | U36: 0.5 | V36: 0.5 | W36: 0.5 | X36: 0.5 | Y36: 0.5 | Z36: 0.5 | AA36: 0.5 | AB36: 0.5 | AC36: 0.5 | AD36: 0.5 | AE36: 0.5 | AF36: ='[1]01'!$G$19 -> 0.5 | AG36: ='[1]01'!$G$19 -> 0.5 | AH36: ='[1]01'!$G$19 -> 0.5
A37: 7 | B37: Safty procedure | D37: 0.5 | E37: 0.5 | F37: 0.5 | G37: 0.5 | H37: 0.5 | I37: 0.5 | J37: 0.5 | K37: 0.5 | L37: 0.5 | M37: 0.5 | N37: 0.5 | O37: 0.5 | P37: 0.5 | Q37: 0.5 | R37: 0.5 | S37: 0.5 | T37: 0.5 | U37: 0.5 | V37: 0.5 | W37: 0.5 | X37: 0.5 | Y37: 0.5 | Z37: 0.5 | AA37: 0.5 | AB37: 0.5 | AC37: 0.5 | AD37: 0.5 | AE37: 0.5 | AF37: 0.5 | AG37: 0.5 | AH37: 0.5
B38: Machines | C38: The cable has no cutting, blug is fixed, warning sign to be used
B39: Tools | C39: Warning sign to be used, no ladder on wet floor
B40: Chemicals | C40: Known, covered, on the properet botteles
B41: Uniform | C41: shoes without heel, and not slippery
D42: ='[1]01'!$G$20 -> 0.5 | E42: ='[1]01'!$G$20 -> 0.5 | F42: ='[1]01'!$G$20 -> 0.5 | G42: ='[1]01'!$G$20 -> 0.5 | H42: 0.3 | I42: 0.5 | J42: 0.5 | K42: 0.5 | L42: 0.5 | M42: 0.5 | N42: 0.5 | O42: 0.5 | P42: 0.5 | Q42: 0.5 | R42: 0.5 | S42: 0.5 | T42: 0.5 | U42: 0.5 | V42: 0.5 | W42: 0.5 | X42: 0.5 | Y42: 0.5 | Z42: ='[1]01'!$G$20 -> 0.5 | AA42: ='[1]01'!$G$20 -> 0.5 | AB42: ='[1]01'!$G$20 -> 0.5 | AC42: ='[1]01'!$G$20 -> 0.5 | AD42: ='[1]01'!$G$20 -> 0.5 | AE42: ='[1]01'!$G$20 -> 0.5 | AF42: ='[1]01'!$G$20 -> 0.5 | AG42: ='[1]01'!$G$20 -> 0.5 | AH42: ='[1]01'!$G$20 -> 0.5
B44: Total Score | D44: =D4+D10+D17+D22+D26+D31+D37 -> 5 | E44: =E4+E10+E17+E22+E26+E31+E37 -> 5 | F44: =F4+F10+F17+F22+F26+F31+F37 -> 5 | G44: =G4+G10+G17+G22+G26+G31+G37 -> 5 | H44: =H4+H10+H17+H22+H26+H31+H37 -> 5 | I44: =I4+I10+I17+I22+I26+I31+I37 -> 5 | J44: =J4+J10+J17+J22+J26+J31+J37 -> 5 | K44: =K4+K10+K17+K22+K26+K31+K37 -> 5 | ... AH44: =AH4+AH10+AH17+AH22+AH26+AH31+AH37 -> 5 | AI44: =SUM(D44:AH44) -> 155
B45: Actual score | D45: =D9+D16+D21+D25+D30+D36+D42 -> 4.5 | E45: =E9+E16+E21+E25+E30+E36+E42 -> 4.5 | F45: =F9+F16+F21+F25+F30+F36+F42 -> 4.5 | G45: =G9+G16+G21+G25+G30+G36+G42 -> 4.5 | H45: =H9+H16+H21+H25+H30+H36+H42 -> 3.8 | I45: =I9+I16+I21+I25+I30+I36+I42 -> 4 | J45: =J9+J16+J21+J25+J30+J36+J42 -> 4 | K45: =K9+K16+K21+K25+K30+K36+K42 -> 4 | ... AH45: =AH9+AH16+AH21+AH25+AH30+AH36+AH42 -> 4.5 | AI45: =SUM(D45:AH45) -> 128.7

Sheet Back areas & service elevators
D2: 1 | E2: 2 | F2: 3 | G2: 4 | H2: 5 | I2: 6 | J2: 7 | K2: 8 | L2: 9 | M2: 10 | N2: 11 | O2: 12 | P2: 13 | Q2: 14 | R2: 15 | S2: 16 | T2: 17 | U2: 18 | V2: 19 | W2: 20 | X2: 21 | Y2: 22 | Z2: 23 | AA2: 24 | AB2: 25 | AC2: 26 | AD2: 27 | AE2: 28 | AF2: 29 | AG2: 30 | AH2: 31
B3: Area | C3: Standard | D3: Score
A4: 1 | B4: Ceiling | D4: 1 | E4: 1 | F4: 1 | G4: 1 | H4: 1 | I4: 1 | J4: 1 | K4: 1 | L4: 1 | M4: 1 | N4: 1 | O4: 1 | P4: 1 | Q4: 1 | R4: 1 | S4: 1 | T4: 1 | U4: 1 | V4: 1 | W4: 1 | X4: 1 | Y4: 1 | Z4: 1 | AA4: 1 | AB4: 1 | AC4: 1 | AD4: 1 | AE4: 1 | AF4: 1 | AG4: 1 | AH4: 1
B5: Ceiling | C5: Free of dust and no cobwebs
B6: Air diffusers | C6: Free of dust and no finger prints
B7: Light fixtures | C7: Free of dust and no finger prints
B8: Pips | C8: Free of dust, and black marks
D9: 1 | E9: 1 | F9: 1 | G9: 1 | H9: 1 | I9: 1 | J9: 1 | K9: 1 | L9: 0.6 | M9: 1 | N9: 1 | O9: 1 | P9: 0.6 | Q9: 0.6 | R9: 0.6 | S9: 0.6 | T9: 0.6 | U9: 1 | V9: 1 | W9: 0.3 | X9: 0.3 | Y9: 0.3 | Z9: 1 | AA9: 1 | AB9: 0.6 | AC9: 0.6 | AD9: 0.6 | AE9: 0.6 | AF9: 0.6 | AG9: 1 | AH9: 1
A10: 2 | B10: Walls and doors | D10: 0.5 | E10: 0.5 | F10: 0.5 | G10: 0.5 | H10: 0.5 | I10: 0.5 | J10: 0.5 | K10: 0.5 | L10: 0.5 | M10: 0.5 | N10: 0.5 | O10: 0.5 | P10: 0.5 | Q10: 0.5 | R10: 0.5 | S10: 0.5 | T10: 0.5 | U10: 0.5 | V10: 0.5 | W10: 0.5 | X10: 0.5 | Y10: 0.5 | Z10: 0.5 | AA10: 0.5 | AB10: 0.5 | AC10: 0.5 | AD10: 0.5 | AE10: 0.5 | AF10: 0.5 | AG10: 0.5 | AH10: 0.5
B11: Painted Walls | C11: No finger prints or black marks
B12: Ceramic walls | C12: Free of dust and no finger prints
B13: Corners and baseboard | C13: Free of dust and no cobwebs
B14: Signs | C14: Shiny and no finger prints
B15: Door and frame | C15: Free of dust, and no finger prints, or black marks
D16: 0.5 | E16: 0.5 | F16: 0.5 | G16: 0.5 | H16: 0.5 | I16: 0.2 | J16: 0.2 | K16: 0.5 | L16: 0.3 | M16: 0.3 | N16: 0.3 | O16: 0.3 | P16: 0.3 | Q16: 0.3 | R16: 0.3 | S16: 0.3 | T16: 0.3 | U16: 0.3 | V16: 0.2 | W16: 0.2 | X16: 0.2 | Y16: 0.2 | Z16: 0.2 | AA16: 0.2 | AB16: 0.5 | AC16: 0.5 | AD16: 0.5 | AE16: 0.5 | AF16: 0.5 | AG16: 0.5 | AH16: 0.5
A17: 3 | B17: Floors | D17: 1 | E17: 1 | F17: 1 | G17: 1 | H17: 1 | I17: 1 | J17: 1 | K17: 1 | L17: 1 | M17: 1 | N17: 1 | O17: 1 | P17: 1 | Q17: 1 | R17: 1 | S17: 1 | T17: 1 | U17: 1 | V17: 1 | W17: 1 | X17: 1 | Y17: 1 | Z17: 1 | AA17: 1 | AB17: 1 | AC17: 1 | AD17: 1 | AE17: 1 | AF17: 1 | AG17: 1 | AH17: 1
B18: Hard floors | C18: Free of dust, spots and shiny
B19: Drains | C19: Clean and not blocked
D20: 1 | E20: 1 | F20: 1 | G20: 1 | H20: 1 | I20: 1 | J20: 1 | K20: 1 | L20: 1 | M20: 1 | N20: 1 | O20: 1 | P20: 1 | Q20: 1 | R20: 1 | S20: 1 | T20: 1 | U20: 1 | V20: 1 | W20: 1 | X20: 1 | Y20: 0.3 | Z20: 0.3 | AA20: 0.3 | AB20: 0.3 | AC20: 0.3 | AD20: 0.3 | AE20: 0.3 | AF20: 0.3 | AG20: 0.3 | AH20: 1
A21: 4 | B21: Fire Boxes and extinguisher | D21: 0.5 | E21: 0.5 | F21: 0.5 | G21: 0.5 | H21: 0.5 | I21: 0.5 | J21: 0.5 | K21: 0.5 | L21: 0.5 | M21: 0.5 | N21: 0.5 | O21: 0.5 | P21: 0.5 | Q21: 0.5 | R21: 0.5 | S21: 0.5 | T21: 0.5 | U21: 0.5 | V21: 0.5 | W21: 0.5 | X21: 0.5 | Y21: 0.5 | Z21: 0.5 | AA21: 0.5 | AB21: 0.5 | AC21: 0.5 | AD21: 0.5 | AE21: 0.5 | AF21: 0.5 | AG21: 0.5 | AH21: 0.5
B22: Box in and out | C22: Free of dust, debris and garbage
B23: Fire extinguisher and holder | C23: Free of dust, spots
D24: ='[1]01'!$G$26 -> 0.5 | E24: ='[1]01'!$G$26 -> 0.5 | F24: ='[1]01'!$G$26 -> 0.5 | G24: ='[1]01'!$G$26 -> 0.5 | H24: ='[1]01'!$G$26 -> 0.5 | I24: ='[1]01'!$G$26 -> 0.5 | J24: ='[1]01'!$G$26 -> 0.5 | K24: ='[1]01'!$G$26 -> 0.5 | ... AH24: ='[1]01'!$G$26 -> 0.5
A25: 5 | B25: Glass work | D25: 0.5 | E25: 0.5 | F25: 0.5 | G25: 0.5 | H25: 0.5 | I25: 0.5 | J25: 0.5 | K25: 0.5 | L25: 0.5 | M25: 0.5 | N25: 0.5 | O25: 0.5 | P25: 0.5 | Q25: 0.5 | R25: 0.5 | S25: 0.5 | T25: 0.5 | U25: 0.5 | V25: 0.5 | W25: 0.5 | X25: 0.5 | Y25: 0.5 | Z25: 0.5 | AA25: 0.5 | AB25: 0.5 | AC25: 0.5 | AD25: 0.5 | AE25: 0.5 | AF25: 0.5 | AG25: 0.5 | AH25: 0.5
B26: Glass | C26: Free of dust and no finger prints
B27: Frames | C27: Free of dust and no finger prints
D28: ='[1]01'!$G$27 -> 0.5 | E28: ='[1]01'!$G$27 -> 0.5 | F28: ='[1]01'!$G$27 -> 0.5 | G28: ='[1]01'!$G$27 -> 0.5 | H28: ='[1]01'!$G$27 -> 0.5 | I28: ='[1]01'!$G$27 -> 0.5 | J28: ='[1]01'!$G$27 -> 0.5 | K28: ='[1]01'!$G$27 -> 0.5 | L28: 0.3 | M28: 0.3 | N28: 0.3 | O28: 0.3 | P28: 0.3 | Q28: 0.3 | R28: 0.3 | S28: 0.3 | T28: 0.3 | U28: 0.3 | V28: 0.3 | W28: ='[1]01'!$G$27 -> 0.5 | X28: ='[1]01'!$G$27 -> 0.5 | Y28: ='[1]01'!$G$27 -> 0.5 | Z28: ='[1]01'!$G$27 -> 0.5 | AA28: ='[1]01'!$G$27 -> 0.5 | AB28: ='[1]01'!$G$27 -> 0.5 | AC28: ='[1]01'!$G$27 -> 0.5 | AD28: ='[1]01'!$G$27 -> 0.5 | ... AH28: ='[1]01'!$G$27 -> 0.5
A29: 6 | B29: Service Elevators | D29: 0.5 | E29: 0.5 | F29: 0.5 | G29: 0.5 | H29: 0.5 | I29: 0.5 | J29: 0.5 | K29: 0.5 | L29: 0.5 | M29: 0.5 | N29: 0.5 | O29: 0.5 | P29: 0.5 | Q29: 0.5 | R29: 0.5 | S29: 0.5 | T29: 0.5 | U29: 0.5 | V29: 0.5 | W29: 0.5 | X29: 0.5 | Y29: 0.5 | Z29: 0.5 | AA29: 0.5 | AB29: 0.5 | AC29: 0.5 | AD29: 0.5 | AE29: 0.5 | AF29: 0.5 | AG29: 0.5 | AH29: 0.5
B30: Stainless walls | C30: Free of dust, spots, shads
B31: Stainless doors in and out | C31: Free of dust, spots, shads
B32: Stainless ceiling | C32: Free of dust, spots, shads
B33: Stainless entrance | C33: Free of dust, spots, shads
B34: Metal step | C34: Free of dust, spots, Dirt's
B35: Call buttons in and out | C35: Free of dust, spots, shads
B36: Signage | C36: Free of dust, spots and shiny
B37: Mirrors | C37: Free of dust, spots and shiny
B38: Floors | C38: Free of dust, spots, shiny
B39: Service elevators area walls | C39: Free of dust, spots, shads
B40: Electric boxes | C40: Free of dust, spots, shads
D41: 0.5 | E41: 0.5 | F41: 0.3 | G41: 0.3 | H41: 0.3 | I41: 0.3 | J41: 0.5 | K41: 0.5 | L41: 0.5 | M41: 0.5 | N41: 0.5 | O41: 0.5 | P41: 0.5 | Q41: 0.5 | R41: 0.5 | S41: 0.5 | T41: 0.5 | U41: 0.5 | V41: 0.5 | W41: 0.5 | X41: 0.5 | Y41: 0.5 | Z41: 0.5 | AA41: 0.5 | AB41: 0.5 | AC41: 0.5 | AD41: 0.5 | AE41: 0.5 | AF41: 0.5 | AG41: 0.5 | AH41: 0.5
A42: 7 | B42: Equipment Standared | D42: 0.5 | E42: 0.5 | F42: 0.5 | G42: 0.5 | H42: 0.5 | I42: 0.5 | J42: 0.5 | K42: 0.5 | L42: 0.5 | M42: 0.5 | N42: 0.5 | O42: 0.5 | P42: 0.5 | Q42: 0.5 | R42: 0.5 | S42: 0.5 | T42: 0.5 | U42: 0.5 | V42: 0.5 | W42: 0.5 | X42: 0.5 | Y42: 0.5 | Z42: 0.5 | AA42: 0.5 | AB42: 0.5 | AC42: 0.5 | AD42: 0.5 | AE42: 0.5 | AF42: 0.5 | AG42: 0.5 | AH42: 0.5
B43: Wher to store it | C43: Janitor room
B44: Machines | C44: Clean, No bad smell, Not noisy
B45: Tools | C45: Clean, No bad smell,Not torn,and no broken stiks
B46: Chemicals | C46: bottels tobe keept at the tray, and keep it at the janitor room
D47: ='[1]01'!$G$29 -> 0.5 | E47: ='[1]01'!$G$29 -> 0.5 | F47: 0.2 | G47: 0.2 | H47: 0.2 | I47: 0.2 | J47: 0.2 | K47: 0.2 | L47: 0.2 | M47: 0.2 | N47: 0.2 | O47: ='[1]01'!$G$29 -> 0.5 | P47: ='[1]01'!$G$29 -> 0.5 | Q47: ='[1]01'!$G$29 -> 0.5 | R47: 0.3 | S47: 0.3 | T47: 0.3 | U47: 0.3 | V47: 0.3 | W47: ='[1]01'!$G$29 -> 0.5 | X47: ='[1]01'!$G$29 -> 0.5 | Y47: ='[1]01'!$G$29 -> 0.5 | Z47: ='[1]01'!$G$29 -> 0.5 | AA47: ='[1]01'!$G$29 -> 0.5 | AB47: ='[1]01'!$G$29 -> 0.5 | AC47: ='[1]01'!$G$29 -> 0.5 | AD47: ='[1]01'!$G$29 -> 0.5 | ... AH47: ='[1]01'!$G$29 -> 0.5
A48: 8 | B48: Safty procedure | D48: 0.5 | E48: 0.5 | F48: 0.5 | G48: 0.5 | H48: 0.5 | I48: 0.5 | J48: 0.5 | K48: 0.5 | L48: 0.5 | M48: 0.5 | N48: 0.5 | O48: 0.5 | P48: 0.5 | Q48: 0.5 | R48: 0.5 | S48: 0.5 | T48: 0.5 | U48: 0.5 | V48: 0.5 | W48: 0.5 | X48: 0.5 | Y48: 0.5 | Z48: 0.5 | AA48: 0.5 | AB48: 0.5 | AC48: 0.5 | AD48: 0.5 | AE48: 0.5 | AF48: 0.5 | AG48: 0.5 | AH48: 0.5
B49: Machines | C49: The cable has no cutting, blug is fixed, warning sign to be used
B50: Tools | C50: Warning sign to be used, no ladder on wet floor
B51: Chemicals | C51: Known, covered, on the properet botteles
B52: Uniform | C52: shoes without heel, and not slippery
D53: ='[1]01'!$G$30 -> 0.5 | E53: ='[1]01'!$G$30 -> 0.5 | F53: ='[1]01'!$G$30 -> 0.5 | G53: ='[1]01'!$G$30 -> 0.5 | H53: ='[1]01'!$G$30 -> 0.5 | I53: ='[1]01'!$G$30 -> 0.5 | J53: ='[1]01'!$G$30 -> 0.5 | K53: ='[1]01'!$G$30 -> 0.5 | L53: 0.5 | M53: 0.5 | N53: 0.5 | O53: 0.5 | P53: 0.5 | Q53: 0.5 | R53: 0.5 | S53: 0.5 | T53: 0.5 | U53: 0.5 | V53: 0.5 | W53: 0.5 | X53: 0.5 | Y53: 0.5 | Z53: 0.5 | AA53: 0.5 | AB53: 0.5 | AC53: 0.5 | AD53: ='[1]01'!$G$30 -> 0.5 | AE53: ='[1]01'!$G$30 -> 0.5 | AF53: ='[1]01'!$G$30 -> 0.5 | AG53: ='[1]01'!$G$30 -> 0.5 | AH53: ='[1]01'!$G$30 -> 0.5
B55: Total Score | D55: =D4+D10+D17+D21+D25+D29+D42+D48 -> 5 | E55: =E4+E10+E17+E21+E25+E29+E42+E48 -> 5 | F55: =F4+F10+F17+F21+F25+F29+F42+F48 -> 5 | G55: =G4+G10+G17+G21+G25+G29+G42+G48 -> 5 | H55: =H4+H10+H17+H21+H25+H29+H42+H48 -> 5 | I55: =I4+I10+I17+I21+I25+I29+I42+I48 -> 5 | J55: =J4+J10+J17+J21+J25+J29+J42+J48 -> 5 | K55: =K4+K10+K17+K21+K25+K29+K42+K48 -> 5 | ... AH55: =AH4+AH10+AH17+AH21+AH25+AH29+AH42+AH48 -> 5 | AI55: =SUM(D55:AH55) -> 155
B56: Actual score | D56: =D9+D16+D20+D24+D28+D41+D47+D53 -> 5 | E56: =E9+E16+E20+E24+E28+E41+E47+E53 -> 5 | F56: =F9+F16+F20+F24+F28+F41+F47+F53 -> 4.5 | G56: =G9+G16+G20+G24+G28+G41+G47+G53 -> 4.5 | H56: =H9+H16+H20+H24+H28+H41+H47+H53 -> 4.5 | I56: =I9+I16+I20+I24+I28+I41+I47+I53 -> 4.2 | J56: =J9+J16+J20+J24+J28+J41+J47+J53 -> 4.4 | K56: =K9+K16+K20+K24+K28+K41+K47+K53 -> 4.7 | ... AH56: =AH9+AH16+AH20+AH24+AH28+AH41+AH47+AH53 -> 5 | AI56: =SUM(D56:AH56) -> 131.1

Sheet Maintenance&mechanical rooms 
D2: 1 | E2: 2 | F2: 3 | G2: 4 | H2: 5 | I2: 6 | J2: 7 | K2: 8 | L2: 9 | M2: 10 | N2: 11 | O2: 12 | P2: 13 | Q2: 14 | R2: 15 | S2: 16 | T2: 17 | U2: 18 | V2: 19 | W2: 20 | X2: 21 | Y2: 22 | Z2: 23 | AA2: 24 | AB2: 25 | AC2: 26 | AD2: 27 | AE2: 28 | AF2: 29 | AG2: 30 | AH2: 31
B3: Area | C3: Standard | D3: Score
A4: 1 | B4: Ceiling | D4: 0.5 | E4: 0.5 | F4: 0.5 | G4: 0.5 | H4: 0.5 | I4: 0.5 | J4: 0.5 | K4: 0.5 | L4: 0.5 | M4: 0.5 | N4: 0.5 | O4: 0.5 | P4: 0.5 | Q4: 0.5 | R4: 0.5 | S4: 0.5 | T4: 0.5 | U4: 0.5 | V4: 0.5 | W4: 0.5 | X4: 0.5 | Y4: 0.5 | Z4: 0.5 | AA4: 0.5 | AB4: 0.5 | AC4: 0.5 | AD4: 0.5 | AE4: 0.5 | AF4: 0.5 | AG4: 0.5 | AH4: 0.5
B5: Pips | C5: Free of dust and no finger prints
B6: Air diffusers | C6: Free of dust and no finger prints
B7: Light fixtures | C7: Free of dust and no finger prints
D8: ='[1]01'!$G$33 -> 0.5 | E8: ='[1]01'!$G$33 -> 0.5 | F8: ='[1]01'!$G$33 -> 0.5 | G8: ='[1]01'!$G$33 -> 0.5 | H8: ='[1]01'!$G$33 -> 0.5 | I8: ='[1]01'!$G$33 -> 0.5 | J8: ='[1]01'!$G$33 -> 0.5 | K8: ='[1]01'!$G$33 -> 0.5 | ... AH8: ='[1]01'!$G$33 -> 0.5
A9: 2 | B9: Walls | D9: 1 | E9: 1 | F9: 1 | G9: 1 | H9: 1 | I9: 1 | J9: 1 | K9: 1 | L9: 1 | M9: 1 | N9: 1 | O9: 1 | P9: 1 | Q9: 1 | R9: 1 | S9: 1 | T9: 1 | U9: 1 | V9: 1 | W9: 1 | X9: 1 | Y9: 1 | Z9: 1 | AA9: 1 | AB9: 1 | AC9: 1 | AD9: 1 | AE9: 1 | AF9: 1 | AG9: 1 | AH9: 1
B10: Painted Walls | C10: No finger prints or black marks
B11: Corners and baseboard | C11: Free of dust dirts and black marks
B12: Switches and sockets | C12: Free of dust and no finger prints
B13: Signs | C13: free of dust, Shiny and no finger prints
D14: ='[1]01'!$G$34 -> 1 | E14: ='[1]01'!$G$34 -> 1 | F14: ='[1]01'!$G$34 -> 1 | G14: ='[1]01'!$G$34 -> 1 | H14: ='[1]01'!$G$34 -> 1 | I14: ='[1]01'!$G$34 -> 1 | J14: ='[1]01'!$G$34 -> 1 | K14: ='[1]01'!$G$34 -> 1 | ... AH14: ='[1]01'!$G$34 -> 1
A15: 3 | B15: Fire Boxes and extinguisher | D15: 0.5 | E15: 0.5 | F15: 0.5 | G15: 0.5 | H15: 0.5 | I15: 0.5 | J15: 0.5 | K15: 0.5 | L15: 0.5 | M15: 0.5 | N15: 0.5 | O15: 0.5 | P15: 0.5 | Q15: 0.5 | R15: 0.5 | S15: 0.5 | T15: 0.5 | U15: 0.5 | V15: 0.5 | W15: 0.5 | X15: 0.5 | Y15: 0.5 | Z15: 0.5 | AA15: 0.5 | AB15: 0.5 | AC15: 0.5 | AD15: 0.5 | AE15: 0.5 | AF15: 0.5 | AG15: 0.5 | AH15: 0.5
B16: Box in and out | C16: Free of dust, debris and garbage
B17: Fire extinguisher and holder | C17: Free of dust, spots
D18: ='[1]01'!$G$35 -> 0.5 | E18: ='[1]01'!$G$35 -> 0.5 | F18: ='[1]01'!$G$35 -> 0.5 | G18: ='[1]01'!$G$35 -> 0.5 | H18: ='[1]01'!$G$35 -> 0.5 | I18: ='[1]01'!$G$35 -> 0.5 | J18: ='[1]01'!$G$35 -> 0.5 | K18: ='[1]01'!$G$35 -> 0.5 | ... AH18: ='[1]01'!$G$35 -> 0.5
A19: 4 | B19: Floors | D19: 1 | E19: 1 | F19: 1 | G19: 1 | H19: 1 | I19: 1 | J19: 1 | K19: 1 | L19: 1 | M19: 1 | N19: 1 | O19: 1 | P19: 1 | Q19: 1 | R19: 1 | S19: 1 | T19: 1 | U19: 1 | V19: 1 | W19: 1 | X19: 1 | Y19: 1 | Z19: 1 | AA19: 1 | AB19: 1 | AC19: 1 | AD19: 1 | AE19: 1 | AF19: 1 | AG19: 1 | AH19: 1
B20: Hard floors | C20: Free of dust, spots, cement and black marks
B21: Drains | C21: Clean and not blocked
D22: 1 | E22: 1 | F22: 1 | G22: 1 | H22: 1 | I22: 1 | J22: 1 | K22: 1 | L22: 1 | M22: 1 | N22: 1 | O22: 1 | P22: 1 | Q22: 1 | R22: 1 | S22: 1 | T22: 1 | U22: 1 | V22: 1 | W22: 1 | X22: 1 | Y22: 1 | Z22: 1 | AA22: 1 | AB22: 1 | AC22: 1 | AD22: 1 | AE22: 1 | AF22: 1 | AG22: 1 | AH22: 1
A23: 5 | B23: Maintenance offices | D23: 1 | E23: 1 | F23: 1 | G23: 1 | H23: 1 | I23: 1 | J23: 1 | K23: 1 | L23: 1 | M23: 1 | N23: 1 | O23: 1 | P23: 1 | Q23: 1 | R23: 1 | S23: 1 | T23: 1 | U23: 1 | V23: 1 | W23: 1 | X23: 1 | Y23: 1 | Z23: 1 | AA23: 1 | AB23: 1 | AC23: 1 | AD23: 1 | AE23: 1 | AF23: 1 | AG23: 1 | AH23: 1
B24: Pips | C24: Free of dust and no finger prints
B25: Air diffusers | C25: Free of dust and no finger prints
B26: Light fixtures | C26: Free of dust and no finger prints
B27: Painted Walls | C27: No finger prints or black marks
B28: Corners and baseboard | C28: Free of dust and black marks
B29: Switches and sockets | C29: Free of dust and no finger prints
B30: Signs | C30: Shiny and no finger prints
B31: Stainless steel work | C31: Free of dust and no finger prints
B32: Desks | C32: Free of dust and no finger prints
B33: Computers & electronic eqt, screens, cables etc. | C33: Free of dust and no finger prints
B34: Cupboards | C34: Free of dust and no finger prints
B35: Corner and center tables | C35: Free of dust and no finger prints
... B37: Garbage bags | C37: Clean and not smelly
D38: 1 | E38: 1 | F38: 1 | G38: 1 | H38: 1 | I38: 1 | J38: 1 | K38: 1 | L38: 1 | M38: 1 | N38: 1 | O38: 1 | P38: 1 | Q38: 1 | R38: 1 | S38: 1 | T38: 1 | U38: 1 | V38: 1 | W38: 1 | X38: 1 | Y38: 1 | Z38: 1 | AA38: 1 | AB38: 1 | AC38: 1 | AD38: 1 | AE38: 1 | AF38: 1 | AG38: 1 | AH38: 1
A39: 6 | B39: Equipment Standared | D39: 0.5 | E39: 0.5 | F39: 0.5 | G39: 0.5 | H39: 0.5 | I39: 0.5 | J39: 0.5 | K39: 0.5 | L39: 0.5 | M39: 0.5 | N39: 0.5 | O39: 0.5 | P39: 0.5 | Q39: 0.5 | R39: 0.5 | S39: 0.5 | T39: 0.5 | U39: 0.5 | V39: 0.5 | W39: 0.5 | X39: 0.5 | Y39: 0.5 | Z39: 0.5 | AA39: 0.5 | AB39: 0.5 | AC39: 0.5 | AD39: 0.5 | AE39: 0.5 | AF39: 0.5 | AG39: 0.5 | AH39: 0.5
B40: Wher to store it | C40: Janitor room
B41: Machines | C41: Clean, No bad smell, Not noisy
B42: Tools | C42: Clean, No bad smell,Not torn,and no broken stiks
B43: Chemicals | C43: bottels tobe keept at the tray, and keep it at the janitor room
D44: ='[1]01'!$G$38 -> 0.5 | E44: ='[1]01'!$G$38 -> 0.5 | F44: ='[1]01'!$G$38 -> 0.5 | G44: ='[1]01'!$G$38 -> 0.5 | H44: ='[1]01'!$G$38 -> 0.5 | I44: ='[1]01'!$G$38 -> 0.5 | J44: ='[1]01'!$G$38 -> 0.5 | K44: ='[1]01'!$G$38 -> 0.5 | ... AH44: ='[1]01'!$G$38 -> 0.5
A45: 7 | B45: Safty procedure | D45: 0.5 | E45: 0.5 | F45: 0.5 | G45: 0.5 | H45: 0.5 | I45: 0.5 | J45: 0.5 | K45: 0.5 | L45: 0.5 | M45: 0.5 | N45: 0.5 | O45: 0.5 | P45: 0.5 | Q45: 0.5 | R45: 0.5 | S45: 0.5 | T45: 0.5 | U45: 0.5 | V45: 0.5 | W45: 0.5 | X45: 0.5 | Y45: 0.5 | Z45: 0.5 | AA45: 0.5 | AB45: 0.5 | AC45: 0.5 | AD45: 0.5 | AE45: 0.5 | AF45: 0.5 | AG45: 0.5 | AH45: 0.5
B46: Machines | C46: The cable has no cutting, blug is fixed, warning sign to be used
B47: Tools | C47: Warning sign to be used, no ladder on wet floor
B48: Chemicals | C48: Known, covered, on the properet botteles
B49: Uniform | C49: shoes without heel, and not slippery
D50: ='[1]01'!$G$39 -> 0.5 | E50: ='[1]01'!$G$39 -> 0.5 | F50: ='[1]01'!$G$39 -> 0.5 | G50: ='[1]01'!$G$39 -> 0.5 | H50: ='[1]01'!$G$39 -> 0.5 | I50: ='[1]01'!$G$39 -> 0.5 | J50: ='[1]01'!$G$39 -> 0.5 | K50: ='[1]01'!$G$39 -> 0.5 | ... AH50: ='[1]01'!$G$39 -> 0.5
B52: Total Score | D52: =D4+D9+D15+D19+D23+D39+D45 -> 5 | E52: =E4+E9+E15+E19+E23+E39+E45 -> 5 | F52: =F4+F9+F15+F19+F23+F39+F45 -> 5 | G52: =G4+G9+G15+G19+G23+G39+G45 -> 5 | H52: =H4+H9+H15+H19+H23+H39+H45 -> 5 | I52: =I4+I9+I15+I19+I23+I39+I45 -> 5 | J52: =J4+J9+J15+J19+J23+J39+J45 -> 5 | K52: =K4+K9+K15+K19+K23+K39+K45 -> 5 | ... AH52: =AH4+AH9+AH15+AH19+AH23+AH39+AH45 -> 5 | AI52: =SUM(D52:AH52) -> 155
B53: Actual score | D53: =D8+D14+D18+D22+D38+D44+D50 -> 5 | E53: =E8+E14+E18+E22+E38+E44+E50 -> 5 | F53: =F8+F14+F18+F22+F38+F44+F50 -> 5 | G53: =G8+G14+G18+G22+G38+G44+G50 -> 5 | H53: =H8+H14+H18+H22+H38+H44+H50 -> 5 | I53: =I8+I14+I18+I22+I38+I44+I50 -> 5 | J53: =J8+J14+J18+J22+J38+J44+J50 -> 5 | K53: =K8+K14+K18+K22+K38+K44+K50 -> 5 | ... AH53: =AH8+AH14+AH18+AH22+AH38+AH44+AH50 -> 5 | AI53: =SUM(D53:AH53) -> 155

Sheet Environment
D2: 1 | E2: 2 | F2: 3 | G2: 4 | H2: 5 | I2: 6 | J2: 7 | K2: 8 | L2: 9 | M2: 10 | N2: 11 | O2: 12 | P2: 13 | Q2: 14 | R2: 15 | S2: 16 | T2: 17 | U2: 18 | V2: 19 | W2: 20 | X2: 21 | Y2: 22 | Z2: 23 | AA2: 24 | AB2: 25 | AC2: 26 | AD2: 27 | AE2: 28 | AF2: 29 | AG2: 30 | AH2: 31
B3: Area | C3: Standard | D3: Score | E3: Score | F3: Score | G3: Score | H3: Score | I3: Score | J3: Score | K3: Score | L3: Score | M3: Score | N3: Score | O3: Score | P3: Score | Q3: Score | R3: Score | S3: Score | T3: Score | U3: Score | V3: Score | W3: Score | X3: Score | Y3: Score | Z3: Score | AA3: Score | AB3: Score | AC3: Score | AD3: Score | AE3: Score | AF3: Score | AG3: Score | AH3: Score
A4: 1 | B4: Environment | D4: 1 | E4: 1 | F4: 1 | G4: 1 | H4: 1 | I4: 1 | J4: 1 | K4: 1 | L4: 1 | M4: 1 | N4: 1 | O4: 1 | P4: 1 | Q4: 1 | R4: 1 | S4: 1 | T4: 1 | U4: 1 | V4: 1 | W4: 1 | X4: 1 | Y4: 1 | Z4: 1 | AA4: 1 | AB4: 1 | AC4: 1 | AD4: 1 | AE4: 1 | AF4: 1 | AG4: 1 | AH4: 1
B5: Street | C5: Free of sand, papers, cans, and cigarettes
B6: Side walks | C6: Free of sand, papers, cans, and cigarettes
B7: Plants and grass | C7: No papers or plastic bags
D8: ='[1]01'!$G$42 -> 1 | E8: ='[1]01'!$G$42 -> 1 | F8: ='[1]01'!$G$42 -> 1 | G8: ='[1]01'!$G$42 -> 1 | H8: ='[1]01'!$G$42 -> 1 | I8: ='[1]01'!$G$42 -> 1 | J8: ='[1]01'!$G$42 -> 1 | K8: ='[1]01'!$G$42 -> 1 | ... AH8: ='[1]01'!$G$42 -> 1
A9: 2 | B9: Light fixtures | D9: 1 | E9: 1 | F9: 1 | G9: 1 | H9: 1 | I9: 1 | J9: 1 | K9: 1 | L9: 1 | M9: 1 | N9: 1 | O9: 1 | P9: 1 | Q9: 1 | R9: 1 | S9: 1 | T9: 1 | U9: 1 | V9: 1 | W9: 1 | X9: 1 | Y9: 1 | Z9: 1 | AA9: 1 | AB9: 1 | AC9: 1 | AD9: 1 | AE9: 1 | AF9: 1 | AG9: 1 | AH9: 1
B10: long light poles | C10: Free of dust, spots and shiny
B11: Short light poles | C11: Clean and not blocked
D12: ='[1]01'!$G$43 -> 1 | E12: ='[1]01'!$G$43 -> 1 | F12: ='[1]01'!$G$43 -> 1 | G12: ='[1]01'!$G$43 -> 1 | H12: ='[1]01'!$G$43 -> 1 | I12: ='[1]01'!$G$43 -> 1 | J12: ='[1]01'!$G$43 -> 1 | K12: ='[1]01'!$G$43 -> 1 | ... AH12: ='[1]01'!$G$43 -> 1
A13: 3 | B13: Security booth | D13: 1 | E13: 1 | F13: 1 | G13: 1 | H13: 1 | I13: 1 | J13: 1 | K13: 1 | L13: 1 | M13: 1 | N13: 1 | O13: 1 | P13: 1 | Q13: 1 | R13: 1 | S13: 1 | T13: 1 | U13: 1 | V13: 1 | W13: 1 | X13: 1 | Y13: 1 | Z13: 1 | AA13: 1 | AB13: 1 | AC13: 1 | AD13: 1 | AE13: 1 | AF13: 1 | AG13: 1 | AH13: 1
B14: Glass | C14: Free of dust and no finger prints
B15: Frames | C15: Free of dust and no finger prints
B16: Cladding | C16: Free of dust and no finger prints
B17: X Ray | C17: Free of dust and no finger prints
B18: Drapery/ blinds | C18: Free of dust and spots
D19: 1 | E19: 1 | F19: 1 | G19: 1 | H19: 1 | I19: 1 | J19: 1 | K19: 1 | L19: 1 | M19: 1 | N19: 1 | O19: 1 | P19: 1 | Q19: 1 | R19: 1 | S19: 1 | T19: 1 | U19: 1 | V19: 1 | W19: 1 | X19: 1 | Y19: 1 | Z19: 1 | AA19: 1 | AB19: 1 | AC19: 1 | AD19: 1 | AE19: 1 | AF19: 1 | AG19: 1 | AH19: 1
A20: 4 | B20: Signs | D20: 0.5 | E20: 0.5 | F20: 0.5 | G20: 0.5 | H20: 0.5 | I20: 0.5 | J20: 0.5 | K20: 0.5 | L20: 0.5 | M20: 0.5 | N20: 0.5 | O20: 0.5 | P20: 0.5 | Q20: 0.5 | R20: 0.5 | S20: 0.5 | T20: 0.5 | U20: 0.5 | V20: 0.5 | W20: 0.5 | X20: 0.5 | Y20: 0.5 | Z20: 0.5 | AA20: 0.5 | AB20: 0.5 | AC20: 0.5 | AD20: 0.5 | AE20: 0.5 | AF20: 0.5 | AG20: 0.5 | AH20: 0.5
B21: Guide signs | C21: Free of dust and black marks
D22: 0.5 | E22: 0.5 | F22: 0.5 | G22: 0.5 | H22: 0.5 | I22: 0.5 | J22: 0.5 | K22: 0.5 | L22: 0.5 | M22: 0.5 | N22: 0.5 | O22: 0.5 | P22: 0.5 | Q22: 0.5 | R22: 0.5 | S22: 0.5 | T22: 0.5 | U22: 0.5 | V22: 0.5 | W22: 0.5 | X22: 0.5 | Y22: 0.5 | Z22: 0.5 | AA22: 0.5 | AB22: 0.5 | AC22: 0.5 | AD22: 0.5 | AE22: 0.5 | AF22: 0.5 | AG22: 0.5 | AH22: 0.5
A23: 5 | B23: Equipment Standared | D23: 1 | E23: 1 | F23: 1 | G23: 1 | H23: 1 | I23: 1 | J23: 1 | K23: 1 | L23: 1 | M23: 1 | N23: 1 | O23: 1 | P23: 1 | Q23: 1 | R23: 1 | S23: 1 | T23: 1 | U23: 1 | V23: 1 | W23: 1 | X23: 1 | Y23: 1 | Z23: 1 | AA23: 1 | AB23: 1 | AC23: 1 | AD23: 1 | AE23: 1 | AF23: 1 | AG23: 1 | AH23: 1
B24: Wher to store it | C24: Janitor room
B25: Machines | C25: Clean, No bad smell, Not noisy
B26: Tools | C26: Clean, No bad smell,Not torn,and no broken stiks
B27: Chemicals | C27: bottels tobe keept at the tray, and keep it at the janitor room
D28: 1 | E28: 1 | F28: 1 | G28: 1 | H28: 1 | I28: 1 | J28: 1 | K28: 1 | L28: 1 | M28: 1 | N28: 1 | O28: 1 | P28: 1 | Q28: 1 | R28: 1 | S28: 1 | T28: 1 | U28: 1 | V28: 1 | W28: 1 | X28: 1 | Y28: 1 | Z28: 1 | AA28: 1 | AB28: 1 | AC28: 1 | AD28: 1 | AE28: 1 | AF28: 1 | AG28: 1 | AH28: 1
A29: 6 | B29: Safty procedure | D29: 0.5 | E29: 0.5 | F29: 0.5 | G29: 0.5 | H29: 0.5 | I29: 0.5 | J29: 0.5 | K29: 0.5 | L29: 0.5 | M29: 0.5 | N29: 0.5 | O29: 0.5 | P29: 0.5 | Q29: 0.5 | R29: 0.5 | S29: 0.5 | T29: 0.5 | U29: 0.5 | V29: 0.5 | W29: 0.5 | X29: 0.5 | Y29: 0.5 | Z29: 0.5 | AA29: 0.5 | AB29: 0.5 | AC29: 0.5 | AD29: 0.5 | AE29: 0.5 | AF29: 0.5 | AG29: 0.5 | AH29: 0.5
B30: Machines | C30: The cable has no cutting, blug is fixed, warning sign to be used
B31: Tools | C31: Warning sign to be used, no ladder on wet floor
B32: Chemicals | C32: Known, covered, on the properet botteles
B33: Uniform | C33: shoes without heel, and not slippery
D34: ='[1]01'!$G$47 -> 0.5 | E34: ='[1]01'!$G$47 -> 0.5 | F34: ='[1]01'!$G$47 -> 0.5 | G34: ='[1]01'!$G$47 -> 0.5 | H34: ='[1]01'!$G$47 -> 0.5 | I34: ='[1]01'!$G$47 -> 0.5 | J34: ='[1]01'!$G$47 -> 0.5 | K34: ='[1]01'!$G$47 -> 0.5 | ... AH34: ='[1]01'!$G$47 -> 0.5
B36: Total Score | D36: =D4+D9+D13+D20+D23+D29 -> 5 | E36: =E4+E9+E13+E20+E23+E29 -> 5 | F36: =F4+F9+F13+F20+F23+F29 -> 5 | G36: =G4+G9+G13+G20+G23+G29 -> 5 | H36: =H4+H9+H13+H20+H23+H29 -> 5 | I36: =I4+I9+I13+I20+I23+I29 -> 5 | J36: =J4+J9+J13+J20+J23+J29 -> 5 | K36: =K4+K9+K13+K20+K23+K29 -> 5 | ... AH36: =AH4+AH9+AH13+AH20+AH23+AH29 -> 5 | AI36: =SUM(D36:AH36) -> 155
B37: Actual score | D37: =D8+D12+D19+D22+D28+D34 -> 5 | E37: =E8+E12+E19+E22+E28+E34 -> 5 | F37: =F8+F12+F19+F22+F28+F34 -> 5 | G37: =G8+G12+G19+G22+G28+G34 -> 5 | H37: =H8+H12+H19+H22+H28+H34 -> 5 | I37: =I8+I12+I19+I22+I28+I34 -> 5 | J37: =J8+J12+J19+J22+J28+J34 -> 5 | K37: =K8+K12+K19+K22+K28+K34 -> 5 | ... AH37: =AH8+AH12+AH19+AH22+AH28+AH34 -> 5 | AI37: =SUM(D37:AH37) -> 155

Sheet Food hall
B2: Date | D2: 1 | E2: 2 | F2: 3 | G2: 4 | H2: 5 | I2: 6 | J2: 7 | K2: 8 | L2: 9 | M2: 10 | N2: 11 | O2: 12 | P2: 13 | Q2: 14 | R2: 15 | S2: 16 | T2: 17 | U2: 18 | V2: 19 | W2: 20 | X2: 21 | Y2: 22 | Z2: 23 | AA2: 24 | AB2: 25 | AC2: 26 | AD2: 27 | AE2: 28 | AF2: 29 | AG2: 30 | AH2: 31
B3: Area | C3: Standard | D3: Score
A4: 1 | B4: Ceiling | D4: 0.5 | E4: 0.5 | F4: 0.5 | G4: 0.5 | H4: 0.5 | I4: 0.5 | J4: 0.5 | K4: 0.5 | L4: 0.5 | M4: 0.5 | N4: 0.5 | O4: 0.5 | P4: 0.5 | Q4: 0.5 | R4: 0.5 | S4: 0.5 | T4: 0.5 | U4: 0.5 | V4: 0.5 | W4: 0.5 | X4: 0.5 | Y4: 0.5 | Z4: 0.5 | AA4: 0.5 | AB4: 0.5 | AC4: 0.5 | AD4: 0.5 | AE4: 0.5 | AF4: 0.5 | AG4: 0.5 | AH4: 0.5
B5: Pips | C5: Free of dust and no finger prints
B6: Air diffusers | C6: Free of dust and no finger prints
B7: Light fixtures | C7: Free of dust and no finger prints
B8: Actual Score | D8: ='[1]01'!$G$62 -> 0.5 | E8: ='[1]01'!$G$62 -> 0.5 | F8: ='[1]01'!$G$62 -> 0.5 | G8: ='[1]01'!$G$62 -> 0.5 | H8: ='[1]01'!$G$62 -> 0.5 | I8: ='[1]01'!$G$62 -> 0.5 | J8: ='[1]01'!$G$62 -> 0.5 | K8: ='[1]01'!$G$62 -> 0.5 | ... AH8: ='[1]01'!$G$62 -> 0.5
A9: 2 | B9: Walls | D9: 0.5 | E9: 0.5 | F9: 0.5 | G9: 0.5 | H9: 0.5 | I9: 0.5 | J9: 0.5 | K9: 0.5 | L9: 0.5 | M9: 0.5 | N9: 0.5 | O9: 0.5 | P9: 0.5 | Q9: 0.5 | R9: 0.5 | S9: 0.5 | T9: 0.5 | U9: 0.5 | V9: 0.5 | W9: 0.5 | X9: 0.5 | Y9: 0.5 | Z9: 0.5 | AA9: 0.5 | AB9: 0.5 | AC9: 0.5 | AD9: 0.5 | AE9: 0.5 | AF9: 0.5 | AG9: 0.5 | AH9: 0.5
B10: Painted Walls | C10: No finger prints or black marks
B11: Wood walls | C11: Free of dust and no finger prints
B12: Corners and baseboard | C12: Free of dust and black marks
B13: Switches and sockets | C13: Free of dust and no finger prints
B14: Signs | C14: Shiny and no finger prints
B15: Stainless steel work | C15: Free of dust and no finger prints
B16: wood work | C16: Free of dust and no finger prints
B17: Actual Score | D17: ='[1]01'!$G$63 -> 0.5 | E17: ='[1]01'!$G$63 -> 0.5 | F17: ='[1]01'!$G$63 -> 0.5 | G17: ='[1]01'!$G$63 -> 0.5 | H17: ='[1]01'!$G$63 -> 0.5 | I17: ='[1]01'!$G$63 -> 0.5 | J17: ='[1]01'!$G$63 -> 0.5 | K17: ='[1]01'!$G$63 -> 0.5 | ... AH17: ='[1]01'!$G$63 -> 0.5
A18: 3 | B18: Plants pots | D18: 0.5 | E18: 0.5 | F18: 0.5 | G18: 0.5 | H18: 0.5 | I18: 0.5 | J18: 0.5 | K18: 0.5 | L18: 0.5 | M18: 0.5 | N18: 0.5 | O18: 0.5 | P18: 0.5 | Q18: 0.5 | R18: 0.5 | S18: 0.5 | T18: 0.5 | U18: 0.5 | V18: 0.5 | W18: 0.5 | X18: 0.5 | Y18: 0.5 | Z18: 0.5 | AA18: 0.5 | AB18: 0.5 | AC18: 0.5 | AD18: 0.5 | AE18: 0.5 | AF18: 0.5 | AG18: 0.5 | AH18: 0.5
B19: Plants pots | C19: Free of dust and no finger prints
B20: Actual Score | D20: ='[1]01'!$G$64 -> 0.5 | E20: ='[1]01'!$G$64 -> 0.5 | F20: ='[1]01'!$G$64 -> 0.5 | G20: ='[1]01'!$G$64 -> 0.5 | H20: ='[1]01'!$G$64 -> 0.5 | I20: ='[1]01'!$G$64 -> 0.5 | J20: ='[1]01'!$G$64 -> 0.5 | K20: ='[1]01'!$G$64 -> 0.5 | ... AH20: ='[1]01'!$G$64 -> 0.5
A21: 4 | B21: Tables and chairs | D21: 0.5 | E21: 0.5 | F21: 0.5 | G21: 0.5 | H21: 0.5 | I21: 0.5 | J21: 0.5 | K21: 0.5 | L21: 0.5 | M21: 0.5 | N21: 0.5 | O21: 0.5 | P21: 0.5 | Q21: 0.5 | R21: 0.5 | S21: 0.5 | T21: 0.5 | U21: 0.5 | V21: 0.5 | W21: 0.5 | X21: 0.5 | Y21: 0.5 | Z21: 0.5 | AA21: 0.5 | AB21: 0.5 | AC21: 0.5 | AD21: 0.5 | AE21: 0.5 | AF21: 0.5 | AG21: 0.5 | AH21: 0.5
B22: Tables | C22: Free of dust and food and oil spots
B23: Chairs | C23: Free of dust and food and oil spots
B24: Actual Score | D24: ='[1]01'!$G$65 -> 0.5 | E24: ='[1]01'!$G$65 -> 0.5 | F24: ='[1]01'!$G$65 -> 0.5 | G24: ='[1]01'!$G$65 -> 0.5 | H24: ='[1]01'!$G$65 -> 0.5 | I24: ='[1]01'!$G$65 -> 0.5 | J24: ='[1]01'!$G$65 -> 0.5 | K24: ='[1]01'!$G$65 -> 0.5 | ... AH24: ='[1]01'!$G$65 -> 0.5
A25: 5 | B25: Back area | D25: 0.5 | E25: 0.5 | F25: 0.5 | G25: 0.5 | H25: 0.5 | I25: 0.5 | J25: 0.5 | K25: 0.5 | L25: 0.5 | M25: 0.5 | N25: 0.5 | O25: 0.5 | P25: 0.5 | Q25: 0.5 | R25: 0.5 | S25: 0.5 | T25: 0.5 | U25: 0.5 | V25: 0.5 | W25: 0.5 | X25: 0.5 | Y25: 0.5 | Z25: 0.5 | AA25: 0.5 | AB25: 0.5 | AC25: 0.5 | AD25: 0.5 | AE25: 0.5 | AF25: 0.5 | AG25: 0.5 | AH25: 0.5
B26: Dumping area | C26: Free of dust and no finger prints
B27: Staff cafeteria | C27: Free of dust and spots
B28: janitor room | C28: Free of dust and no finger prints
B29: Exite stairs | C29: Free of dust and no finger prints
B30: Staff elevatore area | C30: Free of dust and no finger prints
B31: Electric room and utilites | C31: Free of dust and no finger prints
B32: Actual Score | D32: ='[1]01'!$G$66 -> 0.5 | E32: ='[1]01'!$G$66 -> 0.5 | F32: ='[1]01'!$G$66 -> 0.5 | G32: ='[1]01'!$G$66 -> 0.5 | H32: ='[1]01'!$G$66 -> 0.5 | I32: ='[1]01'!$G$66 -> 0.5 | J32: ='[1]01'!$G$66 -> 0.5 | K32: ='[1]01'!$G$66 -> 0.5 | ... AH32: ='[1]01'!$G$66 -> 0.5
A33: 6 | B33: Green wall area | D33: 0.5 | E33: 0.5 | F33: 0.5 | G33: 0.5 | H33: 0.5 | I33: 0.5 | J33: 0.5 | K33: 0.5 | L33: 0.5 | M33: 0.5 | N33: 0.5 | O33: 0.5 | P33: 0.5 | Q33: 0.5 | R33: 0.5 | S33: 0.5 | T33: 0.5 | U33: 0.5 | V33: 0.5 | W33: 0.5 | X33: 0.5 | Y33: 0.5 | Z33: 0.5 | AA33: 0.5 | AB33: 0.5 | AC33: 0.5 | AD33: 0.5 | AE33: 0.5 | AF33: 0.5 | AG33: 0.5 | AH33: 0.5
B34: Stones | C34: Free of dust and garbage
B35: Water stream | C35: clean and it has no water
B36: Actual Score | D36: ='[1]01'!$G$67 -> 0.5 | E36: ='[1]01'!$G$67 -> 0.5 | F36: ='[1]01'!$G$67 -> 0.5 | G36: ='[1]01'!$G$67 -> 0.5 | H36: ='[1]01'!$G$67 -> 0.5 | I36: ='[1]01'!$G$67 -> 0.5 | J36: ='[1]01'!$G$67 -> 0.5 | K36: ='[1]01'!$G$67 -> 0.5 | ... AH36: ='[1]01'!$G$67 -> 0.5
A37: 7 | B37: Baskets | D37: 0.5 | E37: 0.5 | F37: 0.5 | G37: 0.5 | H37: 0.5 | I37: 0.5 | J37: 0.5 | K37: 0.5 | L37: 0.5 | M37: 0.5 | N37: 0.5 | O37: 0.5 | P37: 0.5 | Q37: 0.5 | R37: 0.5 | S37: 0.5 | T37: 0.5 | U37: 0.5 | V37: 0.5 | W37: 0.5 | X37: 0.5 | Y37: 0.5 | Z37: 0.5 | AA37: 0.5 | AB37: 0.5 | AC37: 0.5 | AD37: 0.5 | AE37: 0.5 | AF37: 0.5 | AG37: 0.5 | AH37: 0.5
B38: Garbage baskets | C38: Clean and shiny and not smelly
B39: Garbage bags | C39: Clean and not smelly
B40: Actual Score | D40: ='[1]01'!$G$68 -> 0.5 | E40: ='[1]01'!$G$68 -> 0.5 | F40: ='[1]01'!$G$68 -> 0.5 | G40: ='[1]01'!$G$68 -> 0.5 | H40: ='[1]01'!$G$68 -> 0.5 | I40: ='[1]01'!$G$68 -> 0.5 | J40: ='[1]01'!$G$68 -> 0.5 | K40: ='[1]01'!$G$68 -> 0.5 | ... AH40: ='[1]01'!$G$68 -> 0.5
A41: 8 | B41: Floors | D41: 0.5 | E41: 0.5 | F41: 0.5 | G41: 0.5 | H41: 0.5 | I41: 0.5 | J41: 0.5 | K41: 0.5 | L41: 0.5 | M41: 0.5 | N41: 0.5 | O41: 0.5 | P41: 0.5 | Q41: 0.5 | R41: 0.5 | S41: 0.5 | T41: 0.5 | U41: 0.5 | V41: 0.5 | W41: 0.5 | X41: 0.5 | Y41: 0.5 | Z41: 0.5 | AA41: 0.5 | AB41: 0.5 | AC41: 0.5 | AD41: 0.5 | AE41: 0.5 | AF41: 0.5 | AG41: 0.5 | AH41: 0.5
B42: Carpet | C42: Free of dust, debris and spots
B43: Hard floors | C43: Free of dust, spots and shiny
B44: Actual Score | D44: ='[1]01'!$G$69 -> 0.5
A45: 9 | B45: Equipment Standared | D45: 0.5 | E45: 0.5 | F45: 0.5 | G45: 0.5 | H45: 0.5 | I45: 0.5 | J45: 0.5 | K45: 0.5 | L45: 0.5 | M45: 0.5 | N45: 0.5 | O45: 0.5 | P45: 0.5 | Q45: 0.5 | R45: 0.5 | S45: 0.5 | T45: 0.5 | U45: 0.5 | V45: 0.5 | W45: 0.5 | X45: 0.5 | Y45: 0.5 | Z45: 0.5 | AA45: 0.5 | AB45: 0.5 | AC45: 0.5 | AD45: 0.5 | AE45: 0.5 | AF45: 0.5 | AG45: 0.5 | AH45: 0.5
B46: Wher to store it | C46: Janitor room
B47: Machines | C47: Clean, No bad smell, Not noisy
B48: Tools | C48: Clean, No bad smell,Not torn,and no broken stiks
B49: Chemicals | C49: bottels tobe keept at the tray, and keep it at the janitor room
B50: Actual Score | D50: ='[1]01'!$G$70 -> 0.5 | E50: ='[1]01'!$G$70 -> 0.5 | F50: ='[1]01'!$G$70 -> 0.5 | G50: ='[1]01'!$G$70 -> 0.5 | H50: ='[1]01'!$G$70 -> 0.5 | I50: ='[1]01'!$G$70 -> 0.5 | J50: ='[1]01'!$G$70 -> 0.5 | K50: ='[1]01'!$G$70 -> 0.5 | ... AH50: ='[1]01'!$G$70 -> 0.5
A51: 10 | B51: Safty procedure | D51: 0.5 | E51: 0.5 | F51: 0.5 | G51: 0.5 | H51: 0.5 | I51: 0.5 | J51: 0.5 | K51: 0.5 | L51: 0.5 | M51: 0.5 | N51: 0.5 | O51: 0.5 | P51: 0.5 | Q51: 0.5 | R51: 0.5 | S51: 0.5 | T51: 0.5 | U51: 0.5 | V51: 0.5 | W51: 0.5 | X51: 0.5 | Y51: 0.5 | Z51: 0.5 | AA51: 0.5 | AB51: 0.5 | AC51: 0.5 | AD51: 0.5 | AE51: 0.5 | AF51: 0.5 | AG51: 0.5 | AH51: 0.5
B52: Machines | C52: The cable has no cutting, blug is fixed, warning sign to be used
B53: Tools | C53: Warning sign to be used, no ladder on wet floor
B54: Chemicals | C54: Known, covered, on the properet botteles
B55: Uniform | C55: shoes without heel, and not slippery
B56: Actual Score | D56: ='[1]01'!$G$71 -> 0.5 | E56: ='[1]01'!$G$71 -> 0.5 | F56: ='[1]01'!$G$71 -> 0.5 | G56: ='[1]01'!$G$71 -> 0.5 | H56: ='[1]01'!$G$71 -> 0.5 | I56: ='[1]01'!$G$71 -> 0.5 | J56: ='[1]01'!$G$71 -> 0.5 | K56: ='[1]01'!$G$71 -> 0.5 | ... AH56: ='[1]01'!$G$71 -> 0.5
B58: Total Score | D58: =D4+D9+D18+D21+D25+D33+D37+D41+D45+D51 -> 5 | E58: =E4+E9+E18+E21+E25+E33+E37+E41+E45+E51 -> 5 | F58: =F4+F9+F18+F21+F25+F33+F37+F41+F45+F51 -> 5 | G58: =G4+G9+G18+G21+G25+G33+G37+G41+G45+G51 -> 5 | H58: =H4+H9+H18+H21+H25+H33+H37+H41+H45+H51 -> 5 | I58: =I4+I9+I18+I21+I25+I33+I37+I41+I45+I51 -> 5 | J58: =J4+J9+J18+J21+J25+J33+J37+J41+J45+J51 -> 5 | K58: =K4+K9+K18+K21+K25+K33+K37+K41+K45+K51 -> 5 | ... AH58: =AH4+AH9+AH18+AH21+AH25+AH33+AH37+AH41+AH45+AH51 -> 5 | AI58: =SUM(D58:AH58) -> 155
B59: Total Actual Score | D59: =D8+D17+D20+D24+D32+D36+D40+D44+D50+D56 -> 5 | E59: =E8+E17+E20+E24+E32+E36+E40+E44+E50+E56 -> 4.5 | F59: =F8+F17+F20+F24+F32+F36+F40+F44+F50+F56 -> 4.5 | G59: =G8+G17+G20+G24+G32+G36+G40+G44+G50+G56 -> 4.5 | H59: =H8+H17+H20+H24+H32+H36+H40+H44+H50+H56 -> 4.5 | I59: =I8+I17+I20+I24+I32+I36+I40+I44+I50+I56 -> 4.5 | J59: =J8+J17+J20+J24+J32+J36+J40+J44+J50+J56 -> 4.5 | K59: =K8+K17+K20+K24+K32+K36+K40+K44+K50+K56 -> 4.5 | ... AH59: =AH8+AH17+AH20+AH24+AH32+AH36+AH40+AH44+AH50+AH56 -> 4.5 | AI59: =SUM(D59:AH60) -> 140

Sheet Sky light &canopies
D2: 1 | E2: 2 | F2: 3 | G2: 4 | H2: 5 | I2: 6 | J2: 7 | K2: 8 | L2: 9 | M2: 10 | N2: 11 | O2: 12 | P2: 13 | Q2: 14 | R2: 15 | S2: 16 | T2: 17 | U2: 18 | V2: 19 | W2: 20 | X2: 21 | Y2: 22 | Z2: 23 | AA2: 24 | AB2: 25 | AC2: 26 | AD2: 27 | AE2: 28 | AF2: 29 | AG2: 30 | AH2: 31
B3: Area | C3: Standard | D3: Score
A4: 1 | B4: Green wall Sky light | D4: 1 | E4: 1 | F4: 1 | G4: 1 | H4: 1 | I4: 1 | J4: 1 | K4: 1 | L4: 1 | M4: 1 | N4: 1 | O4: 1 | P4: 1 | Q4: 1 | R4: 1 | S4: 1 | T4: 1 | U4: 1 | V4: 1 | W4: 1 | X4: 1 | Y4: 1 | Z4: 1 | AA4: 1 | AB4: 1 | AC4: 1 | AD4: 1 | AE4: 1 | AF4: 1 | AG4: 1 | AH4: 1
B5: Green wall sky light | C5: Free of dust and, shiny no finger prints or shads
B6: Green wall sky light sides | C6: Free of dust and, shiny no finger prints or shads
B7: Green wall sky light frames | C7: Free of dust and, shiny no finger prints or shads
B8: Green wall sky light (internal) | C8: Free of dust and, shiny no finger prints or shads
B9: Marble | C9: Free of dust and, shiny no finger prints or shads
B10: Light fixtures | C10: Free of dust and no finger prints or black shades
D11: ='[1]01'!$K$4 -> 1 | E11: ='[1]01'!$K$4 -> 1 | F11: ='[1]01'!$K$4 -> 1 | G11: ='[1]01'!$K$4 -> 1 | H11: ='[1]01'!$K$4 -> 1 | I11: ='[1]01'!$K$4 -> 1 | J11: ='[1]01'!$K$4 -> 1 | K11: ='[1]01'!$K$4 -> 1 | ... AH11: ='[1]01'!$K$4 -> 1
A12: 2 | B12: Escalator Sky light | D12: 1 | E12: 1 | F12: 1 | G12: 1 | H12: 1 | I12: 1 | J12: 1 | K12: 1 | L12: 1 | M12: 1 | N12: 1 | O12: 1 | P12: 1 | Q12: 1 | R12: 1 | S12: 1 | T12: 1 | U12: 1 | V12: 1 | W12: 1 | X12: 1 | Y12: 1 | Z12: 1 | AA12: 1 | AB12: 1 | AC12: 1 | AD12: 1 | AE12: 1 | AF12: 1 | AG12: 1 | AH12: 1
B13: Escalator sky light sides | C13: Free of dust and, shiny no finger prints or shads
B14: Escalator sky light frames | C14: Free of dust and, shiny no finger prints or shads
B15: Escalator sky light (internal) | C15: Free of dust and, shiny no finger prints or shads
B16: Marble | C16: Free of dust and, shiny no finger prints or shads
B17: Light fixtures | C17: Free of dust and no finger prints or black shades
D18: 1 | E18: 1 | F18: 1 | G18: 1 | H18: 1 | I18: 1 | J18: 1 | K18: 1 | L18: 1 | M18: 1 | N18: 1 | O18: 1 | P18: 1 | Q18: 1 | R18: 1 | S18: 1 | T18: 1 | U18: 1 | V18: 1 | W18: 1 | X18: 1 | Y18: 1 | Z18: 1 | AA18: 1 | AB18: 1 | AC18: 1 | AD18: 1 | AE18: 1 | AF18: 1 | AG18: 1 | AH18: 1
A19: 3 | B19: louvers and canopies | D19: 1 | E19: 1 | F19: 1 | G19: 1 | H19: 1 | I19: 1 | J19: 1 | K19: 1 | L19: 1 | M19: 1 | N19: 1 | O19: 1 | P19: 1 | Q19: 1 | R19: 1 | S19: 1 | T19: 1 | U19: 1 | V19: 1 | W19: 1 | X19: 1 | Y19: 1 | Z19: 1 | AA19: 1 | AB19: 1 | AC19: 1 | AD19: 1 | AE19: 1 | AF19: 1 | AG19: 1 | AH19: 1
B20: Slides | C20: Free of dust dirts and black marks
B21: Corners | C21: Free of dust dirts and black marks
B22: Light fixtures | C22: Free of dust and no finger prints or black shades
B23: Signs | C23: Free of dust and, shiny no finger prints or shads
D24: ='[1]01'!$K$4 -> 1 | E24: ='[1]01'!$K$4 -> 1 | F24: ='[1]01'!$K$4 -> 1 | G24: ='[1]01'!$K$4 -> 1 | H24: ='[1]01'!$K$4 -> 1 | I24: ='[1]01'!$K$4 -> 1 | J24: ='[1]01'!$K$4 -> 1 | K24: ='[1]01'!$K$4 -> 1 | ... AH24: ='[1]01'!$K$4 -> 1
A25: 4 | B25: Equipment Standared | D25: 1 | E25: 1 | F25: 1 | G25: 1 | H25: 1 | I25: 1 | J25: 1 | K25: 1 | L25: 1 | M25: 1 | N25: 1 | O25: 1 | P25: 1 | Q25: 1 | R25: 1 | S25: 1 | T25: 1 | U25: 1 | V25: 1 | W25: 1 | X25: 1 | Y25: 1 | Z25: 1 | AA25: 1 | AB25: 1 | AC25: 1 | AD25: 1 | AE25: 1 | AF25: 1 | AG25: 1 | AH25: 1
B26: Wher to store it | C26: Janitor room
B27: Machines | C27: Clean, No bad smell, Not noisy
B28: Tools | C28: Clean, No bad smell,Not torn,and no broken stiks
B29: Chemicals | C29: bottels tobe keept at the tray, and keep it at the janitor room
D30: ='[1]01'!$K$4 -> 1 | E30: ='[1]01'!$K$4 -> 1 | F30: ='[1]01'!$K$4 -> 1 | G30: ='[1]01'!$K$4 -> 1 | H30: ='[1]01'!$K$4 -> 1 | I30: ='[1]01'!$K$4 -> 1 | J30: ='[1]01'!$K$4 -> 1 | K30: ='[1]01'!$K$4 -> 1 | ... Q30: ='[1]01'!$K$4 -> 1 | R30: 0.5 | S30: 0.5 | T30: 0.5 | U30: 0.5 | V30: 0.5 | W30: ='[1]01'!$K$4 -> 1 | X30: 0.5 | Y30: 0.5 | Z30: 0.5 | AA30: 0.5 | AB30: 0.5 | AC30: ='[1]01'!$K$4 -> 1 | AD30: ='[1]01'!$K$4 -> 1 | AE30: ='[1]01'!$K$4 -> 1 | AF30: ='[1]01'!$K$4 -> 1 | AG30: ='[1]01'!$K$4 -> 1 | AH30: ='[1]01'!$K$4 -> 1
A31: 5 | B31: Safty procedure | D31: 1 | E31: 1 | F31: 1 | G31: 1 | H31: 1 | I31: 1 | J31: 1 | K31: 1 | L31: 1 | M31: 1 | N31: 1 | O31: 1 | P31: 1 | Q31: 1 | R31: 1 | S31: 1 | T31: 1 | U31: 1 | V31: 1 | W31: 1 | X31: 1 | Y31: 1 | Z31: 1 | AA31: 1 | AB31: 1 | AC31: 1 | AD31: 1 | AE31: 1 | AF31: 1 | AG31: 1 | AH31: 1
B32: Machines | C32: The cable has no cutting, blug is fixed, warning sign to be used
B33: Tools | C33: Warning sign to be used, no ladder on wet floor
B34: Chemicals | C34: Known, covered, on the properet botteles
B35: Uniform | C35: shoes without heel, and not slippery
D36: ='[1]01'!$K$4 -> 1 | E36: ='[1]01'!$K$4 -> 1 | F36: ='[1]01'!$K$4 -> 1 | G36: ='[1]01'!$K$4 -> 1 | H36: ='[1]01'!$K$4 -> 1 | I36: ='[1]01'!$K$4 -> 1 | J36: ='[1]01'!$K$4 -> 1 | K36: ='[1]01'!$K$4 -> 1 | ... AH36: ='[1]01'!$K$4 -> 1
B38: Total Score | D38: =D4+D12+D19+D25+D31 -> 5 | E38: =E4+E12+E19+E25+E31 -> 5 | F38: =F4+F12+F19+F25+F31 -> 5 | G38: =G4+G12+G19+G25+G31 -> 5 | H38: =H4+H12+H19+H25+H31 -> 5 | I38: =I4+I12+I19+I25+I31 -> 5 | J38: =J4+J12+J19+J25+J31 -> 5 | K38: =K4+K12+K19+K25+K31 -> 5 | ... AH38: =AH4+AH12+AH19+AH25+AH31 -> 5 | AI38: =SUM(D38:AH38) -> 155
B39: Actual score | D39: =D11+D18+D24+D30+D36 -> 5 | E39: =E11+E18+E24+E30+E36 -> 5 | F39: =F11+F18+F24+F30+F36 -> 5 | G39: =G11+G18+G24+G30+G36 -> 5 | H39: =H11+H18+H24+H30+H36 -> 5 | I39: =I11+I18+I24+I30+I36 -> 5 | J39: =J11+J18+J24+J30+J36 -> 5 | K39: =K11+K18+K24+K30+K36 -> 5 | ... AH39: =AH11+AH18+AH24+AH30+AH36 -> 5 | AI39: =SUM(D39:AH39) -> 150

Sheet Basement
D2: 1 | E2: 2 | F2: 3 | G2: 4 | H2: 5 | I2: 6 | J2: 7 | K2: 8 | L2: 9 | M2: 10 | N2: 11 | O2: 12 | P2: 13 | Q2: 14 | R2: 15 | S2: 16 | T2: 17 | U2: 18 | V2: 19 | W2: 20 | X2: 21 | Y2: 22 | Z2: 23 | AA2: 24 | AB2: 25 | AC2: 26 | AD2: 27 | AE2: 28 | AF2: 29 | AG2: 30 | AH2: 31
B3: Area | C3: Standard | D3: Score | E3: Score | F3: Score | G3: Score | H3: Score | I3: Score | J3: Score | K3: Score | L3: Score | M3: Score | N3: Score | O3: Score | P3: Score | Q3: Score | R3: Score | S3: Score | T3: Score | U3: Score | V3: Score | W3: Score | X3: Score | Y3: Score | Z3: Score | AA3: Score | AB3: Score | AC3: Score | AD3: Score | AE3: Score | AF3: Score | AG3: Score | AH3: Score
A4: 1 | B4: Ceiling | D4: 0.5 | E4: 0.5 | F4: 0.5 | G4: 0.5 | H4: 0.5 | I4: 0.5 | J4: 0.5 | K4: 0.5 | L4: 0.5 | M4: 0.5 | N4: 0.5 | O4: 0.5 | P4: 0.5 | Q4: 0.5 | R4: 0.5 | S4: 0.5 | T4: 0.5 | U4: 0.5 | V4: 0.5 | W4: 0.5 | X4: 0.5 | Y4: 0.5 | Z4: 0.5 | AA4: 0.5 | AB4: 0.5 | AC4: 0.5 | AD4: 0.5 | AE4: 0.5 | AF4: 0.5 | AG4: 0.5 | AH4: 0.5
B5: Pips | C5: Free of dust and no finger prints
B6: Air diffusers | C6: Free of dust and no finger prints
B7: Light fixtures | C7: Free of dust and no finger prints
D8: ='[1]01'!$K$11 -> 0.5 | E8: ='[1]01'!$K$11 -> 0.5 | F8: ='[1]01'!$K$11 -> 0.5 | G8: ='[1]01'!$K$11 -> 0.5 | H8: ='[1]01'!$K$11 -> 0.5 | I8: ='[1]01'!$K$11 -> 0.5 | J8: ='[1]01'!$K$11 -> 0.5 | K8: ='[1]01'!$K$11 -> 0.5 | ... AH8: ='[1]01'!$K$11 -> 0.5
A9: 2 | B9: Walls | D9: 0.5 | E9: 0.5 | F9: 0.5 | G9: 0.5 | H9: 0.5 | I9: 0.5 | J9: 0.5 | K9: 0.5 | L9: 0.5 | M9: 0.5 | N9: 0.5 | O9: 0.5 | P9: 0.5 | Q9: 0.5 | R9: 0.5 | S9: 0.5 | T9: 0.5 | U9: 0.5 | V9: 0.5 | W9: 0.5 | X9: 0.5 | Y9: 0.5 | Z9: 0.5 | AA9: 0.5 | AB9: 0.5 | AC9: 0.5 | AD9: 0.5 | AE9: 0.5 | AF9: 0.5 | AG9: 0.5 | AH9: 0.5
B10: Painted Walls | C10: No finger prints or black marks
B11: Corners and baseboard | C11: Free of dust dirts and black marks
B12: Corner guards | C12: Free of dust dirts and black marks
B13: Switches and sockets | C13: Free of dust and no finger prints
B14: Signs and mirrors | C14: free of dust, Shiny and no finger prints
D15: ='[1]01'!$K$11 -> 0.5 | E15: ='[1]01'!$K$11 -> 0.5 | F15: ='[1]01'!$K$11 -> 0.5 | G15: ='[1]01'!$K$11 -> 0.5 | H15: ='[1]01'!$K$11 -> 0.5 | I15: ='[1]01'!$K$11 -> 0.5 | J15: ='[1]01'!$K$11 -> 0.5 | K15: ='[1]01'!$K$11 -> 0.5 | ... AH15: ='[1]01'!$K$11 -> 0.5
A16: 3 | B16: Fire Boxes and extinguisher | D16: 0.5 | E16: 0.5 | F16: 0.5 | G16: 0.5 | H16: 0.5 | I16: 0.5 | J16: 0.5 | K16: 0.5 | L16: 0.5 | M16: 0.5 | N16: 0.5 | O16: 0.5 | P16: 0.5 | Q16: 0.5 | R16: 0.5 | S16: 0.5 | T16: 0.5 | U16: 0.5 | V16: 0.5 | W16: 0.5 | X16: 0.5 | Y16: 0.5 | Z16: 0.5 | AA16: 0.5 | AB16: 0.5 | AC16: 0.5 | AD16: 0.5 | AE16: 0.5 | AF16: 0.5 | AG16: 0.5 | AH16: 0.5
B17: Box in and out | C17: Free of dust, debris and garbage
B18: Fire extinguisher and holder | C18: Free of dust, spots
D19: ='[1]01'!$K$11 -> 0.5 | E19: ='[1]01'!$K$11 -> 0.5 | F19: ='[1]01'!$K$11 -> 0.5 | G19: ='[1]01'!$K$11 -> 0.5 | H19: ='[1]01'!$K$11 -> 0.5 | I19: ='[1]01'!$K$11 -> 0.5 | J19: ='[1]01'!$K$11 -> 0.5 | K19: ='[1]01'!$K$11 -> 0.5 | ... AH19: ='[1]01'!$K$11 -> 0.5
A20: 4 | B20: Floors | D20: 0.5 | E20: 0.5 | F20: 0.5 | G20: 0.5 | H20: 0.5 | I20: 0.5 | J20: 0.5 | K20: 0.5 | L20: 0.5 | M20: 0.5 | N20: 0.5 | O20: 0.5 | P20: 0.5 | Q20: 0.5 | R20: 0.5 | S20: 0.5 | T20: 0.5 | U20: 0.5 | V20: 0.5 | W20: 0.5 | X20: 0.5 | Y20: 0.5 | Z20: 0.5 | AA20: 0.5 | AB20: 0.5 | AC20: 0.5 | AD20: 0.5 | AE20: 0.5 | AF20: 0.5 | AG20: 0.5 | AH20: 0.5
B21: Hard epoxy | C21: Free of dust, spots, sand and black marks
B22: Soft epoxy | C22: Free of dust, spots, sand and black marks
B23: Drains | C23: Clean and not blocked
D24: ='[1]01'!$K$11 -> 0.5 | E24: ='[1]01'!$K$11 -> 0.5 | F24: ='[1]01'!$K$11 -> 0.5 | G24: ='[1]01'!$K$11 -> 0.5 | H24: ='[1]01'!$K$11 -> 0.5 | I24: ='[1]01'!$K$11 -> 0.5 | J24: ='[1]01'!$K$11 -> 0.5 | K24: ='[1]01'!$K$11 -> 0.5 | ... AH24: ='[1]01'!$K$11 -> 0.5
A25: 5 | B25: Bumps, and barriers | D25: 0.5 | E25: 0.5 | F25: 0.5 | G25: 0.5 | H25: 0.5 | I25: 0.5 | J25: 0.5 | K25: 0.5 | L25: 0.5 | M25: 0.5 | N25: 0.5 | O25: 0.5 | P25: 0.5 | Q25: 0.5 | R25: 0.5 | S25: 0.5 | T25: 0.5 | U25: 0.5 | V25: 0.5 | W25: 0.5 | X25: 0.5 | Y25: 0.5 | Z25: 0.5 | AA25: 0.5 | AB25: 0.5 | AC25: 0.5 | AD25: 0.5 | AE25: 0.5 | AF25: 0.5 | AG25: 0.5 | AH25: 0.5
B26: Bumps | C26: Free of dust, spots, sand and black marks
B27: Bumps corners | C27: Free of dust, and sand
B28: Barriers | C28: Free of dust, spots, and black marks
D29: ='[1]01'!$K$11 -> 0.5 | E29: ='[1]01'!$K$11 -> 0.5 | F29: ='[1]01'!$K$11 -> 0.5 | G29: ='[1]01'!$K$11 -> 0.5 | H29: ='[1]01'!$K$11 -> 0.5 | I29: ='[1]01'!$K$11 -> 0.5 | J29: ='[1]01'!$K$11 -> 0.5 | K29: ='[1]01'!$K$11 -> 0.5 | ... AH29: ='[1]01'!$K$11 -> 0.5
A30: 6 | B30: Ramps | D30: 1 | E30: 1 | F30: 1 | G30: 1 | H30: 1 | I30: 1 | J30: 1 | K30: 1 | L30: 1 | M30: 1 | N30: 1 | O30: 1 | P30: 1 | Q30: 1 | R30: 1 | S30: 1 | T30: 1 | U30: 1 | V30: 1 | W30: 1 | X30: 1 | Y30: 1 | Z30: 1 | AA30: 1 | AB30: 1 | AC30: 1 | AD30: 1 | AE30: 1 | AF30: 1 | AG30: 1 | AH30: 1
B31: Marble sides
B32: Exhaust rooms
B33: Light fixtures
B34: Park door
B35: Ceiling
B36: Pips
B37: Park machines
B38: Barriers
B39: Side walk
B40: Basalt floor
D41: 1 | E41: 1 | F41: 1 | G41: 1 | H41: 1 | I41: 1 | J41: 1 | K41: 1 | L41: 1 | M41: 1 | N41: 1 | O41: 1 | P41: 1 | Q41: 1 | R41: 1 | S41: 1 | T41: 1 | U41: 1 | V41: 1 | W41: 1 | X41: 1 | Y41: 1 | Z41: 1 | AA41: 1 | AB41: 1 | AC41: 1 | AD41: 1 | AE41: 1 | AF41: 1 | AG41: 1 | AH41: 1
A42: 7 | B42: Maintenance offices & Micanical rooms | D42: 0.5 | E42: 0.5 | F42: 0.5 | G42: 0.5 | H42: 0.5 | I42: 0.5 | J42: 0.5 | K42: 0.5 | L42: 0.5 | M42: 0.5 | N42: 0.5 | O42: 0.5 | P42: 0.5 | Q42: 0.5 | R42: 0.5 | S42: 0.5 | T42: 0.5 | U42: 0.5 | V42: 0.5 | W42: 0.5 | X42: 0.5 | Y42: 0.5 | Z42: 0.5 | AA42: 0.5 | AB42: 0.5 | AC42: 0.5 | AD42: 0.5 | AE42: 0.5 | AF42: 0.5 | AG42: 0.5 | AH42: 0.5
B43: Pips | C43: Free of dust and no finger prints
B44: Air diffusers | C44: Free of dust and no finger prints
B45: Light fixtures | C45: Free of dust and no finger prints
B46: Painted Walls | C46: No finger prints or black marks
B47: Corners and baseboard | C47: Free of dust and black marks
B48: Switches and sockets | C48: Free of dust and no finger prints
B49: Signs | C49: Shiny and no finger prints
B50: Stainless steel work | C50: Free of dust and no finger prints
B51: Desks | C51: Free of dust and no finger prints
B52: Computers & electronic eqt, screens, cables etc. | C52: Free of dust and no finger prints
B53: Cupboards | C53: Free of dust and no finger prints
B54: Corner and center tables | C54: Free of dust and no finger prints
... B56: Garbage bags | C56: Clean and not smelly
D57: ='[1]01'!$K$11 -> 0.5 | E57: ='[1]01'!$K$11 -> 0.5 | F57: ='[1]01'!$K$11 -> 0.5 | G57: ='[1]01'!$K$11 -> 0.5 | H57: ='[1]01'!$K$11 -> 0.5 | I57: ='[1]01'!$K$11 -> 0.5 | J57: ='[1]01'!$K$11 -> 0.5 | K57: ='[1]01'!$K$11 -> 0.5 | ... AH57: ='[1]01'!$K$11 -> 0.5
A58: 8 | B58: Equipment Standared | D58: 0.5 | E58: 0.5 | F58: 0.5 | G58: 0.5 | H58: 0.5 | I58: 0.5 | J58: 0.5 | K58: 0.5 | L58: 0.5 | M58: 0.5 | N58: 0.5 | O58: 0.5 | P58: 0.5 | Q58: 0.5 | R58: 0.5 | S58: 0.5 | T58: 0.5 | U58: 0.5 | V58: 0.5 | W58: 0.5 | X58: 0.5 | Y58: 0.5 | Z58: 0.5 | AA58: 0.5 | AB58: 0.5 | AC58: 0.5 | AD58: 0.5 | AE58: 0.5 | AF58: 0.5 | AG58: 0.5 | AH58: 0.5
B59: Wher to store it | C59: Janitor room
B60: Machines | C60: Clean, No bad smell, Not noisy
B61: Tools | C61: Clean, No bad smell,Not torn,and no broken stiks
B62: Chemicals | C62: bottels tobe keept at the tray, and keep it at the janitor room
D63: ='[1]01'!$K$11 -> 0.5 | E63: ='[1]01'!$K$11 -> 0.5 | F63: ='[1]01'!$K$11 -> 0.5 | G63: ='[1]01'!$K$11 -> 0.5 | H63: ='[1]01'!$K$11 -> 0.5 | I63: ='[1]01'!$K$11 -> 0.5 | J63: ='[1]01'!$K$11 -> 0.5 | K63: ='[1]01'!$K$11 -> 0.5 | ... AH63: ='[1]01'!$K$11 -> 0.5
A64: 9 | B64: Safty procedure | D64: 0.5 | E64: 0.5 | F64: 0.5 | G64: 0.5 | H64: 0.5 | I64: 0.5 | J64: 0.5 | K64: 0.5 | L64: 0.5 | M64: 0.5 | N64: 0.5 | O64: 0.5 | P64: 0.5 | Q64: 0.5 | R64: 0.5 | S64: 0.5 | T64: 0.5 | U64: 0.5 | V64: 0.5 | W64: 0.5 | X64: 0.5 | Y64: 0.5 | Z64: 0.5 | AA64: 0.5 | AB64: 0.5 | AC64: 0.5 | AD64: 0.5 | AE64: 0.5 | AF64: 0.5 | AG64: 0.5 | AH64: 0.5
B65: Machines | C65: The cable has no cutting, blug is fixed, warning sign to be used
B66: Tools | C66: Warning sign to be used, no ladder on wet floor
B67: Chemicals | C67: Known, covered, on the properet botteles
B68: Uniform | C68: shoes without heel, and not slippery
D69: ='[1]01'!$K$11 -> 0.5 | E69: ='[1]01'!$K$11 -> 0.5 | F69: ='[1]01'!$K$11 -> 0.5 | G69: ='[1]01'!$K$11 -> 0.5 | H69: ='[1]01'!$K$11 -> 0.5 | I69: ='[1]01'!$K$11 -> 0.5 | J69: ='[1]01'!$K$11 -> 0.5 | K69: ='[1]01'!$K$11 -> 0.5 | ... AH69: ='[1]01'!$K$11 -> 0.5
B71: Total Score | D71: =D4+D9+D16+D20+D25+D30+D42+D58+D64 -> 5 | E71: =E4+E9+E16+E20+E25+E30+E42+E58+E64 -> 5 | F71: =F4+F9+F16+F20+F25+F30+F42+F58+F64 -> 5 | G71: =G4+G9+G16+G20+G25+G30+G42+G58+G64 -> 5 | H71: =H4+H9+H16+H20+H25+H30+H42+H58+H64 -> 5 | I71: =I4+I9+I16+I20+I25+I30+I42+I58+I64 -> 5 | J71: =J4+J9+J16+J20+J25+J30+J42+J58+J64 -> 5 | K71: =K4+K9+K16+K20+K25+K30+K42+K58+K64 -> 5 | ... AH71: =AH4+AH9+AH16+AH20+AH25+AH30+AH42+AH58+AH64 -> 5 | AI71: =SUM(D71:AH71) -> 155
B72: Actual score | D72: =D8+D15+D19+D24+D29+D41+D57+D63+D69 -> 5 | E72: =E8+E15+E19+E24+E29+E41+E57+E63+E69 -> 5 | F72: =F8+F15+F19+F24+F29+F41+F57+F63+F69 -> 5 | G72: =G8+G15+G19+G24+G29+G41+G57+G63+G69 -> 5 | H72: =H8+H15+H19+H24+H29+H41+H57+H63+H69 -> 5 | I72: =I8+I15+I19+I24+I29+I41+I57+I63+I69 -> 5 | J72: =J8+J15+J19+J24+J29+J41+J57+J63+J69 -> 5 | K72: =K8+K15+K19+K24+K29+K41+K57+K63+K69 -> 5 | ... AH72: =AH8+AH15+AH19+AH24+AH29+AH41+AH57+AH63+AH69 -> 5 | AI72: =SUM(D72:AH72) -> 155

Sheet Attendance
B2: 1 | H2: 2 | N2: 3 | T2: 4 | Z2: 5 | AF2: 6 | AL2: 7 | AR2: 8 | AX2: 9 | BD2: 10 | BJ2: 11 | BP2: 12 | BV2: 13 | CB2: 14 | CH2: 15 | CN2: 16 | CT2: 17 | CZ2: 18 | DF2: 19 | DL2: 20 | DR2: 21 | DX2: 22 | ED2: 23 | EJ2: 24 | EP2: 25 | EV2: 26 | FB2: 27 | FH2: 28 | FN2: 29 | FT2: 30 | FZ2: 31 | GF2: Total
B3: AM | D3: PM | F3: Night | H3: AM | J3: PM | L3: Night | N3: AM | P3: PM | R3: Night | T3: AM | V3: PM | X3: Night | Z3: AM | AB3: PM | AD3: Night | AF3: AM | AH3: PM | AJ3: Night | AL3: AM | AN3: PM | AP3: Night | AR3: AM | AT3: PM | AV3: Night | AX3: AM | AZ3: PM | BB3: Night | BD3: AM | BF3: PM | BH3: Night | BJ3: AM | BL3: PM | BN3: Night | BP3: AM | BR3: PM | BT3: Night | BV3: AM | BX3: PM | BZ3: Night | CB3: AM | CD3: PM | CF3: Night | CH3: AM | CJ3: PM | CL3: Night | CN3: AM | CP3: PM | CR3: Night | CT3: AM | CV3: PM | CX3: Night | CZ3: AM | DB3: PM | DD3: Night | DF3: AM | DH3: PM | DJ3: Night | DL3: AM | DN3: PM | DP3: Night | DR3: AM | DT3: PM | DV3: Night | DX3: AM | DZ3: PM | EB3: Night | ED3: AM | EF3: PM | EH3: Night | EJ3: AM | EL3: PM | EN3: Night | EP3: AM | ER3: PM | ET3: Night | EV3: AM | EX3: PM | EZ3: Night | FB3: AM | FD3: PM | FF3: Night | FH3: AM | FJ3: PM | FL3: Night | FN3: AM | FP3: PM | FR3: Night | FT3: AM | FV3: PM | FX3: Night | FZ3: AM | GB3: PM | GD3: Night
B4: Cont | C4: Act | D4: Cont | E4: Act | F4: Cont | G4: Act | H4: Cont | I4: Act | J4: Cont | K4: Act | L4: Cont | M4: Act | N4: Cont | O4: Act | P4: Cont | Q4: Act | R4: Cont | S4: Act | T4: Cont | U4: Act | V4: Cont | W4: Act | X4: Cont | Y4: Act | Z4: Cont | AA4: Act | AB4: Cont | AC4: Act | AD4: Cont | AE4: Act | AF4: Cont | AG4: Act | AH4: Cont | AI4: Act | AJ4: Cont | AK4: Act | AL4: Cont | AM4: Act | AN4: Cont | AO4: Act | AP4: Cont | AQ4: Act | AR4: Cont | AS4: Act | AT4: Cont | AU4: Act | AV4: Cont | AW4: Act | AX4: Cont | AY4: Act | AZ4: Cont | BA4: Act | BB4: Cont | BC4: Act | BD4: Cont | BE4: Act | BF4: Cont | BG4: Act | BH4: Cont | BI4: Act | BJ4: Cont | BK4: Act | BL4: Cont | BM4: Act | BN4: Cont | BO4: Act | BP4: Cont | BQ4: Act | BR4: Cont | BS4: Act | BT4: Cont | BU4: Act | BV4: Cont | BW4: Act | BX4: Cont | BY4: Act | BZ4: Cont | CA4: Act | CB4: Cont | CC4: Act | CD4: Cont | CE4: Act | CF4: Cont | CG4: Act | CH4: Cont | CI4: Act | CJ4: Cont | CK4: Act | CL4: Cont | CM4: Act | CN4: Cont | CO4: Act | CP4: Cont | CQ4: Act | CR4: Cont | CS4: Act | CT4: Cont | CU4: Act | CV4: Cont | CW4: Act | CX4: Cont | CY4: Act | CZ4: Cont | DA4: Act | DB4: Cont | DC4: Act | DD4: Cont | DE4: Act | DF4: Cont | DG4: Act | DH4: Cont | DI4: Act | DJ4: Cont | DK4: Act | DL4: Cont | DM4: Act | DN4: Cont | DO4: Act | DP4: Cont | DQ4: Act | DR4: Cont | DS4: Act | DT4: Cont | DU4: Act | DV4: Cont | DW4: Act | DX4: Cont | DY4: Act | DZ4: Cont | EA4: Act | EB4: Cont | EC4: Act | ED4: Cont | EE4: Act | EF4: Cont | EG4: Act | EH4: Cont | EI4: Act | EJ4: Cont | EK4: Act | EL4: Cont | EM4: Act | EN4: Cont | EO4: Act | EP4: Cont | EQ4: Act | ER4: Cont | ES4: Act | ET4: Cont | EU4: Act | EV4: Cont | EW4: Act | EX4: Cont | EY4: Act | EZ4: Cont | FA4: Act | FB4: Cont | FC4: Act | FD4: Cont | FE4: Act | FF4: Cont | FG4: Act | FH4: Cont | FI4: Act | FJ4: Cont | FK4: Act | FL4: Cont | FM4: Act | FN4: Cont | FO4: Act | FP4: Cont | FQ4: Act | FR4: Cont | FS4: Act | FT4: Cont | FU4: Act | FV4: Cont | FW4: Act | FX4: Cont | FY4: Act | FZ4: Cont | GA4: Act | GB4: Cont | GC4: Act | GD4: Cont | GE4: Act
A5: Supervisors | B5: 2 | C5: ='[1]01'!$K$24 -> 2 | D5: 2 | E5: 2 | F5: 2 | G5: 2 | H5: 2 | I5: ='[1]01'!$K$24 -> 2 | J5: 2 | K5: 2 | L5: 2 | M5: 2 | N5: 2 | O5: ='[1]01'!$K$24 -> 2 | P5: 2 | Q5: 2 | R5: 2 | S5: 2 | T5: 2 | U5: ='[1]01'!$K$24 -> 2 | V5: 2 | W5: 2 | X5: 2 | Y5: 2 | Z5: 2 | AA5: ='[1]01'!$K$24 -> 2 | AB5: 2 | AC5: 2 | AD5: 2 | AE5: 2 | AF5: 2 | AG5: ='[1]01'!$K$24 -> 2 | AH5: 2 | AI5: 2 | AJ5: 2 | AK5: 2 | AL5: 2 | AM5: ='[1]01'!$K$24 -> 2 | AN5: 2 | AO5: 2 | AP5: 2 | AQ5: 2 | AR5: 2 | AS5: ='[1]01'!$K$24 -> 2 | AT5: 2 | AU5: 2 | AV5: 2 | AW5: 2 | AX5: 2 | AY5: ='[1]01'!$K$24 -> 2 | AZ5: 2 | BA5: 2 | BB5: 2 | BC5: 2 | BD5: 2 | BE5: ='[1]01'!$K$24 -> 2 | BF5: 2 | BG5: 2 | BH5: 2 | BI5: 2 | BJ5: 2 | BK5: ='[1]01'!$K$24 -> 2 | BL5: 2 | BM5: 2 | BN5: 2 | BO5: 2 | BP5: 2 | BQ5: ='[1]01'!$K$24 -> 2 | BR5: 2 | BS5: 2 | BT5: 2 | BU5: 2 | BV5: 2 | BW5: ='[1]01'!$K$24 -> 2 | BX5: 2 | BY5: 2 | BZ5: 2 | CA5: 2 | CB5: 2 | CC5: ='[1]01'!$K$24 -> 2 | CD5: 2 | CE5: 2 | CF5: 2 | CG5: 2 | CH5: 2 | CI5: ='[1]01'!$K$24 -> 2 | CJ5: 2 | CK5: 2 | CL5: 2 | CM5: 2 | CN5: 2 | CO5: ='[1]01'!$K$24 -> 2 | CP5: 2 | CQ5: 2 | CR5: 2 | CS5: 2 | CT5: 2 | CU5: ='[1]01'!$K$24 -> 2 | CV5: 2 | CW5: 2 | CX5: 2 | CY5: 2 | CZ5: 2 | DA5: ='[1]01'!$K$24 -> 2 | DB5: 2 | DC5: 2 | DD5: 2 | DE5: 2 | DF5: 2 | DG5: ='[1]01'!$K$24 -> 2 | DH5: 2 | DI5: 2 | DJ5: 2 | DK5: 2 | DL5: 2 | DM5: ='[1]01'!$K$24 -> 2 | DN5: 2 | DO5: 2 | DP5: 2 | DQ5: 2 | DR5: 2 | DS5: ='[1]01'!$K$24 -> 2 | DT5: 2 | DU5: 2 | DV5: 2 | DW5: 2 | DX5: 2 | DY5: ='[1]01'!$K$24 -> 2 | DZ5: 2 | EA5: 2 | EB5: 2 | EC5: 2 | ED5: 2 | EE5: ='[1]01'!$K$24 -> 2 | EF5: 2 | EG5: 2 | EH5: 2 | EI5: 2 | EJ5: 2 | EK5: ='[1]01'!$K$24 -> 2 | EL5: 2 | EM5: 2 | EN5: 2 | EO5: 2 | EP5: 2 | EQ5: ='[1]01'!$K$24 -> 2 | ER5: 2 | ES5: 2 | ET5: 2 | EU5: 2 | EV5: 2 | EW5: ='[1]01'!$K$24 -> 2 | EX5: 2 | EY5: 2 | EZ5: 2 | FA5: 2 | FB5: 2 | FC5: ='[1]01'!$K$24 -> 2 | FD5: 2 | FE5: 2 | FF5: 2 | FG5: 2 | FH5: 2 | FI5: ='[1]01'!$K$24 -> 2 | FJ5: 2 | FK5: 2 | FL5: 2 | FM5: 2 | FN5: 2 | FO5: ='[1]01'!$K$24 -> 2 | FP5: 2 | FQ5: 2 | FR5: 2 | FS5: 2 | FT5: 2 | FU5: ='[1]01'!$K$24 -> 2 | FV5: 2 | FW5: 2 | FX5: 2 | FY5: 2 | FZ5: 2 | GA5: ='[1]01'!$K$24 -> 2 | GB5: 2 | GC5: 2 | GD5: 2 | GE5: 2
A6: Janitors | B6: 23 | C6: 23 | D6: 23 | E6: 23 | F6: 14 | G6: 14 | H6: 23 | I6: 23 | J6: 23 | K6: 23 | L6: 14 | M6: 14 | N6: 23 | O6: 23 | P6: 23 | Q6: 23 | R6: 14 | S6: 14 | T6: 23 | U6: 23 | V6: 23 | W6: 23 | X6: 14 | Y6: 14 | Z6: 23 | AA6: 23 | AB6: 23 | AC6: 23 | AD6: 14 | AE6: 14 | AF6: 23 | AG6: 23 | AH6: 23 | AI6: 23 | AJ6: 14 | AK6: 14 | AL6: 23 | AM6: 23 | AN6: 23 | AO6: 23 | AP6: 14 | AQ6: 14 | AR6: 23 | AS6: 23 | AT6: 23 | AU6: 23 | AV6: 14 | AW6: 14 | AX6: 23 | AY6: 23 | AZ6: 23 | BA6: 23 | BB6: 14 | BC6: 14 | BD6: 23 | BE6: 23 | BF6: 23 | BG6: 23 | BH6: 14 | BI6: 14 | BJ6: 23 | BK6: 23 | BL6: 23 | BM6: 23 | BN6: 14 | BO6: 14 | BP6: 23 | BQ6: 23 | BR6: 23 | BS6: 23 | BT6: 14 | BU6: 14 | BV6: 23 | BW6: 23 | BX6: 23 | BY6: 23 | BZ6: 14 | CA6: 14 | CB6: 23 | CC6: 23 | CD6: 23 | CE6: 23 | CF6: 14 | CG6: 14 | CH6: 23 | CI6: 23 | CJ6: 23 | CK6: 23 | CL6: 14 | CM6: 14 | CN6: 23 | CO6: 23 | CP6: 23 | CQ6: 23 | CR6: 14 | CS6: 14 | CT6: 23 | CU6: 23 | CV6: 23 | CW6: 23 | CX6: 14 | CY6: 14 | CZ6: 23 | DA6: 23 | DB6: 23 | DC6: 23 | DD6: 14 | DE6: 14 | DF6: 23 | DG6: 23 | DH6: 23 | DI6: 23 | DJ6: 14 | DK6: 14 | DL6: 23 | DM6: 23 | DN6: 23 | DO6: 23 | DP6: 14 | DQ6: 14 | DR6: 23 | DS6: 23 | DT6: 23 | DU6: 23 | DV6: 14 | DW6: 14 | DX6: 23 | DY6: 23 | DZ6: 23 | EA6: 23 | EB6: 14 | EC6: 14 | ED6: 23 | EE6: 23 | EF6: 23 | EG6: 23 | EH6: 14 | EI6: 14 | EJ6: 23 | EK6: 23 | EL6: 23 | EM6: 23 | EN6: 14 | EO6: 14 | EP6: 23 | EQ6: 23 | ER6: 23 | ES6: 23 | ET6: 14 | EU6: 14 | EV6: 23 | EW6: 23 | EX6: 23 | EY6: 23 | EZ6: 14 | FA6: 14 | FB6: 23 | FC6: 23 | FD6: 23 | FE6: 23 | FF6: 14 | FG6: 14 | FH6: 23 | FI6: 23 | FJ6: 23 | FK6: 23 | FL6: 14 | FM6: 14 | FN6: 23 | FO6: 23 | FP6: 23 | FQ6: 23 | FR6: 14 | FS6: 14 | FT6: 23 | FU6: 23 | FV6: 23 | FW6: 23 | FX6: 14 | FY6: 14 | FZ6: 23 | GA6: 23 | GB6: 23 | GC6: 23 | GD6: 14 | GE6: 14
A7: Site Manager | B7: 1 | C7: ='[1]01'!$K$22 -> 1 | D7: 1 | E7: 1 | F7: 0 | G7: 0 | H7: 1 | I7: ='[1]01'!$K$22 -> 1 | J7: 1 | K7: 1 | L7: 0 | M7: 0 | N7: 1 | O7: ='[1]01'!$K$22 -> 1 | P7: 1 | Q7: 1 | R7: 0 | S7: 0 | T7: 1 | U7: ='[1]01'!$K$22 -> 1 | V7: 1 | W7: 1 | X7: 0 | Y7: 0 | Z7: 1 | AA7: ='[1]01'!$K$22 -> 1 | AB7: 1 | AC7: 1 | AD7: 0 | AE7: 0 | AF7: 1 | AG7: ='[1]01'!$K$22 -> 1 | AH7: 1 | AI7: 1 | AJ7: 0 | AK7: 0 | AL7: 1 | AM7: ='[1]01'!$K$22 -> 1 | AN7: 1 | AO7: 1 | AP7: 0 | AQ7: 0 | AR7: 1 | AS7: ='[1]01'!$K$22 -> 1 | AT7: 1 | AU7: 1 | AV7: 0 | AW7: 0 | AX7: 1 | AY7: ='[1]01'!$K$22 -> 1 | AZ7: 1 | BA7: 1 | BB7: 0 | BC7: 0 | BD7: 1 | BE7: ='[1]01'!$K$22 -> 1 | BF7: 1 | BG7: 1 | BH7: 0 | BI7: 0 | BJ7: 1 | BK7: ='[1]01'!$K$22 -> 1 | BL7: 1 | BM7: 1 | BN7: 0 | BO7: 0 | BP7: 1 | BQ7: ='[1]01'!$K$22 -> 1 | BR7: 1 | BS7: 1 | BT7: 0 | BU7: 0 | BV7: 1 | BW7: ='[1]01'!$K$22 -> 1 | BX7: 1 | BY7: 1 | BZ7: 0 | CA7: 0 | CB7: 1 | CC7: ='[1]01'!$K$22 -> 1 | CD7: 1 | CE7: 1 | CF7: 0 | CG7: 0 | CH7: 1 | CI7: ='[1]01'!$K$22 -> 1 | CJ7: 1 | CK7: 1 | CL7: 0 | CM7: 0 | CN7: 1 | CO7: ='[1]01'!$K$22 -> 1 | CP7: 1 | CQ7: 1 | CR7: 0 | CS7: 0 | CT7: 1 | CU7: ='[1]01'!$K$22 -> 1 | CV7: 1 | CW7: 1 | CX7: 0 | CY7: 0 | CZ7: 1 | DA7: ='[1]01'!$K$22 -> 1 | DB7: 1 | DC7: 1 | DD7: 0 | DE7: 0 | DF7: 1 | DG7: ='[1]01'!$K$22 -> 1 | DH7: 1 | DI7: 1 | DJ7: 0 | DK7: 0 | DL7: 1 | DM7: ='[1]01'!$K$22 -> 1 | DN7: 1 | DO7: 1 | DP7: 0 | DQ7: 0 | DR7: 1 | DS7: ='[1]01'!$K$22 -> 1 | DT7: 1 | DU7: 1 | DV7: 0 | DW7: 0 | DX7: 1 | DY7: ='[1]01'!$K$22 -> 1 | DZ7: 1 | EA7: 1 | EB7: 0 | EC7: 0 | ED7: 1 | EE7: ='[1]01'!$K$22 -> 1 | EF7: 1 | EG7: 1 | EH7: 0 | EI7: 0 | EJ7: 1 | EK7: ='[1]01'!$K$22 -> 1 | EL7: 1 | EM7: 1 | EN7: 0 | EO7: 0 | EP7: 1 | EQ7: ='[1]01'!$K$22 -> 1 | ER7: 1 | ES7: 1 | ET7: 0 | EU7: 0 | EV7: 1 | EW7: ='[1]01'!$K$22 -> 1 | EX7: 1 | EY7: 1 | EZ7: 0 | FA7: 0 | FB7: 1 | FC7: ='[1]01'!$K$22 -> 1 | FD7: 1 | FE7: 1 | FF7: 0 | FG7: 0 | FH7: 1 | FI7: ='[1]01'!$K$22 -> 1 | FJ7: 1 | FK7: 1 | FL7: 0 | FM7: 0 | FN7: 1 | FO7: ='[1]01'!$K$22 -> 1 | FP7: 1 | FQ7: 1 | FR7: 0 | FS7: 0 | FT7: 1 | FU7: ='[1]01'!$K$22 -> 1 | FV7: 1 | FW7: 1 | FX7: 0 | FY7: 0 | FZ7: 1 | GA7: ='[1]01'!$K$22 -> 1 | GB7: 1 | GC7: 1 | GD7: 0 | GE7: 0
A8: Spider | B8: 2 | C8: 0 | D8: 2 | E8: 0 | F8: 2 | G8: 2 | H8: 2 | I8: 0 | J8: 2 | K8: 0 | L8: 2 | M8: 2 | N8: 2 | O8: 0 | P8: 2 | Q8: 0 | R8: 2 | S8: 2 | T8: 2 | U8: 0 | V8: 2 | W8: 0 | X8: 2 | Y8: 2 | Z8: 2 | AA8: 0 | AB8: 2 | AC8: 0 | AD8: 2 | AE8: 2 | AF8: 2 | AG8: 0 | AH8: 2 | AI8: 0 | AJ8: 2 | AK8: 2 | AL8: 2 | AM8: 0 | AN8: 2 | AO8: 0 | AP8: 2 | AQ8: 2 | AR8: 2 | AS8: 0 | AT8: 2 | AU8: 0 | AV8: 2 | AW8: 2 | AX8: 2 | AY8: 0 | AZ8: 2 | BA8: 0 | BB8: 2 | BC8: 2 | BD8: 2 | BE8: 0 | BF8: 2 | BG8: 0 | BH8: 2 | BI8: 2 | BJ8: 2 | BK8: 0 | BL8: 2 | BM8: 0 | BN8: 2 | BO8: 2 | BP8: 2 | BQ8: 0 | BR8: 2 | BS8: 0 | BT8: 2 | BU8: 2 | BV8: 2 | BW8: 0 | BX8: 2 | BY8: 0 | BZ8: 2 | CA8: 2 | CB8: 2 | CC8: 0 | CD8: 2 | CE8: 0 | CF8: 2 | CG8: 2 | CH8: 2 | CI8: 0 | CJ8: 2 | CK8: 0 | CL8: 2 | CM8: 2 | CN8: 2 | CO8: 0 | CP8: 2 | CQ8: 0 | CR8: 2 | CS8: 2 | CT8: 2 | CU8: 0 | CV8: 2 | CW8: 0 | CX8: 2 | CY8: 2 | CZ8: 2 | DA8: 0 | DB8: 2 | DC8: 0 | DD8: 2 | DE8: 2 | DF8: 2 | DG8: 0 | DH8: 2 | DI8: 0 | DJ8: 2 | DK8: 2 | DL8: 2 | DM8: 0 | DN8: 2 | DO8: 0 | DP8: 2 | DQ8: 2 | DR8: 2 | DS8: 0 | DT8: 2 | DU8: 0 | DV8: 2 | DW8: 2 | DX8: 2 | DY8: 0 | DZ8: 2 | EA8: 0 | EB8: 2 | EC8: 2 | ED8: 2 | EE8: 0 | EF8: 2 | EG8: 0 | EH8: 2 | EI8: 2 | EJ8: 2 | EK8: 0 | EL8: 2 | EM8: 0 | EN8: 2 | EO8: 2 | EP8: 2 | EQ8: 0 | ER8: 2 | ES8: 0 | ET8: 2 | EU8: 2 | EV8: 2 | EW8: 0 | EX8: 2 | EY8: 0 | EZ8: 2 | FA8: 2 | FB8: 2 | FC8: 0 | FD8: 2 | FE8: 0 | FF8: 2 | FG8: 2 | FH8: 2 | FI8: 0 | FJ8: 2 | FK8: 0 | FL8: 2 | FM8: 2 | FN8: 2 | FO8: 0 | FP8: 2 | FQ8: 0 | FR8: 2 | FS8: 2 | FT8: 2 | FU8: 0 | FV8: 2 | FW8: 0 | FX8: 2 | FY8: 2 | FZ8: 2 | GA8: 0 | GB8: 2 | GC8: 0 | GD8: 2 | GE8: 2
A9: Total | B9: =SUM(B5:B8) -> 28 | C9: =SUM(C5:C8) -> 26 | D9: =SUM(D5:D8) -> 28 | E9: =SUM(E5:E8) -> 26 | F9: =SUM(F5:F8) -> 18 | G9: =SUM(G5:G8) -> 18 | H9: =SUM(H5:H8) -> 28 | I9: =SUM(I5:I8) -> 26 | ... GE9: =SUM(GE5:GE8) -> 18
A11: Score | B11: 3 | D11: 3 | F11: 4 | H11: 3 | J11: 3 | L11: 4 | N11: 3 | P11: 3 | R11: 4 | T11: 3 | V11: 3 | X11: 4 | Z11: 3 | AB11: 3 | AD11: 4 | AF11: 3 | AH11: 3 | AJ11: 4 | AL11: 3 | AN11: 3 | AP11: 4 | AR11: 3 | AT11: 3 | AV11: 4 | AX11: 3 | AZ11: 3 | BB11: 4 | BD11: 3 | BF11: 3 | BH11: 4 | BJ11: 3 | BL11: 3 | BN11: 4 | BP11: 3 | BR11: 3 | BT11: 4 | BV11: 3 | BX11: 3 | BZ11: 4 | CB11: 3 | CD11: 3 | CF11: 4 | CH11: 3 | CJ11: 3 | CL11: 4 | CN11: 3 | CP11: 3 | CR11: 4 | CT11: 3 | CV11: 3 | CX11: 4 | CZ11: 3 | DB11: 3 | DD11: 4 | DF11: 3 | DH11: 3 | DJ11: 4 | DL11: 3 | DN11: 3 | DP11: 4 | DR11: 3 | DT11: 3 | DV11: 4 | DX11: 3 | DZ11: 3 | EB11: 4 | ED11: 3 | EF11: 3 | EH11: 4 | EJ11: 3 | EL11: 3 | EN11: 4 | EP11: 3 | ER11: 3 | ET11: 4 | EV11: 3 | EX11: 3 | EZ11: 4 | FB11: 3 | FD11: 3 | FF11: 4 | FH11: 3 | FJ11: 3 | FL11: 4 | FN11: 3 | FP11: 3 | FR11: 4 | FT11: 3 | FV11: 3 | FX11: 4 | FZ11: 3 | GB11: 3 | GD11: 4 | GF11: =SUM(B11:GE11) -> 310
A12: Cont Score Per item | B12: =B11/B9 -> 0.10714286 | D12: =D11/D9 -> 0.10714286 | F12: =F11/F9 -> 0.22222222 | H12: =H11/H9 -> 0.10714286 | J12: =J11/J9 -> 0.10714286 | L12: =L11/L9 -> 0.22222222 | N12: =N11/N9 -> 0.10714286 | P12: =P11/P9 -> 0.10714286 | R12: =R11/R9 -> 0.22222222 | T12: =T11/T9 -> 0.10714286 | V12: =V11/V9 -> 0.10714286 | X12: =X11/X9 -> 0.22222222 | Z12: =Z11/Z9 -> 0.10714286 | AB12: =AB11/AB9 -> 0.10714286 | AD12: =AD11/AD9 -> 0.22222222 | AF12: =AF11/AF9 -> 0.10714286 | AH12: =AH11/AH9 -> 0.10714286 | AJ12: =AJ11/AJ9 -> 0.22222222 | AL12: =AL11/AL9 -> 0.10714286 | AN12: =AN11/AN9 -> 0.10714286 | AP12: =AP11/AP9 -> 0.22222222 | AR12: =AR11/AR9 -> 0.10714286 | AT12: =AT11/AT9 -> 0.10714286 | AV12: =AV11/AV9 -> 0.22222222 | AX12: =AX11/AX9 -> 0.10714286 | AZ12: =AZ11/AZ9 -> 0.10714286 | BB12: =BB11/BB9 -> 0.22222222 | BD12: =BD11/BD9 -> 0.10714286 | BF12: =BF11/BF9 -> 0.10714286 | BH12: =BH11/BH9 -> 0.22222222 | BJ12: =BJ11/BJ9 -> 0.10714286 | BL12: =BL11/BL9 -> 0.10714286 | BN12: =BN11/BN9 -> 0.22222222 | BP12: =BP11/BP9 -> 0.10714286 | BR12: =BR11/BR9 -> 0.10714286 | BT12: =BT11/BT9 -> 0.22222222 | BV12: =BV11/BV9 -> 0.10714286 | BX12: =BX11/BX9 -> 0.10714286 | BZ12: =BZ11/BZ9 -> 0.22222222 | CB12: =CB11/CB9 -> 0.10714286 | CD12: =CD11/CD9 -> 0.10714286 | CF12: =CF11/CF9 -> 0.22222222 | CH12: =CH11/CH9 -> 0.10714286 | CJ12: =CJ11/CJ9 -> 0.10714286 | CL12: =CL11/CL9 -> 0.22222222 | CN12: =CN11/CN9 -> 0.10714286 | CP12: =CP11/CP9 -> 0.10714286 | CR12: =CR11/CR9 -> 0.22222222 | CT12: =CT11/CT9 -> 0.10714286 | CV12: =CV11/CV9 -> 0.10714286 | CX12: =CX11/CX9 -> 0.22222222 | CZ12: =CZ11/CZ9 -> 0.10714286 | DB12: =DB11/DB9 -> 0.10714286 | DD12: =DD11/DD9 -> 0.22222222 | DF12: =DF11/DF9 -> 0.10714286 | DH12: =DH11/DH9 -> 0.10714286 | DJ12: =DJ11/DJ9 -> 0.22222222 | DL12: =DL11/DL9 -> 0.10714286 | DN12: =DN11/DN9 -> 0.10714286 | DP12: =DP11/DP9 -> 0.22222222 | DR12: =DR11/DR9 -> 0.10714286 | DT12: =DT11/DT9 -> 0.10714286 | DV12: =DV11/DV9 -> 0.22222222 | DX12: =DX11/DX9 -> 0.10714286 | DZ12: =DZ11/DZ9 -> 0.10714286 | EB12: =EB11/EB9 -> 0.22222222 | ED12: =ED11/ED9 -> 0.10714286 | EF12: =EF11/EF9 -> 0.10714286 | EH12: =EH11/EH9 -> 0.22222222 | EJ12: =EJ11/EJ9 -> 0.10714286 | EL12: =EL11/EL9 -> 0.10714286 | EN12: =EN11/EN9 -> 0.22222222 | EP12: =EP11/EP9 -> 0.10714286 | ER12: =ER11/ER9 -> 0.10714286 | ET12: =ET11/ET9 -> 0.22222222 | EV12: =EV11/EV9 -> 0.10714286 | EX12: =EX11/EX9 -> 0.10714286 | EZ12: =EZ11/EZ9 -> 0.22222222 | FB12: =FB11/FB9 -> 0.10714286 | FD12: =FD11/FD9 -> 0.10714286 | FF12: =FF11/FF9 -> 0.22222222 | FH12: =FH11/FH9 -> 0.10714286 | FJ12: =FJ11/FJ9 -> 0.10714286 | FL12: =FL11/FL9 -> 0.22222222 | FN12: =FN11/FN9 -> 0.10714286 | FP12: =FP11/FP9 -> 0.10714286 | FR12: =FR11/FR9 -> 0.22222222 | FT12: =FT11/FT9 -> 0.10714286 | FV12: =FV11/FV9 -> 0.10714286 | FX12: =FX11/FX9 -> 0.22222222 | FZ12: =FZ11/FZ9 -> 0.10714286 | GB12: =GB11/GB9 -> 0.10714286 | GD12: =GD11/GD9 -> 0.22222222
A13: Act score | C13: =C9*B12 -> 2.7857143 | E13: =E9*D12 -> 2.7857143 | G13: =G9*F12 -> 4 | I13: =I9*H12 -> 2.7857143 | K13: =K9*J12 -> 2.7857143 | M13: =M9*L12 -> 4 | O13: =O9*N12 -> 2.7857143 | Q13: =Q9*P12 -> 2.7857143 | S13: =S9*R12 -> 4 | U13: =U9*T12 -> 2.7857143 | W13: =W9*V12 -> 2.7857143 | Y13: =Y9*X12 -> 4 | AA13: =AA9*Z12 -> 2.7857143 | AC13: =AC9*AB12 -> 2.7857143 | AE13: =AE9*AD12 -> 4 | AG13: =AG9*AF12 -> 2.7857143 | AI13: =AI9*AH12 -> 2.7857143 | AK13: =AK9*AJ12 -> 4 | AM13: =AM9*AL12 -> 2.7857143 | AO13: =AO9*AN12 -> 2.7857143 | AQ13: =AQ9*AP12 -> 4 | AS13: =AS9*AR12 -> 2.7857143 | AU13: =AU9*AT12 -> 2.7857143 | AW13: =AW9*AV12 -> 4 | AY13: =AY9*AX12 -> 2.7857143 | BA13: =BA9*AZ12 -> 2.7857143 | BC13: =BC9*BB12 -> 4 | BE13: =BE9*BD12 -> 2.7857143 | BG13: =BG9*BF12 -> 2.7857143 | BI13: =BI9*BH12 -> 4 | BK13: =BK9*BJ12 -> 2.7857143 | BM13: =BM9*BL12 -> 2.7857143 | BO13: =BO9*BN12 -> 4 | BQ13: =BQ9*BP12 -> 2.7857143 | BS13: =BS9*BR12 -> 2.7857143 | BU13: =BU9*BT12 -> 4 | BW13: =BW9*BV12 -> 2.7857143 | BY13: =BY9*BX12 -> 2.7857143 | CA13: =CA9*BZ12 -> 4 | CC13: =CC9*CB12 -> 2.7857143 | CE13: =CE9*CD12 -> 2.7857143 | CG13: =CG9*CF12 -> 4 | CI13: =CI9*CH12 -> 2.7857143 | CK13: =CK9*CJ12 -> 2.7857143 | CM13: =CM9*CL12 -> 4 | CO13: =CO9*CN12 -> 2.7857143 | CQ13: =CQ9*CP12 -> 2.7857143 | CS13: =CS9*CR12 -> 4 | CU13: =CU9*CT12 -> 2.7857143 | CW13: =CW9*CV12 -> 2.7857143 | CY13: =CY9*CX12 -> 4 | DA13: =DA9*CZ12 -> 2.7857143 | DC13: =DC9*DB12 -> 2.7857143 | DE13: =DE9*DD12 -> 4 | DG13: =DG9*DF12 -> 2.7857143 | DI13: =DI9*DH12 -> 2.7857143 | DK13: =DK9*DJ12 -> 4 | DM13: =DM9*DL12 -> 2.7857143 | DO13: =DO9*DN12 -> 2.7857143 | DQ13: =DQ9*DP12 -> 4 | DS13: =DS9*DR12 -> 2.7857143 | DU13: =DU9*DT12 -> 2.7857143 | DW13: =DW9*DV12 -> 4 | DY13: =DY9*DX12 -> 2.7857143 | EA13: =EA9*DZ12 -> 2.7857143 | EC13: =EC9*EB12 -> 4 | EE13: =EE9*ED12 -> 2.7857143 | EG13: =EG9*EF12 -> 2.7857143 | EI13: =EI9*EH12 -> 4 | EK13: =EK9*EJ12 -> 2.7857143 | EM13: =EM9*EL12 -> 2.7857143 | EO13: =EO9*EN12 -> 4 | EQ13: =EQ9*EP12 -> 2.7857143 | ES13: =ES9*ER12 -> 2.7857143 | EU13: =EU9*ET12 -> 4 | EW13: =EW9*EV12 -> 2.7857143 | EY13: =EY9*EX12 -> 2.7857143 | FA13: =FA9*EZ12 -> 4 | FC13: =FC9*FB12 -> 2.7857143 | FE13: =FE9*FD12 -> 2.7857143 | FG13: =FG9*FF12 -> 4 | FI13: =FI9*FH12 -> 2.7857143 | FK13: =FK9*FJ12 -> 2.7857143 | FM13: =FM9*FL12 -> 4 | FO13: =FO9*FN12 -> 2.7857143 | FQ13: =FQ9*FP12 -> 2.7857143 | FS13: =FS9*FR12 -> 4 | FU13: =FU9*FT12 -> 2.7857143 | FW13: =FW9*FV12 -> 2.7857143 | FY13: =FY9*FX12 -> 4 | GA13: =GA9*FZ12 -> 2.7857143 | GC13: =GC9*GB12 -> 2.7857143 | GE13: =GE9*GD12 -> 4 | GF13: =SUM(B13:GE13) -> 296.71429
U18: `

Sheet Appearance and hygiene
D2: 1 | E2: 2 | F2: 3 | G2: 4 | H2: 5 | I2: 6 | J2: 7 | K2: 8 | L2: 9 | M2: 10 | N2: 11 | O2: 12 | P2: 13 | Q2: 14 | R2: 15 | S2: 16 | T2: 17 | U2: 18 | V2: 19 | W2: 20 | X2: 21 | Y2: 22 | Z2: 23 | AA2: 24 | AB2: 25 | AC2: 26 | AD2: 27 | AE2: 28 | AF2: 29 | AG2: 30 | AH2: 31
B3: Area | C3: Standard | D3: Score | E3: Score | F3: Score | G3: Score | H3: Score | I3: Score | J3: Score | K3: Score | L3: Score | M3: Score | N3: Score | O3: Score | P3: Score | Q3: Score | R3: Score | S3: Score | T3: Score | U3: Score | V3: Score | W3: Score | X3: Score | Y3: Score | Z3: Score | AA3: Score | AB3: Score | AC3: Score | AD3: Score | AE3: Score | AF3: Score | AG3: Score | AH3: Score
A4: 1 | B4: Appearance | D4: 3 | E4: 3 | F4: 3 | G4: 3 | H4: 3 | I4: 3 | J4: 3 | K4: 3 | L4: 3 | M4: 3 | N4: 3 | O4: 3 | P4: 3 | Q4: 3 | R4: 3 | S4: 3 | T4: 3 | U4: 3 | V4: 3 | W4: 3 | X4: 3 | Y4: 3 | Z4: 3 | AA4: 3 | AB4: 3 | AC4: 3 | AD4: 3 | AE4: 3 | AF4: 3 | AG4: 3 | AH4: 3
B5: Uniform
C6: Appropriate size
C7: Clean and ironed
C8: Not torn
B10: Shoes | C10: Appropriate size
C11: Not walking on top of his shoes
C12: Clean and shiny
C13: Not torn
B15: Veil | C15: Clean and shiny
C16: Not torn
C17: White color
D19: 3 | E19: 3 | F19: 3 | G19: 3 | H19: 3 | I19: 3 | J19: 3 | K19: 3 | L19: 3 | M19: 3 | N19: 3 | O19: 3 | P19: 3 | Q19: 3 | R19: 3 | S19: 3 | T19: 3 | U19: 3 | V19: 3 | W19: 3 | X19: 3 | Y19: 3 | Z19: 3 | AA19: 3 | AB19: 3 | AC19: 3 | AD19: 3 | AE19: 2 | AF19: 2 | AG19: 2 | AH19: 2
A20: 2 | B20: Hygiene | D20: 5 | E20: 5 | F20: 5 | G20: 5 | H20: 5 | I20: 5 | J20: 5 | K20: 5 | L20: 5 | M20: 5 | N20: 5 | O20: 5 | P20: 5 | Q20: 5 | R20: 5 | S20: 5 | T20: 5 | U20: 5 | V20: 5 | W20: 5 | X20: 5 | Y20: 5 | Z20: 5 | AA20: 5 | AB20: 5 | AC20: 5 | AD20: 5 | AE20: 5 | AF20: 5 | AG20: 5 | AH20: 5
B21: Chin | C21: To be shaved every day
B22: Hair | C22: Short
B23: Nails | C23: Short and clean
B24: Smell | C24: No bad smell
B25: Mack up | C25: Not strong
D26: 5 | E26: 5 | F26: 5 | G26: 5 | H26: 5 | I26: 5 | J26: 5 | K26: 5 | L26: 5 | M26: 5 | N26: 5 | O26: 5 | P26: 5 | Q26: 5 | R26: 5 | S26: 5 | T26: 5 | U26: 5 | V26: 5 | W26: 5 | X26: 5 | Y26: 5 | Z26: 5 | AA26: 5 | AB26: 5 | AC26: 5 | AD26: 5 | AE26: 5 | AF26: 5 | AG26: 5 | AH26: 5
A27: 3 | B27: Attitude And behavior | D27: 7 | E27: 7 | F27: 7 | G27: 7 | H27: 7 | I27: 7 | J27: 7 | K27: 7 | L27: 7 | M27: 7 | N27: 7 | O27: 7 | P27: 7 | Q27: 7 | R27: 7 | S27: 7 | T27: 7 | U27: 7 | V27: 7 | W27: 7 | X27: 7 | Y27: 7 | Z27: 7 | AA27: 7 | AB27: 7 | AC27: 7 | AD27: 7 | AE27: 7 | AF27: 7 | AG27: 7 | AH27: 7
B28: Voice | C28: Low
B29: Joking and bad words | C29: Not allowed during working hours
B30: Movement | C30: Not slow and not running
B31: Telephone | C31: Not allowed during working hours
B32: Smoking | C32: Not allowed during working hours
B33: Using Guest toilets or Guest elevators | C33: Not allowed
B34: Contact with the guest | C34: Not allowed
D35: 7 | E35: 7 | F35: 7 | G35: 7 | H35: 7 | I35: 7 | J35: 7 | K35: 7 | L35: 7 | M35: 7 | N35: 7 | O35: 7 | P35: 7 | Q35: 7 | R35: 7 | S35: 7 | T35: 7 | U35: 7 | V35: 7 | W35: 7 | X35: 7 | Y35: 7 | Z35: 7 | AA35: 7 | AB35: 7 | AC35: 7 | AD35: 7 | AE35: 7 | AF35: 7 | AG35: 7 | AH35: 7
B37: Total Score | D37: =D4+D20+D27 -> 15 | E37: =E4+E20+E27 -> 15 | F37: =F4+F20+F27 -> 15 | G37: =G4+G20+G27 -> 15 | H37: =H4+H20+H27 -> 15 | I37: =I4+I20+I27 -> 15 | J37: =J4+J20+J27 -> 15 | K37: =K4+K20+K27 -> 15 | ... AH37: =AH4+AH20+AH27 -> 15 | AI37: =SUM(D37:AH37) -> 465
B38: Actual score | D38: =D19+D26+D35 -> 15 | E38: =E19+E26+E35 -> 15 | F38: =F19+F26+F35 -> 15 | G38: =G19+G26+G35 -> 15 | H38: =H19+H26+H35 -> 15 | I38: =I19+I26+I35 -> 15 | J38: =J19+J26+J35 -> 15 | K38: =K19+K26+K35 -> 15 | ... AH38: =AH19+AH26+AH35 -> 14 | AI38: =SUM(D38:AH38) -> 461

Sheet Equipment and Tools
B2: Equipment
B3: Date | C3: 1 | E3: 2 | G3: 3 | I3: 4 | K3: 5 | M3: 6 | O3: 7 | Q3: 8 | S3: 9 | U3: 10 | W3: 11 | Y3: 12 | AA3: 13 | AC3: 14 | AE3: 15 | AG3: 16 | AI3: 17 | AK3: 18 | AM3: 19 | AO3: 20 | AQ3: 21 | AS3: 22 | AU3: 23 | AW3: 24 | AY3: 25 | BA3: 26 | BC3: 27 | BE3: 28 | BG3: 29 | BI3: 30 | BK3: 31
B4: Item | C4: Cont Qnt | D4: Act Qnt | E4: Cont Qnt | F4: Act Qnt | G4: Cont Qnt | H4: Act Qnt | I4: Cont Qnt | J4: Act Qnt | K4: Cont Qnt | L4: Act Qnt | M4: Cont Qnt | N4: Act Qnt | O4: Cont Qnt | P4: Act Qnt | Q4: Cont Qnt | R4: Act Qnt | S4: Cont Qnt | T4: Act Qnt | U4: Cont Qnt | V4: Act Qnt | W4: Cont Qnt | X4: Act Qnt | Y4: Cont Qnt | Z4: Act Qnt | AA4: Cont Qnt | AB4: Act Qnt | AC4: Cont Qnt | AD4: Act Qnt | AE4: Cont Qnt | AF4: Act Qnt | AG4: Cont Qnt | AH4: Act Qnt | AI4: Cont Qnt | AJ4: Act Qnt | AK4: Cont Qnt | AL4: Act Qnt | AM4: Cont Qnt | AN4: Act Qnt | AO4: Cont Qnt | AP4: Act Qnt | AQ4: Cont Qnt | AR4: Act Qnt | AS4: Cont Qnt | AT4: Act Qnt | AU4: Cont Qnt | AV4: Act Qnt | AW4: Cont Qnt | AX4: Act Qnt | AY4: Cont Qnt | AZ4: Act Qnt | BA4: Cont Qnt | BB4: Act Qnt | BC4: Cont Qnt | BD4: Act Qnt | BE4: Cont Qnt | BF4: Act Qnt | BG4: Cont Qnt | BH4: Act Qnt | BI4: Cont Qnt | BJ4: Act Qnt | BK4: Cont Qnt | BL4: Act Qnt
B5: Ride on | C5: 1 | D5: ='[1]01'!$K$33 -> 1 | E5: 1 | F5: ='[1]01'!$K$33 -> 1 | G5: 1 | H5: ='[1]01'!$K$33 -> 1 | I5: 1 | J5: ='[1]01'!$K$33 -> 1 | K5: 1 | L5: ='[1]01'!$K$33 -> 1 | M5: 1 | N5: ='[1]01'!$K$33 -> 1 | O5: 1 | P5: ='[1]01'!$K$33 -> 1 | Q5: 1 | R5: ='[1]01'!$K$33 -> 1 | S5: 1 | T5: ='[1]01'!$K$33 -> 1 | U5: 1 | V5: ='[1]01'!$K$33 -> 1 | W5: 1 | X5: ='[1]01'!$K$33 -> 1 | Y5: 1 | Z5: ='[1]01'!$K$33 -> 1 | AA5: 1 | AB5: ='[1]01'!$K$33 -> 1 | AC5: 1 | AD5: ='[1]01'!$K$33 -> 1 | AE5: 1 | AF5: ='[1]01'!$K$33 -> 1 | AG5: 1 | AH5: ='[1]01'!$K$33 -> 1 | AI5: 1 | AJ5: ='[1]01'!$K$33 -> 1 | AK5: 1 | AL5: ='[1]01'!$K$33 -> 1 | AM5: 1 | AN5: ='[1]01'!$K$33 -> 1 | AO5: 1 | AP5: ='[1]01'!$K$33 -> 1 | AQ5: 1 | AR5: ='[1]01'!$K$33 -> 1 | AS5: 1 | AT5: ='[1]01'!$K$33 -> 1 | AU5: 1 | AV5: ='[1]01'!$K$33 -> 1 | AW5: 1 | AX5: ='[1]01'!$K$33 -> 1 | AY5: 1 | AZ5: ='[1]01'!$K$33 -> 1 | BA5: 1 | BB5: ='[1]01'!$K$33 -> 1 | BC5: 1 | BD5: ='[1]01'!$K$33 -> 1 | BE5: 1 | BF5: ='[1]01'!$K$33 -> 1 | BG5: 1 | BH5: ='[1]01'!$K$33 -> 1 | BI5: 1 | BJ5: ='[1]01'!$K$33 -> 1 | BK5: 1 | BL5: ='[1]01'!$K$33 -> 1
B6: Walk behind | C6: 2 | D6: 2 | E6: 2 | F6: 2 | G6: 2 | H6: 2 | I6: 2 | J6: 2 | K6: 2 | L6: 2 | M6: 2 | N6: 2 | O6: 2 | P6: 2 | Q6: 2 | R6: 2 | S6: 2 | T6: 2 | U6: 2 | V6: 2 | W6: 2 | X6: 2 | Y6: 2 | Z6: 2 | AA6: 2 | AB6: 2 | AC6: 2 | AD6: 2 | AE6: 2 | AF6: 2 | AG6: 2 | AH6: 2 | AI6: 2 | AJ6: 2 | AK6: 2 | AL6: 2 | AM6: 2 | AN6: 2 | AO6: 2 | AP6: 2 | AQ6: 2 | AR6: 2 | AS6: 2 | AT6: 2 | AU6: 2 | AV6: 2 | AW6: 2 | AX6: 1 | AY6: 2 | AZ6: 1 | BA6: 2 | BB6: 1 | BC6: 2 | BD6: 1 | BE6: 2 | BF6: 1 | BG6: 2 | BH6: 1 | BI6: 2 | BJ6: ='[1]01'!$K$34 -> 2 | BK6: 2 | BL6: ='[1]01'!$K$34 -> 2
B7: Hoover 3 m | C7: 3 | D7: ='[1]01'!$K$36 -> 3 | E7: 3 | F7: ='[1]01'!$K$36 -> 3 | G7: 3 | H7: ='[1]01'!$K$36 -> 3 | I7: 3 | J7: ='[1]01'!$K$36 -> 3 | K7: 3 | L7: ='[1]01'!$K$36 -> 3 | M7: 3 | N7: ='[1]01'!$K$36 -> 3 | O7: 3 | P7: ='[1]01'!$K$36 -> 3 | Q7: 3 | R7: ='[1]01'!$K$36 -> 3 | S7: 3 | T7: ='[1]01'!$K$36 -> 3 | U7: 3 | V7: ='[1]01'!$K$36 -> 3 | W7: 3 | X7: ='[1]01'!$K$36 -> 3 | Y7: 3 | Z7: ='[1]01'!$K$36 -> 3 | AA7: 3 | AB7: ='[1]01'!$K$36 -> 3 | AC7: 3 | AD7: ='[1]01'!$K$36 -> 3 | AE7: 3 | AF7: ='[1]01'!$K$36 -> 3 | AG7: 3 | AH7: ='[1]01'!$K$36 -> 3 | AI7: 3 | AJ7: ='[1]01'!$K$36 -> 3 | AK7: 3 | AL7: ='[1]01'!$K$36 -> 3 | AM7: 3 | AN7: ='[1]01'!$K$36 -> 3 | AO7: 3 | AP7: ='[1]01'!$K$36 -> 3 | AQ7: 3 | AR7: ='[1]01'!$K$36 -> 3 | AS7: 3 | AT7: ='[1]01'!$K$36 -> 3 | AU7: 3 | AV7: ='[1]01'!$K$36 -> 3 | AW7: 3 | AX7: ='[1]01'!$K$36 -> 3 | AY7: 3 | AZ7: ='[1]01'!$K$36 -> 3 | BA7: 3 | BB7: ='[1]01'!$K$36 -> 3 | BC7: 3 | BD7: ='[1]01'!$K$36 -> 3 | BE7: 3 | BF7: ='[1]01'!$K$36 -> 3 | BG7: 3 | BH7: ='[1]01'!$K$36 -> 3 | BI7: 3 | BJ7: ='[1]01'!$K$36 -> 3 | BK7: 3 | BL7: ='[1]01'!$K$36 -> 3
B8: Single disk | C8: 4 | D8: 4 | E8: 4 | F8: 4 | G8: 4 | H8: 4 | I8: 4 | J8: 4 | K8: 4 | L8: 4 | M8: 4 | N8: 4 | O8: 4 | P8: 4 | Q8: 4 | R8: 4 | S8: 4 | T8: 4 | U8: 4 | V8: 4 | W8: 4 | X8: 4 | Y8: 4 | Z8: 4 | AA8: 4 | AB8: 4 | AC8: 4 | AD8: 4 | AE8: 4 | AF8: 4 | AG8: 4 | AH8: 4 | AI8: 4 | AJ8: 4 | AK8: 4 | AL8: 4 | AM8: 4 | AN8: 4 | AO8: 4 | AP8: 4 | AQ8: 4 | AR8: 4 | AS8: 4 | AT8: 4 | AU8: 4 | AV8: 4 | AW8: 4 | AX8: 3 | AY8: 4 | AZ8: 3 | BA8: 4 | BB8: 3 | BC8: 4 | BD8: 3 | BE8: 4 | BF8: 3 | BG8: 4 | BH8: 3 | BI8: 4 | BJ8: ='[1]01'!$K$37 -> 4 | BK8: 3 | BL8: ='[1]01'!$K$37 -> 4
B9: Injection | C9: 1 | D9: 1 | E9: 1 | F9: 1 | G9: 1 | H9: 1 | I9: 1 | J9: 1 | K9: 1 | L9: 1 | M9: 1 | N9: 1 | O9: 1 | P9: 1 | Q9: 1 | R9: 1 | S9: 1 | T9: 1 | U9: 1 | V9: 1 | W9: 1 | X9: 1 | Y9: 1 | Z9: 1 | AA9: 1 | AB9: 1 | AC9: 1 | AD9: 1 | AE9: 1 | AF9: 1 | AG9: 1 | AH9: 1 | AI9: 1 | AJ9: 1 | AK9: 1 | AL9: 1 | AM9: 1 | AN9: 1 | AO9: 1 | AP9: 1 | AQ9: 1 | AR9: 1 | AS9: 1 | AT9: 1 | AU9: 1 | AV9: 1 | AW9: 1 | AX9: 0 | AY9: 1 | AZ9: 0 | BA9: 1 | BB9: 0 | BC9: 1 | BD9: 0 | BE9: 1 | BF9: 0 | BG9: 1 | BH9: 0 | BI9: 1 | BJ9: ='[1]01'!$K$38 -> 1 | BK9: 1 | BL9: ='[1]01'!$K$38 -> 1
B10: High pressure | C10: 2 | D10: 0 | E10: 2 | F10: 0 | G10: 2 | H10: 0 | I10: 2 | J10: 0 | K10: 2 | L10: 0 | M10: 2 | N10: 0 | O10: 2 | P10: 0 | Q10: 2 | R10: 0 | S10: 2 | T10: 0 | U10: 2 | V10: 0 | W10: 2 | X10: 0 | Y10: 2 | Z10: 0 | AA10: 2 | AB10: 0 | AC10: 2 | AD10: 0 | AE10: 2 | AF10: 0 | AG10: 2 | AH10: 0 | AI10: 2 | AJ10: 0 | AK10: 2 | AL10: 0 | AM10: 2 | AN10: 0 | AO10: 2 | AP10: 0 | AQ10: 2 | AR10: 0 | AS10: 2 | AT10: 0 | AU10: 2 | AV10: 0 | AW10: 2 | AX10: 0 | AY10: 2 | AZ10: 0 | BA10: 2 | BB10: 0 | BC10: 2 | BD10: 0 | BE10: 2 | BF10: 0 | BG10: 2 | BH10: 0 | BI10: 2 | BJ10: ='[1]01'!$K$39 -> 1 | BK10: 2 | BL10: ='[1]01'!$K$39 -> 1
B11: Hoover 1 m | C11: 2 | D11: ='[1]01'!$K$40 -> 3 | E11: 2 | F11: ='[1]01'!$K$40 -> 3 | G11: 2 | H11: ='[1]01'!$K$40 -> 3 | I11: 2 | J11: ='[1]01'!$K$40 -> 3 | K11: 2 | L11: ='[1]01'!$K$40 -> 3 | M11: 2 | N11: ='[1]01'!$K$40 -> 3 | O11: 2 | P11: ='[1]01'!$K$40 -> 3 | Q11: 2 | R11: ='[1]01'!$K$40 -> 3 | S11: 2 | T11: ='[1]01'!$K$40 -> 3 | U11: 2 | V11: ='[1]01'!$K$40 -> 3 | W11: 2 | X11: ='[1]01'!$K$40 -> 3 | Y11: 2 | Z11: ='[1]01'!$K$40 -> 3 | AA11: 2 | AB11: ='[1]01'!$K$40 -> 3 | AC11: 2 | AD11: ='[1]01'!$K$40 -> 3 | AE11: 2 | AF11: ='[1]01'!$K$40 -> 3 | AG11: 2 | AH11: ='[1]01'!$K$40 -> 3 | AI11: 2 | AJ11: ='[1]01'!$K$40 -> 3 | AK11: 2 | AL11: ='[1]01'!$K$40 -> 3 | AM11: 2 | AN11: ='[1]01'!$K$40 -> 3 | AO11: 2 | AP11: ='[1]01'!$K$40 -> 3 | AQ11: 2 | AR11: ='[1]01'!$K$40 -> 3 | AS11: 2 | AT11: ='[1]01'!$K$40 -> 3 | AU11: 2 | AV11: ='[1]01'!$K$40 -> 3 | AW11: 2 | AX11: ='[1]01'!$K$40 -> 3 | AY11: 2 | AZ11: ='[1]01'!$K$40 -> 3 | BA11: 2 | BB11: ='[1]01'!$K$40 -> 3 | BC11: 2 | BD11: ='[1]01'!$K$40 -> 3 | BE11: 2 | BF11: ='[1]01'!$K$40 -> 3 | BG11: 2 | BH11: ='[1]01'!$K$40 -> 3 | BI11: 2 | BJ11: ='[1]01'!$K$40 -> 3 | BK11: 2 | BL11: ='[1]01'!$K$40 -> 3
B12: Total | C12: =SUM(C5:C11) -> 15 | D12: =SUM(D5:D11) -> 14 | E12: =SUM(E5:E11) -> 15 | F12: =SUM(F5:F11) -> 14 | G12: =SUM(G5:G11) -> 15 | H12: =SUM(H5:H11) -> 14 | I12: =SUM(I5:I11) -> 15 | J12: =SUM(J5:J11) -> 14 | ... BL12: =SUM(BL5:BL11) -> 15
B13: Score | C13: 5 | E13: 5 | G13: 5 | I13: 5 | K13: 5 | M13: 5 | O13: 5 | Q13: 5 | S13: 5 | U13: 5 | W13: 5 | Y13: 5 | AA13: 5 | AC13: 5 | AE13: 5 | AG13: 5 | AI13: 5 | AK13: 5 | AM13: 5 | AO13: 5 | AQ13: 5 | AS13: 5 | AU13: 5 | AW13: 5 | AY13: 5 | BA13: 5 | BC13: 5 | BE13: 5 | BG13: 5 | BI13: 5 | BK13: 5 | BM13: =SUM(C13:BL13) -> 155
B14: Cont Score Per item | C14: =C13/C12 -> 0.33333333 | E14: =E13/E12 -> 0.33333333 | G14: =G13/G12 -> 0.33333333 | I14: =I13/I12 -> 0.33333333 | K14: =K13/K12 -> 0.33333333 | M14: =M13/M12 -> 0.33333333 | O14: =O13/O12 -> 0.33333333 | Q14: =Q13/Q12 -> 0.33333333 | S14: =S13/S12 -> 0.33333333 | U14: =U13/U12 -> 0.33333333 | W14: =W13/W12 -> 0.33333333 | Y14: =Y13/Y12 -> 0.33333333 | AA14: =AA13/AA12 -> 0.33333333 | AC14: =AC13/AC12 -> 0.33333333 | AE14: =AE13/AE12 -> 0.33333333 | AG14: =AG13/AG12 -> 0.33333333 | AI14: =AI13/AI12 -> 0.33333333 | AK14: =AK13/AK12 -> 0.33333333 | AM14: =AM13/AM12 -> 0.33333333 | AO14: =AO13/AO12 -> 0.33333333 | AQ14: =AQ13/AQ12 -> 0.33333333 | AS14: =AS13/AS12 -> 0.33333333 | AU14: =AU13/AU12 -> 0.33333333 | AW14: =AW13/AW12 -> 0.33333333 | AY14: =AY13/AY12 -> 0.33333333 | BA14: =BA13/BA12 -> 0.33333333 | BC14: =BC13/BC12 -> 0.33333333 | BE14: =BE13/BE12 -> 0.33333333 | BG14: =BG13/BG12 -> 0.33333333 | BI14: =BI13/BI12 -> 0.33333333 | BK14: =BK13/BK12 -> 0.35714286
B15: Act score | D15: =C14*D12 -> 4.6666667 | F15: =E14*F12 -> 4.6666667 | H15: =G14*H12 -> 4.6666667 | J15: =I14*J12 -> 4.6666667 | L15: =K14*L12 -> 4.6666667 | N15: =M14*N12 -> 4.6666667 | P15: =O14*P12 -> 4.6666667 | R15: =Q14*R12 -> 4.6666667 | T15: =S14*T12 -> 4.6666667 | V15: =U14*V12 -> 4.6666667 | X15: =W14*X12 -> 4.6666667 | Z15: =Y14*Z12 -> 4.6666667 | AB15: =AA14*AB12 -> 4.6666667 | AD15: =AC14*AD12 -> 4.6666667 | AF15: =AE14*AF12 -> 4.6666667 | AH15: =AG14*AH12 -> 4.6666667 | AJ15: =AI14*AJ12 -> 4.6666667 | AL15: =AK14*AL12 -> 4.6666667 | AN15: =AM14*AN12 -> 4.6666667 | AP15: =AO14*AP12 -> 4.6666667 | AR15: =AQ14*AR12 -> 4.6666667 | AT15: =AS14*AT12 -> 4.6666667 | AV15: =AU14*AV12 -> 4.6666667 | AX15: =AW14*AX12 -> 3.6666667 | AZ15: =AY14*AZ12 -> 3.6666667 | BB15: =BA14*BB12 -> 3.6666667 | BD15: =BC14*BD12 -> 3.6666667 | BF15: =BE14*BF12 -> 3.6666667 | BH15: =BG14*BH12 -> 3.6666667 | BJ15: =BI14*BJ12 -> 5 | BL15: =BK14*BL12 -> 5.3571429 | BM15: =SUM(C15:BL15) -> 139.69048
B17: Tools
B18: Date | C18: 1 | E18: 2 | G18: 3 | I18: 4 | K18: 5 | M18: 6 | O18: 7 | Q18: 8 | S18: 9 | U18: 10 | W18: 11 | Y18: 12 | AA18: 13 | AC18: 14 | AE18: 15 | AG18: 16 | AI18: 17 | AK18: 18 | AM18: 19 | AO18: 20 | AQ18: 21 | AS18: 22 | AU18: 23 | AW18: 24 | AY18: 25 | BA18: 26 | BC18: 27 | BE18: 28 | BG18: 29 | BI18: 30 | BK18: 31
B19: Item | C19: Cont Qnt | D19: Act Qnt | E19: 10 | F19: ='[1]01'!$K$41 -> 10 | G19: Cont Qnt | H19: Act Qnt | I19: Cont Qnt | J19: Act Qnt | K19: Cont Qnt | L19: Act Qnt | M19: Cont Qnt | N19: Act Qnt | O19: Cont Qnt | P19: Act Qnt | Q19: Cont Qnt | R19: Act Qnt | S19: Cont Qnt | T19: Act Qnt | U19: Cont Qnt | V19: Act Qnt | W19: Cont Qnt | X19: Act Qnt | Y19: Cont Qnt | Z19: Act Qnt | AA19: Cont Qnt | AB19: Act Qnt | AC19: Cont Qnt | AD19: Act Qnt | AE19: Cont Qnt | AF19: Act Qnt | AG19: Cont Qnt | AH19: Act Qnt | AI19: Cont Qnt | AJ19: Act Qnt | AK19: Cont Qnt | AL19: Act Qnt | AM19: Cont Qnt | AN19: Act Qnt | AO19: Cont Qnt | AP19: Act Qnt | AQ19: Cont Qnt | AR19: Act Qnt | AS19: Cont Qnt | AT19: Act Qnt | AU19: Cont Qnt | AV19: Act Qnt | AW19: Cont Qnt | AX19: Act Qnt | AY19: Cont Qnt | AZ19: Act Qnt | BA19: Cont Qnt | BB19: Act Qnt | BC19: Cont Qnt | BD19: Act Qnt | BE19: Cont Qnt | BF19: Act Qnt | BG19: Cont Qnt | BH19: Act Qnt | BI19: Cont Qnt | BJ19: Act Qnt | BK19: Cont Qnt | BL19: Act Qnt
B20: Tray | C20: 10 | D20: ='[1]01'!$K$41 -> 10 | E20: 10 | F20: ='[1]01'!$K$41 -> 10 | G20: 10 | H20: ='[1]01'!$K$41 -> 10 | I20: 10 | J20: ='[1]01'!$K$41 -> 10 | K20: 10 | L20: ='[1]01'!$K$41 -> 10 | M20: 10 | N20: ='[1]01'!$K$41 -> 10 | O20: 10 | P20: ='[1]01'!$K$41 -> 10 | Q20: 10 | R20: ='[1]01'!$K$41 -> 10 | S20: 10 | T20: ='[1]01'!$K$41 -> 10 | U20: 10 | V20: ='[1]01'!$K$41 -> 10 | W20: 10 | X20: ='[1]01'!$K$41 -> 10 | Y20: 10 | Z20: ='[1]01'!$K$41 -> 10 | AA20: 10 | AB20: ='[1]01'!$K$41 -> 10 | AC20: 10 | AD20: ='[1]01'!$K$41 -> 10 | AE20: 10 | AF20: ='[1]01'!$K$41 -> 10 | AG20: 10 | AH20: ='[1]01'!$K$41 -> 10 | AI20: 10 | AJ20: ='[1]01'!$K$41 -> 10 | AK20: 10 | AL20: ='[1]01'!$K$41 -> 10 | AM20: 10 | AN20: ='[1]01'!$K$41 -> 10 | AO20: 10 | AP20: ='[1]01'!$K$41 -> 10 | AQ20: 10 | AR20: ='[1]01'!$K$41 -> 10 | AS20: 10 | AT20: ='[1]01'!$K$41 -> 10 | AU20: 10 | AV20: ='[1]01'!$K$41 -> 10 | AW20: 10 | AX20: ='[1]01'!$K$41 -> 10 | AY20: 10 | AZ20: ='[1]01'!$K$41 -> 10 | BA20: 10 | BB20: 10 | BC20: ='[1]01'!$K$41 -> 10 | BD20: 10 | BE20: ='[1]01'!$K$41 -> 10 | BF20: 10 | BG20: ='[1]01'!$K$41 -> 10 | BH20: 10 | BI20: ='[1]01'!$K$41 -> 10 | BJ20: 10 | BK20: ='[1]01'!$K$41 -> 10
B21: Dry Mop | C21: 14 | D21: ='[1]01'!$K$42 -> 14 | E21: 14 | F21: ='[1]01'!$K$42 -> 14 | G21: 14 | H21: ='[1]01'!$K$42 -> 14 | I21: 14 | J21: ='[1]01'!$K$42 -> 14 | K21: 14 | L21: ='[1]01'!$K$42 -> 14 | M21: 14 | N21: ='[1]01'!$K$42 -> 14 | O21: 14 | P21: ='[1]01'!$K$42 -> 14 | Q21: 14 | R21: ='[1]01'!$K$42 -> 14 | S21: 14 | T21: ='[1]01'!$K$42 -> 14 | U21: 14 | V21: ='[1]01'!$K$42 -> 14 | W21: 14 | X21: ='[1]01'!$K$42 -> 14 | Y21: 14 | Z21: ='[1]01'!$K$42 -> 14 | AA21: 14 | AB21: ='[1]01'!$K$42 -> 14 | AC21: 14 | AD21: ='[1]01'!$K$42 -> 14 | AE21: 14 | AF21: ='[1]01'!$K$42 -> 14 | AG21: 14 | AH21: ='[1]01'!$K$42 -> 14 | AI21: 14 | AJ21: ='[1]01'!$K$42 -> 14 | AK21: 14 | AL21: ='[1]01'!$K$42 -> 14 | AM21: 14 | AN21: ='[1]01'!$K$42 -> 14 | AO21: 14 | AP21: ='[1]01'!$K$42 -> 14 | AQ21: 14 | AR21: ='[1]01'!$K$42 -> 14 | AS21: 14 | AT21: ='[1]01'!$K$42 -> 14 | AU21: 14 | AV21: ='[1]01'!$K$42 -> 14 | AW21: 14 | AX21: ='[1]01'!$K$42 -> 14 | AY21: 14 | AZ21: ='[1]01'!$K$42 -> 14 | BA21: 14 | BB21: 14 | BC21: ='[1]01'!$K$42 -> 14 | BD21: 14 | BE21: ='[1]01'!$K$42 -> 14 | BF21: 14 | BG21: ='[1]01'!$K$42 -> 14 | BH21: 14 | BI21: ='[1]01'!$K$42 -> 14 | BJ21: 14 | BK21: ='[1]01'!$K$42 -> 14
B22: Dust Mop | C22: 8 | D22: ='[1]01'!$K$43 -> 8 | E22: 8 | F22: ='[1]01'!$K$43 -> 8 | G22: 8 | H22: ='[1]01'!$K$43 -> 8 | I22: 8 | J22: ='[1]01'!$K$43 -> 8 | K22: 8 | L22: ='[1]01'!$K$43 -> 8 | M22: 8 | N22: ='[1]01'!$K$43 -> 8 | O22: 8 | P22: ='[1]01'!$K$43 -> 8 | Q22: 8 | R22: ='[1]01'!$K$43 -> 8 | S22: 8 | T22: ='[1]01'!$K$43 -> 8 | U22: 8 | V22: ='[1]01'!$K$43 -> 8 | W22: 8 | X22: ='[1]01'!$K$43 -> 8 | Y22: 8 | Z22: ='[1]01'!$K$43 -> 8 | AA22: 8 | AB22: ='[1]01'!$K$43 -> 8 | AC22: 8 | AD22: ='[1]01'!$K$43 -> 8 | AE22: 8 | AF22: ='[1]01'!$K$43 -> 8 | AG22: 8 | AH22: ='[1]01'!$K$43 -> 8 | AI22: 8 | AJ22: ='[1]01'!$K$43 -> 8 | AK22: 8 | AL22: ='[1]01'!$K$43 -> 8 | AM22: 8 | AN22: ='[1]01'!$K$43 -> 8 | AO22: 8 | AP22: ='[1]01'!$K$43 -> 8 | AQ22: 8 | AR22: ='[1]01'!$K$43 -> 8 | AS22: 8 | AT22: ='[1]01'!$K$43 -> 8 | AU22: 8 | AV22: ='[1]01'!$K$43 -> 8 | AW22: 8 | AX22: ='[1]01'!$K$43 -> 8 | AY22: 8 | AZ22: ='[1]01'!$K$43 -> 8 | BA22: 8 | BB22: 8 | BC22: ='[1]01'!$K$43 -> 8 | BD22: 8 | BE22: ='[1]01'!$K$43 -> 8 | BF22: 8 | BG22: ='[1]01'!$K$43 -> 8 | BH22: 8 | BI22: ='[1]01'!$K$43 -> 8 | BJ22: 8 | BK22: ='[1]01'!$K$43 -> 8
B23: Caution Board | C23: 15 | D23: ='[1]01'!$K$44 -> 15 | E23: 15 | F23: ='[1]01'!$K$44 -> 15 | G23: 15 | H23: ='[1]01'!$K$44 -> 15 | I23: 15 | J23: ='[1]01'!$K$44 -> 15 | K23: 15 | L23: ='[1]01'!$K$44 -> 15 | M23: 15 | N23: ='[1]01'!$K$44 -> 15 | O23: 15 | P23: ='[1]01'!$K$44 -> 15 | Q23: 15 | R23: ='[1]01'!$K$44 -> 15 | S23: 15 | T23: ='[1]01'!$K$44 -> 15 | U23: 15 | V23: ='[1]01'!$K$44 -> 15 | W23: 15 | X23: ='[1]01'!$K$44 -> 15 | Y23: 15 | Z23: ='[1]01'!$K$44 -> 15 | AA23: 15 | AB23: ='[1]01'!$K$44 -> 15 | AC23: 15 | AD23: ='[1]01'!$K$44 -> 15 | AE23: 15 | AF23: ='[1]01'!$K$44 -> 15 | AG23: 15 | AH23: ='[1]01'!$K$44 -> 15 | AI23: 15 | AJ23: ='[1]01'!$K$44 -> 15 | AK23: 15 | AL23: ='[1]01'!$K$44 -> 15 | AM23: 15 | AN23: ='[1]01'!$K$44 -> 15 | AO23: 15 | AP23: ='[1]01'!$K$44 -> 15 | AQ23: 15 | AR23: ='[1]01'!$K$44 -> 15 | AS23: 15 | AT23: ='[1]01'!$K$44 -> 15 | AU23: 15 | AV23: ='[1]01'!$K$44 -> 15 | AW23: 15 | AX23: ='[1]01'!$K$44 -> 15 | AY23: 15 | AZ23: ='[1]01'!$K$44 -> 15 | BA23: 15 | BB23: 15 | BC23: ='[1]01'!$K$44 -> 15 | BD23: 15 | BE23: ='[1]01'!$K$44 -> 15 | BF23: 15 | BG23: ='[1]01'!$K$44 -> 15 | BH23: 15 | BI23: ='[1]01'!$K$44 -> 15 | BJ23: 15 | BK23: ='[1]01'!$K$44 -> 15
B24: Ladder 1.5CM | C24: 3 | D24: ='[1]01'!$K$45 -> 3 | E24: 3 | F24: ='[1]01'!$K$45 -> 3 | G24: 3 | H24: ='[1]01'!$K$45 -> 3 | I24: 3 | J24: ='[1]01'!$K$45 -> 3 | K24: 3 | L24: ='[1]01'!$K$45 -> 3 | M24: 3 | N24: ='[1]01'!$K$45 -> 3 | O24: 3 | P24: ='[1]01'!$K$45 -> 3 | Q24: 3 | R24: ='[1]01'!$K$45 -> 3 | S24: 3 | T24: ='[1]01'!$K$45 -> 3 | U24: 3 | V24: ='[1]01'!$K$45 -> 3 | W24: 3 | X24: ='[1]01'!$K$45 -> 3 | Y24: 3 | Z24: ='[1]01'!$K$45 -> 3 | AA24: 3 | AB24: ='[1]01'!$K$45 -> 3 | AC24: 3 | AD24: ='[1]01'!$K$45 -> 3 | AE24: 3 | AF24: ='[1]01'!$K$45 -> 3 | AG24: 3 | AH24: ='[1]01'!$K$45 -> 3 | AI24: 3 | AJ24: ='[1]01'!$K$45 -> 3 | AK24: 3 | AL24: ='[1]01'!$K$45 -> 3 | AM24: 3 | AN24: ='[1]01'!$K$45 -> 3 | AO24: 3 | AP24: ='[1]01'!$K$45 -> 3 | AQ24: 3 | AR24: ='[1]01'!$K$45 -> 3 | AS24: 3 | AT24: ='[1]01'!$K$45 -> 3 | AU24: 3 | AV24: ='[1]01'!$K$45 -> 3 | AW24: 3 | AX24: ='[1]01'!$K$45 -> 3 | AY24: 3 | AZ24: ='[1]01'!$K$45 -> 3 | BA24: 3 | BB24: 3 | BC24: ='[1]01'!$K$45 -> 3 | BD24: 3 | BE24: ='[1]01'!$K$45 -> 3 | BF24: 3 | BG24: ='[1]01'!$K$45 -> 3 | BH24: 3 | BI24: ='[1]01'!$K$45 -> 3 | BJ24: 3 | BK24: ='[1]01'!$K$45 -> 3
B25: Ladder 4 m | C25: 1 | D25: ='[1]01'!$K$46 -> 1 | E25: 1 | F25: ='[1]01'!$K$46 -> 1 | G25: 1 | H25: ='[1]01'!$K$46 -> 1 | I25: 1 | J25: ='[1]01'!$K$46 -> 1 | K25: 1 | L25: ='[1]01'!$K$46 -> 1 | M25: 1 | N25: ='[1]01'!$K$46 -> 1 | O25: 1 | P25: ='[1]01'!$K$46 -> 1 | Q25: 1 | R25: ='[1]01'!$K$46 -> 1 | S25: 1 | T25: ='[1]01'!$K$46 -> 1 | U25: 1 | V25: ='[1]01'!$K$46 -> 1 | W25: 1 | X25: ='[1]01'!$K$46 -> 1 | Y25: 1 | Z25: ='[1]01'!$K$46 -> 1 | AA25: 1 | AB25: ='[1]01'!$K$46 -> 1 | AC25: 1 | AD25: ='[1]01'!$K$46 -> 1 | AE25: 1 | AF25: ='[1]01'!$K$46 -> 1 | AG25: 1 | AH25: ='[1]01'!$K$46 -> 1 | AI25: 1 | AJ25: ='[1]01'!$K$46 -> 1 | AK25: 1 | AL25: ='[1]01'!$K$46 -> 1 | AM25: 1 | AN25: ='[1]01'!$K$46 -> 1 | AO25: 1 | AP25: ='[1]01'!$K$46 -> 1 | AQ25: 1 | AR25: ='[1]01'!$K$46 -> 1 | AS25: 1 | AT25: ='[1]01'!$K$46 -> 1 | AU25: 1 | AV25: ='[1]01'!$K$46 -> 1 | AW25: 1 | AX25: ='[1]01'!$K$46 -> 1 | AY25: 1 | AZ25: ='[1]01'!$K$46 -> 1 | BA25: 1 | BB25: 1 | BC25: ='[1]01'!$K$46 -> 1 | BD25: 1 | BE25: ='[1]01'!$K$46 -> 1 | BF25: 1 | BG25: ='[1]01'!$K$46 -> 1 | BH25: 1 | BI25: ='[1]01'!$K$46 -> 1 | BJ25: 1 | BK25: ='[1]01'!$K$46 -> 1
B26: Trolies | C26: 6 | D26: ='[1]01'!$K$47 -> 6 | E26: 6 | F26: ='[1]01'!$K$47 -> 6 | G26: 6 | H26: ='[1]01'!$K$47 -> 6 | I26: 6 | J26: ='[1]01'!$K$47 -> 6 | K26: 6 | L26: ='[1]01'!$K$47 -> 6 | M26: 6 | N26: ='[1]01'!$K$47 -> 6 | O26: 6 | P26: ='[1]01'!$K$47 -> 6 | Q26: 6 | R26: ='[1]01'!$K$47 -> 6 | S26: 6 | T26: ='[1]01'!$K$47 -> 6 | U26: 6 | V26: ='[1]01'!$K$47 -> 6 | W26: 6 | X26: ='[1]01'!$K$47 -> 6 | Y26: 6 | Z26: ='[1]01'!$K$47 -> 6 | AA26: 6 | AB26: ='[1]01'!$K$47 -> 6 | AC26: 6 | AD26: ='[1]01'!$K$47 -> 6 | AE26: 6 | AF26: ='[1]01'!$K$47 -> 6 | AG26: 6 | AH26: ='[1]01'!$K$47 -> 6 | AI26: 6 | AJ26: ='[1]01'!$K$47 -> 6 | AK26: 6 | AL26: ='[1]01'!$K$47 -> 6 | AM26: 6 | AN26: ='[1]01'!$K$47 -> 6 | AO26: 6 | AP26: ='[1]01'!$K$47 -> 6 | AQ26: 6 | AR26: ='[1]01'!$K$47 -> 6 | AS26: 6 | AT26: ='[1]01'!$K$47 -> 6 | AU26: 6 | AV26: ='[1]01'!$K$47 -> 6 | AW26: 6 | AX26: ='[1]01'!$K$47 -> 6 | AY26: 6 | AZ26: ='[1]01'!$K$47 -> 6 | BA26: 6 | BB26: 6 | BC26: ='[1]01'!$K$47 -> 6 | BD26: 6 | BE26: ='[1]01'!$K$47 -> 6 | BF26: 6 | BG26: ='[1]01'!$K$47 -> 6 | BH26: 6 | BI26: ='[1]01'!$K$47 -> 6 | BJ26: 6 | BK26: ='[1]01'!$K$47 -> 6
B28: Total | C28: =SUM(C20:C27) -> 57 | D28: =SUM(D20:D27) -> 57 | E28: =SUM(E20:E27) -> 57 | F28: =SUM(F20:F27) -> 57 | G28: =SUM(G20:G27) -> 57 | H28: =SUM(H20:H27) -> 57 | I28: =SUM(I20:I27) -> 57 | J28: =SUM(J20:J27) -> 57 | ... BL28: =SUM(BL20:BL27) -> 0
B29: Score | C29: 5 | E29: 5 | G29: 5 | I29: 5 | K29: 5 | M29: 5 | O29: 5 | Q29: 5 | S29: 5 | U29: 5 | W29: 5 | Y29: 5 | AA29: 5 | AC29: 5 | AE29: 5 | AG29: 5 | AI29: 5 | AK29: 5 | AM29: 5 | AO29: 5 | AQ29: 5 | AS29: 5 | AU29: 5 | AW29: 5 | AY29: 5 | BA29: 5 | BC29: 5 | BE29: 5 | BG29: 5 | BI29: 5 | BK29: 5 | BM29: =SUM(C29:BL29) -> 155
B30: Cont Score Per item | C30: =C29/C28 -> 0.087719298 | E30: =E29/E28 -> 0.087719298 | G30: =G29/G28 -> 0.087719298 | I30: =I29/I28 -> 0.087719298 | K30: =K29/K28 -> 0.087719298 | M30: =M29/M28 -> 0.087719298 | O30: =O29/O28 -> 0.087719298 | Q30: =Q29/Q28 -> 0.087719298 | S30: =S29/S28 -> 0.087719298 | U30: =U29/U28 -> 0.087719298 | W30: =W29/W28 -> 0.087719298 | Y30: =Y29/Y28 -> 0.087719298 | AA30: =AA29/AA28 -> 0.087719298 | AC30: =AC29/AC28 -> 0.087719298 | AE30: =AE29/AE28 -> 0.087719298 | AG30: =AG29/AG28 -> 0.087719298 | AI30: =AI29/AI28 -> 0.087719298 | AK30: =AK29/AK28 -> 0.087719298 | AM30: =AM29/AM28 -> 0.087719298 | AO30: =AO29/AO28 -> 0.087719298 | AQ30: =AQ29/AQ28 -> 0.087719298 | AS30: =AS29/AS28 -> 0.087719298 | AU30: =AU29/AU28 -> 0.087719298 | AW30: =AW29/AW28 -> 0.087719298 | AY30: =AY29/AY28 -> 0.087719298 | BA30: =BA29/BA28 -> 0.087719298 | BC30: =BC29/BC28 -> 0.087719298 | BE30: =BE29/BE28 -> 0.087719298 | BG30: =BG29/BG28 -> 0.087719298 | BI30: =BI29/BI28 -> 0.087719298 | BK30: =BK29/BK28 -> 0.087719298
B31: Act score | D31: =C30*D28 -> 5 | F31: =E30*F28 -> 5 | H31: =G30*H28 -> 5 | J31: =I30*J28 -> 5 | L31: =K30*L28 -> 5 | N31: =M30*N28 -> 5 | P31: =O30*P28 -> 5 | R31: =Q30*R28 -> 5 | T31: =S30*T28 -> 5 | V31: =U30*V28 -> 5 | X31: =W30*X28 -> 5 | Z31: =Y30*Z28 -> 5 | AB31: =AA30*AB28 -> 5 | AD31: =AC30*AD28 -> 5 | AF31: =AE30*AF28 -> 5 | AH31: =AG30*AH28 -> 5 | AJ31: =AI30*AJ28 -> 5 | AL31: =AK30*AL28 -> 5 | AN31: =AM30*AN28 -> 5 | AP31: =AO30*AP28 -> 5 | AR31: =AQ30*AR28 -> 5 | AT31: =AS30*AT28 -> 5 | AV31: =AU30*AV28 -> 5 | AX31: =AW30*AX28 -> 5 | AZ31: =AY30*AZ28 -> 5 | BB31: =BA30*BB28 -> 5 | BD31: =BC30*BD28 -> 5 | BF31: =BE30*BF28 -> 5 | BH31: =BG30*BH28 -> 5 | BJ31: =BI30*BJ28 -> 5 | BL31: =BK30*BL28 -> 0 | BM31: =SUM(C31:BL31) -> 150
B33: Chemicals
B34: Date | C34: 1 | E34: 2 | G34: 3 | I34: 4 | K34: 5 | M34: 6 | O34: 7 | Q34: 8 | S34: 9 | U34: 10 | W34: 11 | Y34: 12 | AA34: 13 | AC34: 14 | AE34: 15 | AG34: 16 | AI34: 17 | AK34: 18 | AM34: 19 | AO34: 20 | AQ34: 21 | AS34: 22 | AU34: 23 | AW34: 24 | AY34: 25 | BA34: 26 | BC34: 27 | BE34: 28 | BG34: 29 | BI34: 30 | BK34: 31
B35: Item | C35: Cont Qnt | D35: Act Qnt | E35: Cont Qnt | F35: Act Qnt | G35: Cont Qnt | H35: Act Qnt | I35: Cont Qnt | J35: Act Qnt | K35: Cont Qnt | L35: Act Qnt | M35: Cont Qnt | N35: Act Qnt | O35: Cont Qnt | P35: Act Qnt | Q35: Cont Qnt | R35: Act Qnt | S35: Cont Qnt | T35: Act Qnt | U35: Cont Qnt | V35: Act Qnt | W35: Cont Qnt | X35: Act Qnt | Y35: Cont Qnt | Z35: Act Qnt | AA35: Cont Qnt | AB35: Act Qnt | AC35: Cont Qnt | AD35: Act Qnt | AE35: Cont Qnt | AF35: Act Qnt | AG35: Cont Qnt | AH35: Act Qnt | AI35: Cont Qnt | AJ35: Act Qnt | AK35: Cont Qnt | AL35: Act Qnt | AM35: Cont Qnt | AN35: Act Qnt | AO35: Cont Qnt | AP35: Act Qnt | AQ35: Cont Qnt | AR35: Act Qnt | AS35: Cont Qnt | AT35: Act Qnt | AU35: Cont Qnt | AV35: Act Qnt | AW35: Cont Qnt | AX35: Act Qnt | AY35: Cont Qnt | AZ35: Act Qnt | BA35: Cont Qnt | BB35: Act Qnt | BC35: Cont Qnt | BD35: Act Qnt | BE35: Cont Qnt | BF35: Act Qnt | BG35: Cont Qnt | BH35: Act Qnt | BI35: Cont Qnt | BJ35: Act Qnt | BK35: Cont Qnt | BL35: Act Qnt
B36: Detrgent | C36: 1 | D36: ='[1]01'!$K$48 -> 1 | E36: 1 | F36: ='[1]01'!$K$48 -> 1 | G36: 1 | H36: ='[1]01'!$K$48 -> 1 | I36: 1 | J36: ='[1]01'!$K$48 -> 1 | K36: 1 | L36: ='[1]01'!$K$48 -> 1 | M36: 1 | N36: ='[1]01'!$K$48 -> 1 | O36: 1 | P36: ='[1]01'!$K$48 -> 1 | Q36: 1 | R36: ='[1]01'!$K$48 -> 1 | S36: 1 | T36: ='[1]01'!$K$48 -> 1 | U36: 1 | V36: ='[1]01'!$K$48 -> 1 | W36: 1 | X36: ='[1]01'!$K$48 -> 1 | Y36: 1 | Z36: ='[1]01'!$K$48 -> 1 | AA36: 1 | AB36: ='[1]01'!$K$48 -> 1 | AC36: 1 | AD36: ='[1]01'!$K$48 -> 1 | AE36: 1 | AF36: ='[1]01'!$K$48 -> 1 | AG36: 1 | AH36: ='[1]01'!$K$48 -> 1 | AI36: 1 | AJ36: ='[1]01'!$K$48 -> 1 | AK36: 1 | AL36: ='[1]01'!$K$48 -> 1 | AM36: 1 | AN36: ='[1]01'!$K$48 -> 1 | AO36: 1 | AP36: ='[1]01'!$K$48 -> 1 | AQ36: 1 | AR36: ='[1]01'!$K$48 -> 1 | AS36: 1 | AT36: ='[1]01'!$K$48 -> 1 | AU36: 1 | AV36: ='[1]01'!$K$48 -> 1 | AW36: 1 | AX36: ='[1]01'!$K$48 -> 1 | AY36: 1 | AZ36: ='[1]01'!$K$48 -> 1 | BA36: 1 | BB36: ='[1]01'!$K$48 -> 1 | BC36: 1 | BD36: ='[1]01'!$K$48 -> 1 | BE36: 1 | BF36: ='[1]01'!$K$48 -> 1 | BG36: 1 | BH36: ='[1]01'!$K$48 -> 1 | BI36: 1 | BJ36: ='[1]01'!$K$48 -> 1 | BK36: 1 | BL36: ='[1]01'!$K$48 -> 1
B37: Glass cleaner | C37: 1 | D37: ='[1]01'!$K$49 -> 1 | E37: 1 | F37: ='[1]01'!$K$49 -> 1 | G37: 1 | H37: ='[1]01'!$K$49 -> 1 | I37: 1 | J37: ='[1]01'!$K$49 -> 1 | K37: 1 | L37: ='[1]01'!$K$49 -> 1 | M37: 1 | N37: ='[1]01'!$K$49 -> 1 | O37: 1 | P37: ='[1]01'!$K$49 -> 1 | Q37: 1 | R37: ='[1]01'!$K$49 -> 1 | S37: 1 | T37: ='[1]01'!$K$49 -> 1 | U37: 1 | V37: ='[1]01'!$K$49 -> 1 | W37: 1 | X37: ='[1]01'!$K$49 -> 1 | Y37: 1 | Z37: ='[1]01'!$K$49 -> 1 | AA37: 1 | AB37: ='[1]01'!$K$49 -> 1 | AC37: 1 | AD37: ='[1]01'!$K$49 -> 1 | AE37: 1 | AF37: ='[1]01'!$K$49 -> 1 | AG37: 1 | AH37: ='[1]01'!$K$49 -> 1 | AI37: 1 | AJ37: ='[1]01'!$K$49 -> 1 | AK37: 1 | AL37: ='[1]01'!$K$49 -> 1 | AM37: 1 | AN37: ='[1]01'!$K$49 -> 1 | AO37: 1 | AP37: ='[1]01'!$K$49 -> 1 | AQ37: 1 | AR37: ='[1]01'!$K$49 -> 1 | AS37: 1 | AT37: ='[1]01'!$K$49 -> 1 | AU37: 1 | AV37: ='[1]01'!$K$49 -> 1 | AW37: 1 | AX37: ='[1]01'!$K$49 -> 1 | AY37: 1 | AZ37: ='[1]01'!$K$49 -> 1 | BA37: 1 | BB37: ='[1]01'!$K$49 -> 1 | BC37: 1 | BD37: ='[1]01'!$K$49 -> 1 | BE37: 1 | BF37: ='[1]01'!$K$49 -> 1 | BG37: 1 | BH37: ='[1]01'!$K$49 -> 1 | BI37: 1 | BJ37: ='[1]01'!$K$49 -> 1 | BK37: 1 | BL37: ='[1]01'!$K$49 -> 1
B38: Toilet cleaner | C38: 1 | D38: ='[1]01'!$K$62 -> 1 | E38: 1 | F38: ='[1]01'!$K$62 -> 1 | G38: 1 | H38: ='[1]01'!$K$62 -> 1 | I38: 1 | J38: ='[1]01'!$K$62 -> 1 | K38: 1 | L38: ='[1]01'!$K$62 -> 1 | M38: 1 | N38: ='[1]01'!$K$62 -> 1 | O38: 1 | P38: ='[1]01'!$K$62 -> 1 | Q38: 1 | R38: ='[1]01'!$K$62 -> 1 | S38: 1 | T38: ='[1]01'!$K$62 -> 1 | U38: 1 | V38: ='[1]01'!$K$62 -> 1 | W38: 1 | X38: ='[1]01'!$K$62 -> 1 | Y38: 1 | Z38: ='[1]01'!$K$62 -> 1 | AA38: 1 | AB38: ='[1]01'!$K$62 -> 1 | AC38: 1 | AD38: ='[1]01'!$K$62 -> 1 | AE38: 1 | AF38: ='[1]01'!$K$62 -> 1 | AG38: 1 | AH38: ='[1]01'!$K$62 -> 1 | AI38: 1 | AJ38: ='[1]01'!$K$62 -> 1 | AK38: 1 | AL38: ='[1]01'!$K$62 -> 1 | AM38: 1 | AN38: ='[1]01'!$K$62 -> 1 | AO38: 1 | AP38: ='[1]01'!$K$62 -> 1 | AQ38: 1 | AR38: ='[1]01'!$K$62 -> 1 | AS38: 1 | AT38: ='[1]01'!$K$62 -> 1 | AU38: 1 | AV38: ='[1]01'!$K$62 -> 1 | AW38: 1 | AX38: ='[1]01'!$K$62 -> 1 | AY38: 1 | AZ38: ='[1]01'!$K$62 -> 1 | BA38: 1 | BB38: ='[1]01'!$K$62 -> 1 | BC38: 1 | BD38: ='[1]01'!$K$62 -> 1 | BE38: 1 | BF38: ='[1]01'!$K$62 -> 1 | BG38: 1 | BH38: ='[1]01'!$K$62 -> 1 | BI38: 1 | BJ38: ='[1]01'!$K$62 -> 1 | BK38: 1 | BL38: ='[1]01'!$K$62 -> 1
B39: Floor cleaner | C39: 1 | D39: ='[1]01'!$K$62 -> 1 | E39: 1 | F39: ='[1]01'!$K$62 -> 1 | G39: 1 | H39: ='[1]01'!$K$62 -> 1 | I39: 1 | J39: ='[1]01'!$K$62 -> 1 | K39: 1 | L39: ='[1]01'!$K$62 -> 1 | M39: 1 | N39: ='[1]01'!$K$62 -> 1 | O39: 1 | P39: ='[1]01'!$K$62 -> 1 | Q39: 1 | R39: ='[1]01'!$K$62 -> 1 | S39: 1 | T39: ='[1]01'!$K$62 -> 1 | U39: 1 | V39: ='[1]01'!$K$62 -> 1 | W39: 1 | X39: ='[1]01'!$K$62 -> 1 | Y39: 1 | Z39: ='[1]01'!$K$62 -> 1 | AA39: 1 | AB39: ='[1]01'!$K$62 -> 1 | AC39: 1 | AD39: ='[1]01'!$K$62 -> 1 | AE39: 1 | AF39: ='[1]01'!$K$62 -> 1 | AG39: 1 | AH39: ='[1]01'!$K$62 -> 1 | AI39: 1 | AJ39: ='[1]01'!$K$62 -> 1 | AK39: 1 | AL39: ='[1]01'!$K$62 -> 1 | AM39: 1 | AN39: ='[1]01'!$K$62 -> 1 | AO39: 1 | AP39: ='[1]01'!$K$62 -> 1 | AQ39: 1 | AR39: ='[1]01'!$K$62 -> 1 | AS39: 1 | AT39: ='[1]01'!$K$62 -> 1 | AU39: 1 | AV39: ='[1]01'!$K$62 -> 1 | AW39: 1 | AX39: ='[1]01'!$K$62 -> 1 | AY39: 1 | AZ39: ='[1]01'!$K$62 -> 1 | BA39: 1 | BB39: ='[1]01'!$K$62 -> 1 | BC39: 1 | BD39: ='[1]01'!$K$62 -> 1 | BE39: 1 | BF39: ='[1]01'!$K$62 -> 1 | BG39: 1 | BH39: ='[1]01'!$K$62 -> 1 | BI39: 1 | BJ39: ='[1]01'!$K$62 -> 1 | BK39: 1 | BL39: ='[1]01'!$K$62 -> 1
B40: Spotes cleaner | C40: 0.5 | D40: ='[1]01'!$K$63 -> 1 | E40: 0.5 | F40: ='[1]01'!$K$63 -> 1 | G40: 0.5 | H40: ='[1]01'!$K$63 -> 1 | I40: 0.5 | J40: ='[1]01'!$K$63 -> 1 | K40: 0.5 | L40: ='[1]01'!$K$63 -> 1 | M40: 0.5 | N40: ='[1]01'!$K$63 -> 1 | O40: 0.5 | P40: ='[1]01'!$K$63 -> 1 | Q40: 0.5 | R40: ='[1]01'!$K$63 -> 1 | S40: 0.5 | T40: ='[1]01'!$K$63 -> 1 | U40: 0.5 | V40: ='[1]01'!$K$63 -> 1 | W40: 0.5 | X40: ='[1]01'!$K$63 -> 1 | Y40: 0.5 | Z40: ='[1]01'!$K$63 -> 1 | AA40: 0.5 | AB40: ='[1]01'!$K$63 -> 1 | AC40: 0.5 | AD40: ='[1]01'!$K$63 -> 1 | AE40: 0.5 | AF40: ='[1]01'!$K$63 -> 1 | AG40: 0.5 | AH40: ='[1]01'!$K$63 -> 1 | AI40: 0.5 | AJ40: ='[1]01'!$K$63 -> 1 | AK40: 0.5 | AL40: ='[1]01'!$K$63 -> 1 | AM40: 0.5 | AN40: ='[1]01'!$K$63 -> 1 | AO40: 0.5 | AP40: ='[1]01'!$K$63 -> 1 | AQ40: 0.5 | AR40: ='[1]01'!$K$63 -> 1 | AS40: 0.5 | AT40: ='[1]01'!$K$63 -> 1 | AU40: 0.5 | AV40: ='[1]01'!$K$63 -> 1 | AW40: 0.5 | AX40: ='[1]01'!$K$63 -> 1 | AY40: 0.5 | AZ40: ='[1]01'!$K$63 -> 1 | BA40: 0.5 | BB40: ='[1]01'!$K$63 -> 1 | BC40: 0.5 | BD40: ='[1]01'!$K$63 -> 1 | BE40: 0.5 | BF40: ='[1]01'!$K$63 -> 1 | BG40: 0.5 | BH40: ='[1]01'!$K$63 -> 1 | BI40: 0.5 | BJ40: ='[1]01'!$K$63 -> 1 | BK40: 0.5 | BL40: ='[1]01'!$K$63 -> 1
B41: Multi perpose soap | C41: 1 | D41: ='[1]01'!$K$64 -> 1 | E41: 1 | F41: ='[1]01'!$K$64 -> 1 | G41: 1 | H41: ='[1]01'!$K$64 -> 1 | I41: 1 | J41: ='[1]01'!$K$64 -> 1 | K41: 1 | L41: ='[1]01'!$K$64 -> 1 | M41: 1 | N41: ='[1]01'!$K$64 -> 1 | O41: 1 | P41: ='[1]01'!$K$64 -> 1 | Q41: 1 | R41: ='[1]01'!$K$64 -> 1 | S41: 1 | T41: ='[1]01'!$K$64 -> 1 | U41: 1 | V41: ='[1]01'!$K$64 -> 1 | W41: 1 | X41: ='[1]01'!$K$64 -> 1 | Y41: 1 | Z41: ='[1]01'!$K$64 -> 1 | AA41: 1 | AB41: ='[1]01'!$K$64 -> 1 | AC41: 1 | AD41: ='[1]01'!$K$64 -> 1 | AE41: 1 | AF41: ='[1]01'!$K$64 -> 1 | AG41: 1 | AH41: ='[1]01'!$K$64 -> 1 | AI41: 1 | AJ41: ='[1]01'!$K$64 -> 1 | AK41: 1 | AL41: ='[1]01'!$K$64 -> 1 | AM41: 1 | AN41: ='[1]01'!$K$64 -> 1 | AO41: 1 | AP41: ='[1]01'!$K$64 -> 1 | AQ41: 1 | AR41: ='[1]01'!$K$64 -> 1 | AS41: 1 | AT41: ='[1]01'!$K$64 -> 1 | AU41: 1 | AV41: ='[1]01'!$K$64 -> 1 | AW41: 1 | AX41: ='[1]01'!$K$64 -> 1 | AY41: 1 | AZ41: ='[1]01'!$K$64 -> 1 | BA41: 1 | BB41: ='[1]01'!$K$64 -> 1 | BC41: 1 | BD41: ='[1]01'!$K$64 -> 1 | BE41: 1 | BF41: ='[1]01'!$K$64 -> 1 | BG41: 1 | BH41: ='[1]01'!$K$64 -> 1 | BI41: 1 | BJ41: ='[1]01'!$K$64 -> 1 | BK41: 1 | BL41: ='[1]01'!$K$64 -> 1
B42: Stainless polisher | C42: 1 | D42: ='[1]01'!$K$65 -> 1 | E42: 1 | F42: ='[1]01'!$K$65 -> 1 | G42: 1 | H42: ='[1]01'!$K$65 -> 1 | I42: 1 | J42: ='[1]01'!$K$65 -> 1 | K42: 1 | L42: ='[1]01'!$K$65 -> 1 | M42: 1 | N42: ='[1]01'!$K$65 -> 1 | O42: 1 | P42: ='[1]01'!$K$65 -> 1 | Q42: 1 | R42: ='[1]01'!$K$65 -> 1 | S42: 1 | T42: ='[1]01'!$K$65 -> 1 | U42: 1 | V42: ='[1]01'!$K$65 -> 1 | W42: 1 | X42: ='[1]01'!$K$65 -> 1 | Y42: 1 | Z42: ='[1]01'!$K$65 -> 1 | AA42: 1 | AB42: ='[1]01'!$K$65 -> 1 | AC42: 1 | AD42: ='[1]01'!$K$65 -> 1 | AE42: 1 | AF42: ='[1]01'!$K$65 -> 1 | AG42: 1 | AH42: ='[1]01'!$K$65 -> 1 | AI42: 1 | AJ42: ='[1]01'!$K$65 -> 1 | AK42: 1 | AL42: ='[1]01'!$K$65 -> 1 | AM42: 1 | AN42: ='[1]01'!$K$65 -> 1 | AO42: 1 | AP42: ='[1]01'!$K$65 -> 1 | AQ42: 1 | AR42: ='[1]01'!$K$65 -> 1 | AS42: 1 | AT42: ='[1]01'!$K$65 -> 1 | AU42: 1 | AV42: ='[1]01'!$K$65 -> 1 | AW42: 1 | AX42: ='[1]01'!$K$65 -> 1 | AY42: 1 | AZ42: ='[1]01'!$K$65 -> 1 | BA42: 1 | BB42: ='[1]01'!$K$65 -> 1 | BC42: 1 | BD42: ='[1]01'!$K$65 -> 1 | BE42: 1 | BF42: ='[1]01'!$K$65 -> 1 | BG42: 1 | BH42: ='[1]01'!$K$65 -> 1 | BI42: 1 | BJ42: ='[1]01'!$K$65 -> 1 | BK42: 1 | BL42: ='[1]01'!$K$65 -> 1
B43: Carpet shampoo | C43: 0.5 | D43: ='[1]01'!$K$67 -> 1 | E43: 0.5 | F43: ='[1]01'!$K$67 -> 1 | G43: 0.5 | H43: ='[1]01'!$K$67 -> 1 | I43: 0.5 | J43: ='[1]01'!$K$67 -> 1 | K43: 0.5 | L43: ='[1]01'!$K$67 -> 1 | M43: 0.5 | N43: ='[1]01'!$K$67 -> 1 | O43: 0.5 | P43: ='[1]01'!$K$67 -> 1 | Q43: 0.5 | R43: ='[1]01'!$K$67 -> 1 | S43: 0.5 | T43: ='[1]01'!$K$67 -> 1 | U43: 0.5 | V43: ='[1]01'!$K$67 -> 1 | W43: 0.5 | X43: ='[1]01'!$K$67 -> 1 | Y43: 0.5 | Z43: ='[1]01'!$K$67 -> 1 | AA43: 0.5 | AB43: ='[1]01'!$K$67 -> 1 | AC43: 0.5 | AD43: ='[1]01'!$K$67 -> 1 | AE43: 0.5 | AF43: ='[1]01'!$K$67 -> 1 | AG43: 0.5 | AH43: ='[1]01'!$K$67 -> 1 | AI43: 0.5 | AJ43: ='[1]01'!$K$67 -> 1 | AK43: 0.5 | AL43: ='[1]01'!$K$67 -> 1 | AM43: 0.5 | AN43: ='[1]01'!$K$67 -> 1 | AO43: 0.5 | AP43: ='[1]01'!$K$67 -> 1 | AQ43: 0.5 | AR43: ='[1]01'!$K$67 -> 1 | AS43: 0.5 | AT43: ='[1]01'!$K$67 -> 1 | AU43: 0.5 | AV43: ='[1]01'!$K$67 -> 1 | AW43: 0.5 | AX43: ='[1]01'!$K$67 -> 1 | AY43: 0.5 | AZ43: ='[1]01'!$K$67 -> 1 | BA43: 0.5 | BB43: ='[1]01'!$K$67 -> 1 | BC43: 0.5 | BD43: ='[1]01'!$K$67 -> 1 | BE43: 0.5 | BF43: ='[1]01'!$K$67 -> 1 | BG43: 0.5 | BH43: ='[1]01'!$K$67 -> 1 | BI43: 0.5 | BJ43: ='[1]01'!$K$67 -> 1 | BK43: 0.5 | BL43: ='[1]01'!$K$67 -> 1
B44: BC chemicals | C44: 2 | D44: ='[1]01'!$K$68 -> 0 | E44: 2 | F44: ='[1]01'!$K$68 -> 0 | G44: 2 | H44: ='[1]01'!$K$68 -> 0 | I44: 2 | J44: ='[1]01'!$K$68 -> 0 | K44: 2 | L44: ='[1]01'!$K$68 -> 0 | M44: 2 | N44: ='[1]01'!$K$68 -> 0 | O44: 2 | P44: ='[1]01'!$K$68 -> 0 | Q44: 2 | R44: ='[1]01'!$K$68 -> 0 | S44: 2 | T44: ='[1]01'!$K$68 -> 0 | U44: 2 | V44: ='[1]01'!$K$68 -> 0 | W44: 2 | X44: ='[1]01'!$K$68 -> 0 | Y44: 2 | Z44: ='[1]01'!$K$68 -> 0 | AA44: 2 | AB44: ='[1]01'!$K$68 -> 0 | AC44: 2 | AD44: ='[1]01'!$K$68 -> 0 | AE44: 2 | AF44: ='[1]01'!$K$68 -> 0 | AG44: 2 | AH44: ='[1]01'!$K$68 -> 0 | AI44: 2 | AJ44: ='[1]01'!$K$68 -> 0 | AK44: 2 | AL44: ='[1]01'!$K$68 -> 0 | AM44: 2 | AN44: ='[1]01'!$K$68 -> 0 | AO44: 2 | AP44: ='[1]01'!$K$68 -> 0 | AQ44: 2 | AR44: ='[1]01'!$K$68 -> 0 | AS44: 2 | AT44: ='[1]01'!$K$68 -> 0 | AU44: 2 | AV44: ='[1]01'!$K$68 -> 0 | AW44: 2 | AX44: ='[1]01'!$K$68 -> 0 | AY44: 2 | AZ44: ='[1]01'!$K$68 -> 0 | BA44: 2 | BB44: ='[1]01'!$K$68 -> 0 | BC44: 2 | BD44: ='[1]01'!$K$68 -> 0 | BE44: 2 | BF44: ='[1]01'!$K$68 -> 0 | BG44: 2 | BH44: ='[1]01'!$K$68 -> 0 | BI44: 2 | BJ44: ='[1]01'!$K$68 -> 0 | BK44: 2 | BL44: ='[1]01'!$K$68 -> 0
B46: Total | C46: =SUM(C36:C45) -> 9 | D46: =SUM(D36:D45) -> 8 | E46: =SUM(E36:E45) -> 9 | F46: =SUM(F36:F45) -> 8 | G46: =SUM(G36:G45) -> 9 | H46: =SUM(H36:H45) -> 8 | I46: =SUM(I36:I45) -> 9 | J46: =SUM(J36:J45) -> 8 | ... BL46: =SUM(BL36:BL45) -> 8
B47: Score | C47: 5 | E47: 5 | G47: 5 | I47: 5 | K47: 5 | M47: 5 | O47: 5 | Q47: 5 | S47: 5 | U47: 5 | W47: 5 | Y47: 5 | AA47: 5 | AC47: 5 | AE47: 5 | AG47: 5 | AI47: 5 | AK47: 5 | AM47: 5 | AO47: 5 | AQ47: 5 | AS47: 5 | AU47: 5 | AW47: 5 | AY47: 5 | BA47: 5 | BC47: 5 | BE47: 5 | BG47: 5 | BI47: 5 | BK47: 5 | BM47: =SUM(C47:BL47) -> 155
B48: Cont Score Per item | C48: =C47/C46 -> 0.55555556 | E48: =E47/E46 -> 0.55555556 | G48: =G47/G46 -> 0.55555556 | I48: =I47/I46 -> 0.55555556 | K48: =K47/K46 -> 0.55555556 | M48: =M47/M46 -> 0.55555556 | O48: =O47/O46 -> 0.55555556 | Q48: =Q47/Q46 -> 0.55555556 | S48: =S47/S46 -> 0.55555556 | U48: =U47/U46 -> 0.55555556 | W48: =W47/W46 -> 0.55555556 | Y48: =Y47/Y46 -> 0.55555556 | AA48: =AA47/AA46 -> 0.55555556 | AC48: =AC47/AC46 -> 0.55555556 | AE48: =AE47/AE46 -> 0.55555556 | AG48: =AG47/AG46 -> 0.55555556 | AI48: =AI47/AI46 -> 0.55555556 | AK48: =AK47/AK46 -> 0.55555556 | AM48: =AM47/AM46 -> 0.55555556 | AO48: =AO47/AO46 -> 0.55555556 | AQ48: =AQ47/AQ46 -> 0.55555556 | AS48: =AS47/AS46 -> 0.55555556 | AU48: =AU47/AU46 -> 0.55555556 | AW48: =AW47/AW46 -> 0.55555556 | AY48: =AY47/AY46 -> 0.55555556 | BA48: =BA47/BA46 -> 0.55555556 | BC48: =BC47/BC46 -> 0.55555556 | BE48: =BE47/BE46 -> 0.55555556 | BG48: =BG47/BG46 -> 0.55555556 | BI48: =BI47/BI46 -> 0.55555556 | BK48: =BK47/BK46 -> 0.55555556
B49: Act score | D49: =C48*D46 -> 4.4444444 | F49: =E48*F46 -> 4.4444444 | H49: =G48*H46 -> 4.4444444 | J49: =I48*J46 -> 4.4444444 | L49: =K48*L46 -> 4.4444444 | N49: =M48*N46 -> 4.4444444 | P49: =O48*P46 -> 4.4444444 | R49: =Q48*R46 -> 4.4444444 | T49: =S48*T46 -> 4.4444444 | V49: =U48*V46 -> 4.4444444 | X49: =W48*X46 -> 4.4444444 | Z49: =Y48*Z46 -> 4.4444444 | AB49: =AA48*AB46 -> 4.4444444 | AD49: =AC48*AD46 -> 4.4444444 | AF49: =AE48*AF46 -> 4.4444444 | AH49: =AG48*AH46 -> 4.4444444 | AJ49: =AI48*AJ46 -> 4.4444444 | AL49: =AK48*AL46 -> 4.4444444 | AN49: =AM48*AN46 -> 4.4444444 | AP49: =AO48*AP46 -> 4.4444444 | AR49: =AQ48*AR46 -> 4.4444444 | AT49: =AS48*AT46 -> 4.4444444 | AV49: =AU48*AV46 -> 4.4444444 | AX49: =AW48*AX46 -> 4.4444444 | AZ49: =AY48*AZ46 -> 4.4444444 | BB49: =BA48*BB46 -> 4.4444444 | BD49: =BC48*BD46 -> 4.4444444 | BF49: =BE48*BF46 -> 4.4444444 | BH49: =BG48*BH46 -> 4.4444444 | BJ49: =BI48*BJ46 -> 4.4444444 | BL49: =BK48*BL46 -> 4.4444444 | BM49: =SUM(C49:BL49) -> 137.77778
B51: Total Score | BM51: =BM13+BM29+BM47 -> 465
B52: Actual score | BM52: =BM15+BM31+BM49 -> 427.46825
