Workbook

Sheet Performance average
B3: Required Service | C3: Full Mark | D3: Percent Per Services | E3: Percent to total contract | F3: Percent per month | G3: Actual percentage | H3: Deduction
B4: Administration area & Edge | C4: 10 | D4: =C4/C19 -> 0.1 | E4: =H19*D4 -> 34620 | F4: ='Administraion Area& Edge'!AI71/'Administraion Area& Edge'!AI70 -> 0.94064516 | G4: =E4*F4 -> 32565.135 | H4: =100%-F4 -> 0.059354839
B5: Toilets | C5: 5 | D5: 0.05 | E5: =H19*D5 -> 17310 | F5: =Toilets!AI82/Toilets!AI81 -> 0.88258065 | G5: =E5*F5 -> 15277.471 | H5: =100%-F5 -> 0.11741935
B6: Lobby & floors, & guest elevators | C6: 10 | D6: 0.1 | E6: =H19*D6 -> 34620 | F6: ='Lobby&Floors&elevators'!AI85/'Lobby&Floors&elevators'!AI84 -> 0.9487666 | G6: =E6*F6 -> 32846.3 | H6: =100%-F6 -> 0.051233397
B7: Celebration area | C7: 5 | D7: 0.05 | E7: =H19*D7 -> 17310 | F7: ='Celebration area'!AI61/'Celebration area'!AI60 -> 0.94709677 | G7: =E7*F7 -> 16394.245 | H7: =100%-F7 -> 0.052903226
B8: Receiving Area | C8: 5 | D8: 0.05 | E8: =H19*D8 -> 17310 | F8: ='Receiving Area'!AI55/'Receiving Area'!AI54 -> 0.88967742 | G8: =E8*F8 -> 15400.316 | H8: =100%-F8 -> 0.11032258
B9: Stairs | C9: 5 | D9: 0.05 | E9: =H19*D9 -> 17310 | F9: =Stairs!AI45/Stairs!AI44 -> 0.83032258 | G9: =E9*F9 -> 14372.884 | H9: =100%-F9 -> 0.16967742
B10: Back Area & service elevators | C10: 5 | D10: 0.05 | E10: =H19*D10 -> 17310 | F10: ='Back areas & service elevators'!AI56/'Back areas & service elevators'!AI55 -> 0.84580645 | G10: =E10*F10 -> 14640.91 | H10: =100%-F10 -> 0.15419355
B11: Environments | C11: 5 | D11: 0.05 | E11: =H19*D11 -> 17310 | F11: =Environment!AI37/Environment!AI36 -> 1 | G11: =E11*F11 -> 17310 | H11: =100%-F11 -> 0
B12: Sky Light& canopies | C12: 5 | D12: 0.05 | E12: =H19*D12 -> 17310 | F12: ='Sky light &canopies'!AI39/'Sky light &canopies'!AI38 -> 0.96774194 | G12: =E12*F12 -> 16751.613 | H12: =100%-F12 -> 0.032258065
B13: Basement | C13: 5 | D13: 0.05 | E13: =H19*D13 -> 17310 | F13: =Basement!AI72/Basement!AI71 -> 1 | G13: =E13*F13 -> 17310 | H13: =100%-F13 -> 0
B14: Maintenance & mechanical rooms | C14: 5 | D14: 0.05 | E14: =H19*D14 -> 17310 | F14: ='Maintenance&mechanical rooms '!AI53/'Maintenance&mechanical rooms '!AI52 -> 1 | G14: =E14*F14 -> 17310 | H14: =100%-F14 -> 0
B15: Attendance | C15: 10 | D15: =C15/C19 -> 0.1 | E15: =H19*D15 -> 34620 | F15: =Attendance!GF13/Attendance!GF11 -> 0.95714286 | G15: =E15*F15 -> 33136.286 | H15: =100%-F15 -> 0.042857143
B16: Equipment & tools & Response | C16: 10 | D16: =10% -> 0.1 | E16: =H19*D16 -> 34620 | F16: ='Equipment and Tools'!BM52/'Equipment and Tools'!BM51 -> 0.91928657 | G16: =E16*F16 -> 31825.701 | H16: =100%-F16 -> 0.080713432
B17: Food hall | C17: 5 | D17: 0.05 | E17: =H19*D17 -> 17310 | F17: ='Food hall'!AI59/'Food hall'!AI58 -> 0.90322581 | G17: =E17*F17 -> 15634.839 | H17: =100%-F17 -> 0.096774194
B18: Appearance and Hygiene | C18: 10 | D18: =10% -> 0.1 | E18: =H19*D18 -> 34620 | F18: ='Appearance and hygiene'!AI38/'Appearance and hygiene'!AI37 -> 0.99139785 | G18: =E18*F18 -> 34322.194 | H18: =100%-F18 -> 0.0086021505
B19: Total Marks | C19: =SUM(C4:C18) -> 100 | E19: =SUM(E4:E18) -> 346200 | G19: =SUM(G4:G18) -> 325097.89 | H19: 346200
B20: Overall precentage | G20: =G19/H19 -> 0.93904648 | H20: =H19-G19 -> 21102.107

Sheet Administraion Area& Edge
B2: Date | D2: 1 | E2: 2 | F2: 3 | G2: 4 | H2: 5 | I2: 6 | J2: 7 | K2: 8 | L2: 9 | M2: 10 | N2: 11 | O2: 12 | P2: 13 | Q2: 14 | R2: 15 | S2: 16 | T2: 17 | U2: 18 | V2: 19 | W2: 20 | X2: 21 | Y2: 22 | Z2: 23 | AA2: 24 | AB2: 25 | AC2: 26 | AD2: 27 | AE2: 28 | AF2: 29 | AG2: 30 | AH2: 31
B3: Area | C3: Standard | D3: Score
A4: 1 | B4: Ceiling | D4: 0.5 | E4: 0.5 | F4: 0.5 | G4: 0.5 | H4: 0.5 | I4: 0.5 | J4: 0.5 | K4: 0.5 | L4: 0.5 | M4: 0.5 | N4: 0.5 | O4: 0.5 | P4: 0.5 | Q4: 0.5 | R4: 0.5 | S4: 0.5 | T4: 0.5 | U4: 0.5 | V4: 0.5 | W4: 0.5 | X4: 0.5 | Y4: 0.5 | Z4: 0.5 | AA4: 0.5 | AB4: 0.5 | AC4: 0.5 | AD4: 0.5 | AE4: 0.5 | AF4: 0.5 | AG4: 0.5 | AH4: 0.5
B5: Tiles | C5: Free of dust and no finger prints
B6: Air diffusers | C6: Free of dust and no finger prints
B7: Light fixtures | C7: Free of dust and no finger prints
B8: Actual Score | D8: ='[1]01'!$C$4 -> 0.5 | E8: ='[1]02'!$C$4 -> 0.5 | F8: ='[1]03'!$C$4 -> 0.5 | G8: ='[1]04'!$C$4 -> 0.5 | H8: ='[1]05'!$C$4 -> 0.5 | I8: ='[1]06'!$C$4 -> 0.5 | J8: ='[1]07'!$C$4 -> 0.5 | K8: ='[1]08'!$C$4 -> 0.5 | L8: ='[1]09'!$C$4 -> 0.5 | M8: ='[1]10'!$C$4 -> 0.5 | N8: ='[1]11'!$C$4 -> 0.5 | O8: ='[1]12'!$C$4 -> 0.5 | P8: ='[1]13'!$C$4 -> 0.5 | Q8: ='[1]14'!$C$4 -> 0.5 | R8: ='[1]15'!$C$4 -> 0.5 | S8: ='[1]16'!$C$4 -> 0.5 | T8: ='[1]17'!$C$4 -> 0.5 | U8: ='[1]18'!$C$4 -> 0.5 | V8: ='[1]19'!$C$4 -> 0.5 | W8: ='[1]20'!$C$4 -> 0.5 | X8: ='[1]21'!$C$4 -> 0.5 | Y8: ='[1]22'!$C$4 -> 0.5 | Z8: ='[1]23'!$C$4 -> 0.5 | AA8: ='[1]24'!$C$4 -> 0.5 | AB8: ='[1]25'!$C$4 -> 0.5 | AC8: ='[1]26'!$C$4 -> 0.5 | AD8: ='[1]27'!$C$4 -> 0.5 | AE8: ='[1]28'!$C$4 -> 0.5 | AF8: ='[1]29'!$C$4 -> 0.5 | AG8: ='[1]30'!$C$4 -> 0.5 | AH8: ='[1]31'!$C$4 -> 0.5
A9: 2 | B9: Walls | D9: 0.5 | E9: 0.5 | F9: 0.5 | G9: 0.5 | H9: 0.5 | I9: 0.5 | J9: 0.5 | K9: 0.5 | L9: 0.5 | M9: 0.5 | N9: 0.5 | O9: 0.5 | P9: 0.5 | Q9: 0.5 | R9: 0.5 | S9: 0.5 | T9: 0.5 | U9: 0.5 | V9: 0.5 | W9: 0.5 | X9: 0.5 | Y9: 0.5 | Z9: 0.5 | AA9: 0.5 | AB9: 0.5 | AC9: 0.5 | AD9: 0.5 | AE9: 0.5 | AF9: 0.5 | AG9: 0.5 | AH9: 0.5
B10: Painted Walls | C10: No finger prints or black marks
B11: Wood walls | C11: Free of dust and no finger prints
B12: Corners and baseboard | C12: Free of dust and black marks
B13: Switches and sockets | C13: Free of dust and no finger prints
B14: Signs | C14: Shiny and no finger prints
B15: Stainless steel work | C15: Free of dust and no finger prints
B16: wood work | C16: Free of dust and no finger prints
B17: Actual Score | D17: ='[1]01'!$C$5 -> 0.5 | E17: ='[1]02'!$C$5 -> 0.5 | F17: ='[1]03'!$C$5 -> 0.5 | G17: ='[1]04'!$C$5 -> 0.5 | H17: ='[1]05'!$C$5 -> 0.5 | I17: ='[1]06'!$C$5 -> 0.5 | J17: ='[1]07'!$C$5 -> 0.5 | K17: ='[1]08'!$C$5 -> 0.5 | L17: ='[1]09'!$C$5 -> 0.5 | M17: ='[1]10'!$C$5 -> 0.5 | N17: ='[1]11'!$C$5 -> 0.5 | O17: ='[1]12'!$C$5 -> 0.5 | P17: ='[1]13'!$C$5 -> 0.5 | Q17: ='[1]14'!$C$5 -> 0.5 | R17: ='[1]15'!$C$5 -> 0.5 | S17: ='[1]16'!$C$5 -> 0.5 | T17: ='[1]17'!$C$5 -> 0.5 | U17: ='[1]18'!$C$5 -> 0.5 | V17: ='[1]19'!$C$5 -> 0.5 | W17: ='[1]20'!$C$5 -> 0.5 | X17: ='[1]21'!$C$5 -> 0.5 | Y17: ='[1]22'!$C$5 -> 0.5 | Z17: ='[1]23'!$C$5 -> 0.5 | AA17: ='[1]24'!$C$5 -> 0.5 | AB17: ='[1]25'!$C$5 -> 0.5 | AC17: ='[1]26'!$C$5 -> 0.5 | AD17: ='[1]27'!$C$5 -> 0.5 | AE17: ='[1]28'!$C$5 -> 0.5 | AF17: ='[1]29'!$C$5 -> 0.5 | AG17: ='[1]30'!$C$5 -> 0.5 | AH17: ='[1]31'!$C$5 -> 0.5
A18: 3 | B18: Glass work | D18: 0.5 | E18: 0.5 | F18: 0.5 | G18: 0.5 | H18: 0.5 | I18: 0.5 | J18: 0.5 | K18: 0.5 | L18: 0.5 | M18: 0.5 | N18: 0.5 | O18: 0.5 | P18: 0.5 | Q18: 0.5 | R18: 0.5 | S18: 0.5 | T18: 0.5 | U18: 0.5 | V18: 0.5 | W18: 0.5 | X18: 0.5 | Y18: 0.5 | Z18: 0.5 | AA18: 0.5 | AB18: 0.5 | AC18: 0.5 | AD18: 0.5 | AE18: 0.5 | AF18: 0.5 | AG18: 0.5 | AH18: 0.5
B19: Partitions) | C19: Free of dust and no finger prints
B20: Actual Score | D20: ='[1]01'!$C$6 -> 0.5 | E20: ='[1]02'!$C$6 -> 0.5 | F20: ='[1]03'!$C$6 -> 0.5 | G20: ='[1]04'!$C$6 -> 0.5 | H20: ='[1]05'!$C$6 -> 0.5 | I20: ='[1]06'!$C$6 -> 0.5 | J20: ='[1]07'!$C$6 -> 0.5 | K20: ='[1]08'!$C$6 -> 0.5 | L20: ='[1]09'!$C$6 -> 0.5 | M20: ='[1]10'!$C$6 -> 0.5 | N20: ='[1]11'!$C$6 -> 0.5 | O20: ='[1]12'!$C$6 -> 0.5 | P20: ='[1]13'!$C$6 -> 0.5 | Q20: ='[1]14'!$C$6 -> 0.5 | R20: ='[1]15'!$C$6 -> 0.5 | S20: ='[1]16'!$C$6 -> 0.5 | T20: ='[1]17'!$C$6 -> 0.5 | U20: ='[1]18'!$C$6 -> 0.5 | V20: ='[1]19'!$C$6 -> 0.5 | W20: ='[1]20'!$C$6 -> 0.5 | X20: ='[1]21'!$C$6 -> 0.5 | Y20: ='[1]22'!$C$6 -> 0.5 | Z20: ='[1]23'!$C$6 -> 0.5 | AA20: ='[1]24'!$C$6 -> 0.5 | AB20: ='[1]25'!$C$6 -> 0.5 | AC20: ='[1]26'!$C$6 -> 0.5 | AD20: ='[1]27'!$C$6 -> 0.5 | AE20: ='[1]28'!$C$6 -> 0.5 | AF20: ='[1]29'!$C$6 -> 0.5 | AG20: ='[1]30'!$C$6 -> 0.5 | AH20: ='[1]31'!$C$6 -> 0.5
A21: 4 | B21: Windows | D21: 0.5 | E21: 0.5 | F21: 0.5 | G21: 0.5 | H21: 0.5 | I21: 0.5 | J21: 0.5 | K21: 0.5 | L21: 0.5 | M21: 0.5 | N21: 0.5 | O21: 0.5 | P21: 0.5 | Q21: 0.5 | R21: 0.5 | S21: 0.5 | T21: 0.5 | U21: 0.5 | V21: 0.5 | W21: 0.5 | X21: 0.5 | Y21: 0.5 | Z21: 0.5 | AA21: 0.5 | AB21: 0.5 | AC21: 0.5 | AD21: 0.5 | AE21: 0.5 | AF21: 0.5 | AG21: 0.5 | AH21: 0.5
B22: Glass | C22: Free of dust and no finger prints
B23: Frames | C23: Free of dust and no finger prints
B24: Drapery/ blinds | C24: Free of dust and spots
B25: Actual Score | D25: ='[1]01'!$C$7 -> 0.5 | E25: ='[1]02'!$C$7 -> 0.5 | F25: ='[1]03'!$C$6 -> 0.5 | G25: ='[1]04'!$C$6 -> 0.5 | H25: ='[1]05'!$C$6 -> 0.5 | I25: ='[1]06'!$C$6 -> 0.5 | J25: ='[1]07'!$C$6 -> 0.5 | K25: ='[1]08'!$C$6 -> 0.5 | L25: ='[1]09'!$C$6 -> 0.5 | M25: ='[1]10'!$C$6 -> 0.5 | N25: ='[1]11'!$C$6 -> 0.5 | O25: ='[1]12'!$C$6 -> 0.5 | P25: ='[1]13'!$C$6 -> 0.5 | Q25: ='[1]14'!$C$6 -> 0.5 | R25: ='[1]15'!$C$6 -> 0.5 | S25: ='[1]16'!$C$6 -> 0.5 | T25: ='[1]17'!$C$6 -> 0.5 | U25: ='[1]18'!$C$6 -> 0.5 | V25: ='[1]19'!$C$6 -> 0.5 | W25: ='[1]20'!$C$6 -> 0.5 | X25: ='[1]21'!$C$6 -> 0.5 | Y25: ='[1]22'!$C$6 -> 0.5 | Z25: ='[1]23'!$C$6 -> 0.5 | AA25: ='[1]24'!$C$6 -> 0.5 | AB25: ='[1]25'!$C$6 -> 0.5 | AC25: ='[1]26'!$C$6 -> 0.5 | AD25: ='[1]27'!$C$6 -> 0.5 | AE25: ='[1]28'!$C$6 -> 0.5 | AF25: ='[1]29'!$C$6 -> 0.5 | AG25: ='[1]30'!$C$6 -> 0.5 | AH25: ='[1]31'!$C$6 -> 0.5
A26: 5 | B26: Offices, work station and meeting rooms | D26: 0.5 | E26: 0.5 | F26: 0.5 | G26: 0.5 | H26: 0.5 | I26: 0.5 | J26: 0.5 | K26: 0.5 | L26: 0.5 | M26: 0.5 | N26: 0.5 | O26: 0.5 | P26: 0.5 | Q26: 0.5 | R26: 0.5 | S26: 0.5 | T26: 0.5 | U26: 0.5 | V26: 0.5 | W26: 0.5 | X26: 0.5 | Y26: 0.5 | Z26: 0.5 | AA26: 0.5 | AB26: 0.5 | AC26: 0.5 | AD26: 0.5 | AE26: 0.5 | AF26: 0.5 | AG26: 0.5 | AH26: 0.5
B27: Desks | C27: Free of dust and no finger prints
B28: Fabric seats of offices | C28: Free of dust and spots
B29: Leather seats | C29: Free of dust and no finger prints
B30: Computers & electronic eqt, screens, cables etc. | C30: Free of dust and no finger prints
B31: Cupboards | C31: Free of dust and no finger prints
B32: Corner and center tables | C32: Free of dust and no finger prints
B33: Decorations items | C33: Free of dust and no finger prints
B34: Garbage baskets | C34: Clean and shiny and not smelly
B35: Garbage bags | C35: Clean and not smelly
B36: Carpet floors | C36: Free of dust, debris, spots, and bad smell
B37: Wooden floor | C37: Free of dust, debris and shads
B38: Actual Score | D38: ='[1]28'!$C$4 -> 0.5 | E38: ='[1]28'!$C$4 -> 0.5 | F38: ='[1]28'!$C$4 -> 0.5 | G38: ='[1]28'!$C$4 -> 0.5 | H38: ='[1]28'!$C$4 -> 0.5 | I38: ='[1]28'!$C$4 -> 0.5 | J38: ='[1]28'!$C$4 -> 0.5 | K38: ='[1]28'!$C$4 -> 0.5 | ... N38: ='[1]28'!$C$4 -> 0.5 | O38: 0 | P38: 0 | Q38: 0 | R38: 0 | S38: 0 | T38: 0 | U38: 0 | V38: ='[1]28'!$C$4 -> 0.5 | W38: ='[1]28'!$C$4 -> 0.5 | X38: ='[1]28'!$C$4 -> 0.5 | Y38: ='[1]28'!$C$4 -> 0.5 | Z38: ='[1]28'!$C$4 -> 0.5 | AA38: ='[1]28'!$C$4 -> 0.5 | AB38: ='[1]28'!$C$4 -> 0.5 | AC38: ='[1]28'!$C$4 -> 0.5 | ... AH38: ='[1]28'!$C$4 -> 0.5
A39: 6 | B39: Reception | D39: 0.5 | E39: 0.5 | F39: 0.5 | G39: 0.5 | H39: 0.5 | I39: 0.5 | J39: 0.5 | K39: 0.5 | L39: 0.5 | M39: 0.5 | N39: 0.5 | O39: 0.5 | P39: 0.5 | Q39: 0.5 | R39: 0.5 | S39: 0.5 | T39: 0.5 | U39: 0.5 | V39: 0.5 | W39: 0.5 | X39: 0.5 | Y39: 0.5 | Z39: 0.5 | AA39: 0.5 | AB39: 0.5 | AC39: 0.5 | AD39: 0.5 | AE39: 0.5 | AF39: 0.5 | AG39: 0.5 | AH39: 0.5
B40: Leather seats | C40: Free of dust and no finger prints
B41: Corner and center tables | C41: Free of dust and no finger prints
...

Sheet Toilets
D2: 1 | E2: 2 | F2: 3 | G2: 4 | H2: 5 | I2: 6 | J2: 7 | K2: 8 | L2: 9 | M2: 10 | N2: 11 | O2: 12 | P2: 13 | Q2: 14 | R2: 15 | S2: 16 | T2: 17 | U2: 18 | V2: 19 | W2: 20 | X2: 21 | Y2: 22 | Z2: 23 | AA2: 24 | AB2: 25 | AC2: 26 | AD2: 27 | AE2: 28 | AF2: 29 | AG2: 30 | AH2: 31
B3: Area | C3: Standard | D3: Score
A4: 1 | B4: Ceiling | D4: 0.5 | E4: 0.5 | F4: 0.5 | G4: 0.5 | H4: 0.5 | I4: 0.5 | J4: 0.5 | K4: 0.5 | L4: 0.5 | M4: 0.5 | N4: 0.5 | O4: 0.5 | P4: 0.5 | Q4: 0.5 | R4: 0.5 | S4: 0.5 | T4: 0.5 | U4: 0.5 | V4: 0.5 | W4: 0.5 | X4: 0.5 | Y4: 0.5 | Z4: 0.5 | AA4: 0.5 | AB4: 0.5 | AC4: 0.5 | AD4: 0.5 | AE4: 0.5 | AF4: 0.5 | AG4: 0.5 | AH4: 0.5
B5: Tiles | C5: Free of dust and no finger prints
B6: Air diffusers | C6: Free of dust and no finger prints
B7: Light fixtures | C7: Free of dust and no finger prints
B8: Exhausts | C8: Free of dust and no finger prints
B9: Smell | C9: Smell to be nice and not strong
B10: Appearance | C10: As per standard
B11: Actual Score | D11: ='[1]01'!$C$16 -> 0.5 | E11: ='[1]01'!$C$16 -> 0.5 | F11: ='[1]01'!$C$16 -> 0.5 | G11: ='[1]01'!$C$16 -> 0.5 | H11: ='[1]01'!$C$16 -> 0.5 | I11: ='[1]01'!$C$16 -> 0.5 | J11: ='[1]01'!$C$16 -> 0.5 | K11: ='[1]01'!$C$16 -> 0.5 | ... AH11: ='[1]01'!$C$16 -> 0.5
A12: 2 | B12: Walls | D12: 0.5 | E12: 0.5 | F12: 0.5 | G12: 0.5 | H12: 0.5 | I12: 0.5 | J12: 0.5 | K12: 0.5 | L12: 0.5 | M12: 0.5 | N12: 0.5 | O12: 0.5 | P12: 0.5 | Q12: 0.5 | R12: 0.5 | S12: 0.5 | T12: 0.5 | U12: 0.5 | V12: 0.5 | W12: 0.5 | X12: 0.5 | Y12: 0.5 | Z12: 0.5 | AA12: 0.5 | AB12: 0.5 | AC12: 0.5 | AD12: 0.5 | AE12: 0.5 | AF12: 0.5 | AG12: 0.5 | AH12: 0.5
B13: Marble walls | C13: No finger prints, water spots or black marks
B14: Corners and baseboard | C14: Free of dust, dirt's and water spots
B15: Switches and sockets | C15: Free of dust and no finger prints
B16: Wooden doors and frames | C16: Free of dust, no finger prints, or water spots
B17: Stainless steel work | C17: Free of dust and no finger prints
B18: Signs | C18: Shiny and no finger prints and well fixed
B19: Actual Score | D19: ='[1]01'!$C$16 -> 0.5 | E19: ='[1]01'!$C$16 -> 0.5 | F19: ='[1]01'!$C$16 -> 0.5 | G19: ='[1]01'!$C$16 -> 0.5 | H19: ='[1]01'!$C$16 -> 0.5 | I19: ='[1]01'!$C$16 -> 0.5 | J19: ='[1]01'!$C$16 -> 0.5 | K19: ='[1]01'!$C$16 -> 0.5 | ... AH19: ='[1]01'!$C$16 -> 0.5
A20: 3 | B20: Glass work | D20: 0.5 | E20: 0.5 | F20: 0.5 | G20: 0.5 | H20: 0.5 | I20: 0.5 | J20: 0.5 | K20: 0.5 | L20: 0.5 | M20: 0.5 | N20: 0.5 | O20: 0.5 | P20: 0.5 | Q20: 0.5 | R20: 0.5 | S20: 0.5 | T20: 0.5 | U20: 0.5 | V20: 0.5 | W20: 0.5 | X20: 0.5 | Y20: 0.5 | Z20: 0.5 | AA20: 0.5 | AB20: 0.5 | AC20: 0.5 | AD20: 0.5 | AE20: 0.5 | AF20: 0.5 | AG20: 0.5 | AH20: 0.5
B21: Mirrors | C21: Shiny and no finger prints, or water spots
B22: Actual Score | D22: ='[1]01'!$C$16 -> 0.5 | E22: ='[1]01'!$C$16 -> 0.5 | F22: ='[1]01'!$C$16 -> 0.5 | G22: ='[1]01'!$C$16 -> 0.5 | H22: ='[1]01'!$C$16 -> 0.5 | I22: ='[1]01'!$C$16 -> 0.5 | J22: ='[1]01'!$C$16 -> 0.5 | K22: ='[1]01'!$C$16 -> 0.5 | ... O22: ='[1]01'!$C$16 -> 0.5 | P22: 0.3 | Q22: 0.3 | R22: 0.3 | S22: 0.3 | T22: 0.3 | U22: 0.3 | V22: 0.3 | W22: 0.3 | X22: 0.3 | Y22: 0.3 | Z22: 0.3 | AA22: 0.3 | AB22: 0.3 | AC22: ='[1]01'!$C$16 -> 0.5 | AD22: ='[1]01'!$C$16 -> 0.5 | AE22: ='[1]01'!$C$16 -> 0.5 | AF22: ='[1]01'!$C$16 -> 0.5 | AG22: ='[1]01'!$C$16 -> 0.5 | AH22: ='[1]01'!$C$16 -> 0.5
A23: 4 | B23: Cabinets | D23: 0.5 | E23: 0.5 | F23: 0.5 | G23: 0.5 | H23: 0.5 | I23: 0.5 | J23: 0.5 | K23: 0.5 | L23: 0.5 | M23: 0.5 | N23: 0.5 | O23: 0.5 | P23: 0.5 | Q23: 0.5 | R23: 0.5 | S23: 0.5 | T23: 0.5 | U23: 0.5 | V23: 0.5 | W23: 0.5 | X23: 0.5 | Y23: 0.5 | Z23: 0.5 | AA23: 0.5 | AB23: 0.5 | AC23: 0.5 | AD23: 0.5 | AE23: 0.5 | AF23: 0.5 | AG23: 0.5 | AH23: 0.5
B24: Walls | C24: No finger prints, water spots or black marks
B25: Toilet flush | C25: Shiny cover, working
B26: Toilet seat in and out | C26: Clean in and out, clean flush halls, well fixed
B27: Toilet seat cover | C27: Clean, dry, well fixed
B28: Toilet washer | C28: Clean, working
B29: Toilet paper dispenser | C29: Free of dust, no finger prints, and toilet roll is enough
B30: Garbage basket | C30: Clean, shiny, not smelly, and in the right location
B31: Garbage basket Bag | C31: Clean and not smelly
B32: Door | C32: Free of dust and no finger prints or water spots
B33: Door Frame | C33: Free of dust and no finger prints
B34: Door lock | C34: Shiny and no finger prints and well fixed
B35: Door Stopper | C35: Free of dust and well fixed
... B41: Soap dispenser | C41: Shiny, enough soap, closed cover, working
B42: Actual Score | D42: ='[1]01'!$C$16 -> 0.5 | E42: ='[1]01'!$C$16 -> 0.5 | F42: ='[1]01'!$C$16 -> 0.5 | G42: ='[1]01'!$C$16 -> 0.5 | H42: ='[1]01'!$C$16 -> 0.5 | I42: ='[1]01'!$C$16 -> 0.5 | J42: ='[1]01'!$C$16 -> 0.5 | K42: ='[1]01'!$C$16 -> 0.5 | ... P42: ='[1]01'!$C$16 -> 0.5 | Q42: 0.3 | R42: 0.3 | S42: 0.3 | T42: 0.3 | U42: 0.3 | V42: 0.3 | W42: 0.3 | X42: 0.3 | Y42: 0.3 | Z42: 0.3 | AA42: 0.3 | AB42: 0.3 | AC42: 0.3 | AD42: 0.3 | AE42: ='[1]01'!$C$16 -> 0.5 | AF42: ='[1]01'!$C$16 -> 0.5 | AG42: ='[1]01'!$C$16 -> 0.5 | AH42: ='[1]01'!$C$16 -> 0.5
A43: 5 | B43: Wash basin area | D43: 0.5 | E43: 0.5 | F43: 0.5 | G43: 0.5 | H43: 0.5 | I43: 0.5 | J43: 0.5 | K43: 0.5 | L43: 0.5 | M43: 0.5 | N43: 0.5 | O43: 0.5 | P43: 0.5 | Q43: 0.5 | R43: 0.5 | S43: 0.5 | T43: 0.5 | U43: 0.5 | V43: 0.5 | W43: 0.5 | X43: 0.5 | Y43: 0.5 | Z43: 0.5 | AA43: 0.5 | AB43: 0.5 | AC43: 0.5 | AD43: 0.5 | AE43: 0.5 | AF43: 0.5 | AG43: 0.5 | AH43: 0.5
B44: Wash basin | C44: Clean, dry, drain is clean and shiny
B45: Wash basin Tap | C45: Shiny, no spots, and working
B46: Soap dispenser | C46: Shiny, enough soap, closed cover, working
...

Sheet Lobby&Floors&elevators
D2: 1 | E2: 2 | F2: 3 | G2: 4 | H2: 5 | I2: 6 | J2: 7 | K2: 8 | L2: 9 | M2: 10 | N2: 11 | O2: 12 | P2: 13 | Q2: 14 | R2: 15 | S2: 16 | T2: 17 | U2: 18 | V2: 19 | W2: 20 | X2: 21 | Y2: 22 | Z2: 23 | AA2: 24 | AB2: 25 | AC2: 26 | AD2: 27 | AE2: 28 | AF2: 29 | AG2: 30 | AH2: 31
B3: Area | C3: Standard | D3: Score
A4: 1 | B4: Ceiling | D4: 0.5 | E4: 0.5 | F4: 0.5 | G4: 0.5 | H4: 0.5 | I4: 0.5 | J4: 0.5 | K4: 0.5 | L4: 0.5 | M4: 0.5 | N4: 0.5 | O4: 0.5 | P4: 0.5 | Q4: 0.5 | R4: 0.5 | S4: 0.5 | T4: 0.5 | U4: 0.5 | V4: 0.5 | W4: 0.5 | X4: 0.5 | Y4: 0.5 | Z4: 0.5 | AA4: 0.5 | AB4: 0.5 | AC4: 0.5 | AD4: 0.5 | AE4: 0.5 | AF4: 0.5 | AG4: 0.5 | AH4: 0.5
B5: Tiles | C5: Free of dust and no finger prints
B6: Wooden ceiling
B7: Air diffusers | C7: Free of dust and no finger prints
B8: Light fixtures | C8: Free of dust and no finger prints
D9: 0.5 | E9: 0.5 | F9: 0.5 | G9: 0.5 | H9: 0.5 | I9: 0.5 | J9: 0.5 | K9: 0.5 | L9: 0.5 | M9: 0.5 | N9: 0.5 | O9: 0.5 | P9: 0.5 | Q9: 0.5 | R9: 0.5 | S9: 0.5 | T9: 0.5 | U9: 0.5 | V9: 0.5 | W9: 0.5 | X9: 0.5 | Y9: 0.5 | Z9: 0.5 | AA9: 0.5 | AB9: 0.5 | AC9: 0.5 | AD9: 0.5 | AE9: 0.5 | AF9: 0.5 | AG9: 0.5 | AH9: 0.5
A10: 2 | B10: Walls | D10: 1 | E10: 1 | F10: 1 | G10: 1 | H10: 1 | I10: 1 | J10: 1 | K10: 1 | L10: 1 | M10: 1 | N10: 1 | O10: 1 | P10: 1 | Q10: 1 | R10: 1 | S10: 1 | T10: 1 | U10: 1 | V10: 1 | W10: 1 | X10: 1 | Y10: 1 | Z10: 1 | AA10: 1 | AB10: 1 | AC10: 1 | AD10: 1 | AE10: 1 | AF10: 1 | AG10: 1 | AH10: 1
B11: Painted Walls | C11: No finger prints or black marks
B12: Wood walls | C12: Free of dust and no finger prints
B13: Marble walls | C13: Free of dust and no finger prints
B14: Leather walls | C14: Free of dust and no finger prints
B15: Corners and baseboard | C15: Free of dust dirts and black marks
B16: Switches and sockets | C16: Free of dust and no finger prints
B17: Signs | C17: Shiny and no finger prints
B18: Stainless steel work | C18: Free of dust and no finger prints
D19: 1 | E19: 1 | F19: 1 | G19: 1 | H19: 1 | I19: 1 | J19: 1 | K19: 1 | L19: 1 | M19: 1 | N19: 1 | O19: 1 | P19: 1 | Q19: 1 | R19: 1 | S19: 1 | T19: 1 | U19: 1 | V19: 1 | W19: 1 | X19: 1 | Y19: 1 | Z19: 1 | AA19: 1 | AB19: 1 | AC19: 1 | AD19: 1 | AE19: 1 | AF19: 1 | AG19: 1 | AH19: 1
A20: 3 | B20: Furniture | D20: 0.5 | E20: 0.5 | F20: 0.5 | G20: 0.5 | H20: 0.5 | I20: 0.5 | J20: 0.5 | K20: 0.5 | L20: 0.5 | M20: 0.5 | N20: 0.5 | O20: 0.5 | P20: 0.5 | Q20: 0.5 | R20: 0.5 | S20: 0.5 | T20: 0.5 | U20: 0.5 | V20: 0.5 | W20: 0.5 | X20: 0.5 | Y20: 0.5 | Z20: 0.5 | AA20: 0.5 | AB20: 0.5 | AC20: 0.5 | AD20: 0.5 | AE20: 0.5 | AF20: 0.5 | AG20: 0.5 | AH20: 0.5
B21: Reception Desk | C21: Free of dust and no finger prints
B22: Computers & electronic eqt, screens, cables etc. | C22: Free of dust and no finger prints
B23: Cupboards | C23: Free of dust and no finger prints
B24: Screens | C24: Free of dust and spots
B25: Leather seats | C25: Free of dust and no finger prints
B26: Garbage baskets | C26: Clean and shiny and not smelly
B27: Garbage bags | C27: Clean and not smelly
B28: Sofa | C28: Free of dust and no spots
B29: Corner and center tables | C29: Free of dust and no finger prints
B30: Carpet | C30: Free of dust, debris, and spots
D31: 0.5 | E31: 0.5 | F31: 0.5 | G31: 0.5 | H31: 0.5 | I31: 0.5 | J31: 0.5 | K31: 0.5 | L31: 0.5 | M31: 0.5 | N31: 0.5 | O31: 0.5 | P31: 0.5 | Q31: 0.5 | R31: 0.5 | S31: 0.5 | T31: 0.5 | U31: 0.5 | V31: 0.5 | W31: 0.5 | X31: 0.5 | Y31: 0.5 | Z31: 0.5 | AA31: 0.5 | AB31: 0.5 | AC31: 0.5 | AD31: 0.5 | AE31: 0.5 | AF31: 0.5 | AG31: 0.5 | AH31: 0.5
A32: 4 | B32: Plants Vases | D32: 0.5 | E32: 0.5 | F32: 0.5 | G32: 0.5 | H32: 0.5 | I32: 0.5 | J32: 0.5 | K32: 0.5 | L32: 0.5 | M32: 0.5 | N32: 0.5 | O32: 0.5 | P32: 0.5 | Q32: 0.5 | R32: 0.5 | S32: 0.5 | T32: 0.5 | U32: 0.5 | V32: 0.5 | W32: 0.5 | X32: 0.5 | Y32: 0.5 | Z32: 0.5 | AA32: 0.5 | AB32: 0.5 | AC32: 0.5 | AD32: 0.5 | AE32: 0.5 | AF32: 0.5 | AG32: 0.5 | AH32: 0.5
B33: Plant Vases | C33: Free of dust spots and no cigarettes
D34: 0.5 | E34: 0.5 | F34: 0.5 | G34: 0.5 | H34: 0.5 | I34: 0.5 | J34: 0.5 | K34: 0.5 | L34: 0.5 | M34: 0.5 | N34: 0.5 | O34: 0.5 | P34: 0.5 | Q34: 0.5 | R34: 0.5 | S34: 0.5 | T34: 0.5 | U34: 0.5 | V34: 0.5 | W34: 0.5 | X34: 0.5 | Y34: 0.5 | Z34: 0.5 | AA34: 0.5 | AB34: 0.5 | AC34: 0.5 | AD34: 0.5 | AE34: 0.5 | AF34: 0.5 | AG34: 0.5 | AH34: 0.5
A35: 5 | B35: Garbage baskets | D35: 0.5 | E35: 0.5 | F35: 0.5 | G35: 0.5 | H35: 0.5 | I35: 0.5 | J35: 0.5 | K35: 0.5 | L35: 0.5 | M35: 0.5 | N35: 0.5 | O35: 0.5 | P35: 0.5 | Q35: 0.5 | R35: 0.5 | S35: 0.5 | T35: 0.5 | U35: 0.5 | V35: 0.5 | W35: 0.5 | X35: 0.5 | Y35: 0.5 | Z35: 0.5 | AA35: 0.5 | AB35: 0.5 | AC35: 0.5 | AD35: 0.5 | AE35: 0.5 | AF35: 0.5 | AG35: 0.5 | AH35: 0.5
B36: Garbage baskets | C36: Clean, not smelly, in the right location
B37: Garbage bags | C37: Clean and not smelly
D38: 0.5 | E38: 0.5 | F38: 0.5 | G38: 0.5 | H38: 0.5 | I38: 0.5 | J38: 0.5 | K38: 0.5 | L38: 0.5 | M38: 0.5 | N38: 0.5 | O38: 0.5 | P38: 0.5 | Q38: 0.5 | R38: 0.5 | S38: 0.5 | T38: 0.5 | U38: 0.5 | V38: 0.5 | W38: 0.5 | X38: 0.5 | Y38: 0.5 | Z38: 0.5 | AA38: 0.5 | AB38: 0.5 | AC38: 0.5 | AD38: 0.5 | AE38: 0.5 | AF38: 0.5 | AG38: 0.5 | AH38: 0.5
A39: 6 | B39: Floors | D39: 1 | E39: 1 | F39: 1 | G39: 1 | H39: 1 | I39: 1 | J39: 1 | K39: 1 | L39: 1 | M39: 1 | N39: 1 | O39: 1 | P39: 1 | Q39: 1 | R39: 1 | S39: 1 | T39: 1 | U39: 1 | V39: 1 | W39: 1 | X39: 1 | Y39: 1 | Z39: 1 | AA39: 1 | AB39: 1 | AC39: 1 | AD39: 1 | AE39: 1 | AF39: 1 | AG39: 1 | AH39: 1
B40: Hard floors | C40: Free of dust, spots and shiny
B41: Drains | C41: Clean and not blocked
...

Sheet Celebration area
D2: 1 | E2: 2 | F2: 3 | G2: 4 | H2: 5 | I2: 6 | J2: 7 | K2: 8 | L2: 9 | M2: 10 | N2: 11 | O2: 12 | P2: 13 | Q2: 14 | R2: 15 | S2: 16 | T2: 17 | U2: 18 | V2: 19 | W2: 20 | X2: 21 | Y2: 22 | Z2: 23 | AA2: 24 | AB2: 25 | AC2: 26 | AD2: 27 | AE2: 28 | AF2: 29 | AG2: 30 | AH2: 31
B3: Area | C3: Standard | D3: Score
A4: 1 | B4: Walls | D4: 0.5 | E4: 0.5 | F4: 0.5 | G4: 0.5 | H4: 0.5 | I4: 0.5 | J4: 0.5 | K4: 0.5 | L4: 0.5 | M4: 0.5 | N4: 0.5 | O4: 0.5 | P4: 0.5 | Q4: 0.5 | R4: 0.5 | S4: 0.5 | T4: 0.5 | U4: 0.5 | V4: 0.5 | W4: 0.5 | X4: 0.5 | Y4: 0.5 | Z4: 0.5 | AA4: 0.5 | AB4: 0.5 | AC4: 0.5 | AD4: 0.5 | AE4: 0.5 | AF4: 0.5 | AG4: 0.5 | AH4: 0.5
B5: Marble walls | C5: Free of dust and no finger prints
B6: Corners and baseboard | C6: Free of dust dirts and black marks
B7: Switches and sockets | C7: Free of dust and no finger prints
B8: Signs | C8: Free of dust, Shiny and no finger prints
B9: Stainless steel work | C9: Free of dust and no finger prints
D10: ='[1]01'!$C$42 -> 0.5 | E10: ='[1]01'!$C$42 -> 0.5 | F10: ='[1]01'!$C$42 -> 0.5 | G10: ='[1]01'!$C$42 -> 0.5 | H10: ='[1]01'!$C$42 -> 0.5 | I10: ='[1]01'!$C$42 -> 0.5 | J10: ='[1]01'!$C$42 -> 0.5 | K10: ='[1]01'!$C$42 -> 0.5 | ... AH10: ='[1]01'!$C$42 -> 0.5
A11: 2 | B11: Plants Vases | D11: 0.25 | E11: 0.25 | F11: 0.25 | G11: 0.25 | H11: 0.25 | I11: 0.25 | J11: 0.25 | K11: 0.25 | L11: 0.25 | M11: 0.25 | N11: 0.25 | O11: 0.25 | P11: 0.25 | Q11: 0.25 | R11: 0.25 | S11: 0.25 | T11: 0.25 | U11: 0.25 | V11: 0.25 | W11: 0.25 | X11: 0.25 | Y11: 0.25 | Z11: 0.25 | AA11: 0.25 | AB11: 0.25 | AC11: 0.25 | AD11: 0.25 | AE11: 0.25 | AF11: 0.25 | AG11: 0.25 | AH11: 0.25
B12: Plant Pots and plats | C12: Free of dust spots and no cigarettes or garbage
B13: Marble Plants Pots | C13: Free of dust spots and no cigarettes or garbage
B14: Palm marble pots | C14: Free of dust, no cigarettes or garbage and cobwebs
D15: ='[1]01'!$C$43 -> 0.25 | E15: ='[1]01'!$C$43 -> 0.25 | F15: ='[1]01'!$C$43 -> 0.25 | G15: ='[1]01'!$C$43 -> 0.25 | H15: ='[1]01'!$C$43 -> 0.25 | I15: ='[1]01'!$C$43 -> 0.25 | J15: ='[1]01'!$C$43 -> 0.25 | K15: ='[1]01'!$C$43 -> 0.25 | ... AH15: ='[1]01'!$C$43 -> 0.25
A16: 3 | B16: Fountain | D16: 0.5 | E16: 0.5 | F16: 0.5 | G16: 0.5 | H16: 0.5 | I16: 0.5 | J16: 0.5 | K16: 0.5 | L16: 0.5 | M16: 0.5 | N16: 0.5 | O16: 0.5 | P16: 0.5 | Q16: 0.5 | R16: 0.5 | S16: 0.5 | T16: 0.5 | U16: 0.5 | V16: 0.5 | W16: 0.5 | X16: 0.5 | Y16: 0.5 | Z16: 0.5 | AA16: 0.5 | AB16: 0.5 | AC16: 0.5 | AD16: 0.5 | AE16: 0.5 | AF16: 0.5 | AG16: 0.5 | AH16: 0.5
B17: Marble areas | C17: Free of dust spots and dry
B18: Inside fountain | C18: Free of dust or sand and no garbage
B19: Fountain floors | C19: clean and no algae
D20: ='[1]01'!$C$44 -> 0.5 | E20: ='[1]01'!$C$44 -> 0.5 | F20: ='[1]01'!$C$44 -> 0.5 | G20: ='[1]01'!$C$44 -> 0.5 | H20: ='[1]01'!$C$44 -> 0.5 | I20: ='[1]01'!$C$44 -> 0.5 | J20: ='[1]01'!$C$44 -> 0.5 | K20: ='[1]01'!$C$44 -> 0.5 | ... AH20: ='[1]01'!$C$44 -> 0.5
A21: 4 | B21: Floors | D21: 0.5 | E21: 0.5 | F21: 0.5 | G21: 0.5 | H21: 0.5 | I21: 0.5 | J21: 0.5 | K21: 0.5 | L21: 0.5 | M21: 0.5 | N21: 0.5 | O21: 0.5 | P21: 0.5 | Q21: 0.5 | R21: 0.5 | S21: 0.5 | T21: 0.5 | U21: 0.5 | V21: 0.5 | W21: 0.5 | X21: 0.5 | Y21: 0.5 | Z21: 0.5 | AA21: 0.5 | AB21: 0.5 | AC21: 0.5 | AD21: 0.5 | AE21: 0.5 | AF21: 0.5 | AG21: 0.5 | AH21: 0.5
B22: Hard floors | C22: Free of dust, spots and shiny
B23: Drains | C23: Clean and not blocked
D24: ='[1]01'!$C$45 -> 0.5 | E24: ='[1]01'!$C$45 -> 0.5 | F24: ='[1]01'!$C$45 -> 0.5 | G24: ='[1]01'!$C$45 -> 0.5 | H24: ='[1]01'!$C$45 -> 0.5 | I24: ='[1]01'!$C$45 -> 0.5 | J24: ='[1]01'!$C$45 -> 0.5 | K24: ='[1]01'!$C$45 -> 0.5 | ... AH24: ='[1]01'!$C$45 -> 0.5
A25: 5 | B25: Fire Boxes and extinguisher | D25: 0.25 | E25: 0.25 | F25: 0.25 | G25: 0.25 | H25: 0.25 | I25: 0.25 | J25: 0.25 | K25: 0.25 | L25: 0.25 | M25: 0.25 | N25: 0.25 | O25: 0.25 | P25: 0.25 | Q25: 0.25 | R25: 0.25 | S25: 0.25 | T25: 0.25 | U25: 0.25 | V25: 0.25 | W25: 0.25 | X25: 0.25 | Y25: 0.25 | Z25: 0.25 | AA25: 0.25 | AB25: 0.25 | AC25: 0.25 | AD25: 0.25 | AE25: 0.25 | AF25: 0.25 | AG25: 0.25 | AH25: 0.25
B26: Box in and out | C26: Free of dust, debris and garbage
B27: Fire extinguisher and holder | C27: Free of dust, spots
D28: ='[1]01'!$C$44 -> 0.5 | E28: ='[1]01'!$C$44 -> 0.5 | F28: ='[1]01'!$C$44 -> 0.5 | G28: ='[1]01'!$C$44 -> 0.5 | H28: ='[1]01'!$C$44 -> 0.5 | I28: ='[1]01'!$C$44 -> 0.5 | J28: ='[1]01'!$C$44 -> 0.5 | K28: ='[1]01'!$C$44 -> 0.5 | ... AH28: ='[1]01'!$C$44 -> 0.5
A29: 6 | B29: Ashtrays and garbage baskets | D29: 0.5 | E29: 0.5 | F29: 0.5 | G29: 0.5 | H29: 0.5 | I29: 0.5 | J29: 0.5 | K29: 0.5 | L29: 0.5 | M29: 0.5 | N29: 0.5 | O29: 0.5 | P29: 0.5 | Q29: 0.5 | R29: 0.5 | S29: 0.5 | T29: 0.5 | U29: 0.5 | V29: 0.5 | W29: 0.5 | X29: 0.5 | Y29: 0.5 | Z29: 0.5 | AA29: 0.5 | AB29: 0.5 | AC29: 0.5 | AD29: 0.5 | AE29: 0.5 | AF29: 0.5 | AG29: 0.5 | AH29: 0.5
B30: Garbage baskets | C30: Clean, not smelly, in the right location
B31: Garbage bags | C31: Clean and not smelly
B32: Ashtray | C32: Clean and no cigarettes
B33: Sand | C33: Clean and dry
D34: ='[1]01'!$C$47 -> 0.25 | E34: ='[1]01'!$C$47 -> 0.25 | F34: ='[1]01'!$C$47 -> 0.25 | G34: ='[1]01'!$C$47 -> 0.25 | H34: ='[1]01'!$C$47 -> 0.25 | I34: ='[1]01'!$C$47 -> 0.25 | J34: ='[1]01'!$C$47 -> 0.25 | K34: 0.25 | L34: 0.25 | M34: 0.25 | N34: 0.25 | O34: 0.25 | P34: 0.25 | Q34: 0.25 | R34: 0.25 | S34: 0.25 | T34: 0.25 | U34: 0.25 | V34: 0.25 | W34: ='[1]01'!$C$47 -> 0.25 | X34: ='[1]01'!$C$47 -> 0.25 | Y34: ='[1]01'!$C$47 -> 0.25 | Z34: ='[1]01'!$C$47 -> 0.25 | AA34: ='[1]01'!$C$47 -> 0.25 | AB34: ='[1]01'!$C$47 -> 0.25 | AC34: ='[1]01'!$C$47 -> 0.25 | AD34: ='[1]01'!$C$47 -> 0.25 | ... AH34: ='[1]01'!$C$47 -> 0.25
A35: 7 | B35: Signs | D35: 0.5 | E35: 0.5 | F35: 0.5 | G35: 0.5 | H35: 0.5 | I35: 0.5 | J35: 0.5 | K35: 0.5 | L35: 0.5 | M35: 0.5 | N35: 0.5 | O35: 0.5 | P35: 0.5 | Q35: 0.5 | R35: 0.5 | S35: 0.5 | T35: 0.5 | U35: 0.5 | V35: 0.5 | W35: 0.5 | X35: 0.5 | Y35: 0.5 | Z35: 0.5 | AA35: 0.5 | AB35: 0.5 | AC35: 0.5 | AD35: 0.5 | AE35: 0.5 | AF35: 0.5 | AG35: 0.5 | AH35: 0.5
B36: Advertising signs | C36: Free of dust and no finger prints
D37: ='[1]01'!$C$48 -> 0.5 | E37: ='[1]01'!$C$48 -> 0.5 | F37: ='[1]01'!$C$48 -> 0.5 | G37: ='[1]01'!$C$48 -> 0.5 | H37: ='[1]01'!$C$48 -> 0.5 | I37: ='[1]01'!$C$48 -> 0.5 | J37: ='[1]01'!$C$48 -> 0.5 | K37: ='[1]01'!$C$48 -> 0.5 | ... AH37: ='[1]01'!$C$48 -> 0.5
A38: 8 | B38: Glass and entrance doors | D38: 0.5 | E38: 0.5 | F38: 0.5 | G38: 0.5 | H38: 0.5 | I38: 0.5 | J38: 0.5 | K38: 0.5 | L38: 0.5 | M38: 0.5 | N38: 0.5 | O38: 0.5 | P38: 0.5 | Q38: 0.5 | R38: 0.5 | S38: 0.5 | T38: 0.5 | U38: 0.5 | V38: 0.5 | W38: 0.5 | X38: 0.5 | Y38: 0.5 | Z38: 0.5 | AA38: 0.5 | AB38: 0.5 | AC38: 0.5 | AD38: 0.5 | AE38: 0.5 | AF38: 0.5 | AG38: 0.5 | AH38: 0.5
B39: Glass | C39: Free of dust and no finger prints
B40: Frames | C40: Free of dust and no finger prints
B41: Rubber frames | C41: Free of dust
...

Sheet Receiving Area
D2: 1 | E2: 2 | F2: 3 | G2: 4 | H2: 5 | I2: 6 | J2: 7 | K2: 8 | L2: 9 | M2: 10 | N2: 11 | O2: 12 | P2: 13 | Q2: 14 | R2: 15 | S2: 16 | T2: 17 | U2: 18 | V2: 19 | W2: 20 | X2: 21 | Y2: 22 | Z2: 23 | AA2: 24 | AB2: 25 | AC2: 26 | AD2: 27 | AE2: 28 | AF2: 29 | AG2: 30 | AH2: 31
B3: Area | C3: Standard | D3: Score
A4: 1 | B4: Ceiling | D4: 0.5 | E4: 0.5 | F4: 0.5 | G4: 0.5 | H4: 0.5 | I4: 0.5 | J4: 0.5 | K4: 0.5 | L4: 0.5 | M4: 0.5 | N4: 0.5 | O4: 0.5 | P4: 0.5 | Q4: 0.5 | R4: 0.5 | S4: 0.5 | T4: 0.5 | U4: 0.5 | V4: 0.5 | W4: 0.5 | X4: 0.5 | Y4: 0.5 | Z4: 0.5 | AA4: 0.5 | AB4: 0.5 | AC4: 0.5 | AD4: 0.5 | AE4: 0.5 | AF4: 0.5 | AG4: 0.5 | AH4: 0.5
B5: Pips | C5: Free of dust and no finger prints
B6: Air diffusers | C6: Free of dust and no finger prints
B7: Light fixtures | C7: Free of dust and no finger prints
D8: ='[1]01'!$G$4 -> 0.5 | E8: ='[1]01'!$G$4 -> 0.5 | F8: ='[1]01'!$G$4 -> 0.5 | G8: ='[1]01'!$G$4 -> 0.5 | H8: ='[1]01'!$G$4 -> 0.5 | I8: ='[1]01'!$G$4 -> 0.5 | J8: ='[1]01'!$G$4 -> 0.5 | K8: ='[1]01'!$G$4 -> 0.5 | ... AH8: ='[1]01'!$G$4 -> 0.5
A9: 2 | B9: Walls | D9: 0.5 | E9: 0.5 | F9: 0.5 | G9: 0.5 | H9: 0.5 | I9: 0.5 | J9: 0.5 | K9: 0.5 | L9: 0.5 | M9: 0.5 | N9: 0.5 | O9: 0.5 | P9: 0.5 | Q9: 0.5 | R9: 0.5 | S9: 0.5 | T9: 0.5 | U9: 0.5 | V9: 0.5 | W9: 0.5 | X9: 0.5 | Y9: 0.5 | Z9: 0.5 | AA9: 0.5 | AB9: 0.5 | AC9: 0.5 | AD9: 0.5 | AE9: 0.5 | AF9: 0.5 | AG9: 0.5 | AH9: 0.5
B10: Painted Walls | C10: No finger prints or black marks
B11: Ceramic walls | C11: Free of dust and no finger prints
B12: Corners and baseboard | C12: Free of dust dirts and black marks
B13: Switches and sockets | C13: Free of dust and no finger prints
B14: Signs | C14: Shiny and no finger prints
B15: Stainless steel work | C15: Free of dust and no finger prints
D16: ='[1]01'!$G$5 -> 0.5 | E16: ='[1]01'!$G$5 -> 0.5 | F16: ='[1]01'!$G$5 -> 0.5 | G16: ='[1]01'!$G$5 -> 0.5 | H16: ='[1]01'!$G$5 -> 0.5 | I16: ='[1]01'!$G$5 -> 0.5 | J16: ='[1]01'!$G$5 -> 0.5 | K16: ='[1]01'!$G$5 -> 0.5 | ... AH16: ='[1]01'!$G$5 -> 0.5
A17: 3 | B17: Break area | D17: 1 | E17: 1 | F17: 1 | G17: 1 | H17: 1 | I17: 1 | J17: 1 | K17: 1 | L17: 1 | M17: 1 | N17: 1 | O17: 1 | P17: 1 | Q17: 1 | R17: 1 | S17: 1 | T17: 1 | U17: 1 | V17: 1 | W17: 1 | X17: 1 | Y17: 1 | Z17: 1 | AA17: 1 | AB17: 1 | AC17: 1 | AD17: 1 | AE17: 1 | AF17: 1 | AG17: 1 | AH17: 1
B18: Tables | C18: Free of dust and spots
B19: Chairs | C19: Free of dust and spots
B20: Garbage baskets | C20: Clean, and not smelly
B21: Garbage bags | C21: Clean and not smelly
B22: Epoxy floors | C22: Free of dust, spots, and dry
B23: Drains | C23: Clean and not blocked
D24: ='[1]01'!$G$6 -> 1 | E24: ='[1]01'!$G$6 -> 1 | F24: ='[1]01'!$G$6 -> 1 | G24: ='[1]01'!$G$6 -> 1 | H24: ='[1]01'!$G$6 -> 1 | I24: ='[1]01'!$G$6 -> 1 | J24: ='[1]01'!$G$6 -> 1 | K24: ='[1]01'!$G$6 -> 1 | L24: 0.5 | M24: 0.5 | N24: 0.5 | O24: 0.5 | P24: 0.5 | Q24: 0.5 | R24: 0.5 | S24: ='[1]01'!$G$6 -> 1 | T24: ='[1]01'!$G$6 -> 1 | U24: ='[1]01'!$G$6 -> 1 | V24: ='[1]01'!$G$6 -> 1 | W24: 0.5 | X24: 0.5 | Y24: 0.5 | Z24: 0.5 | AA24: 0.5 | AB24: 0.5 | AC24: 0.5 | AD24: 0.5 | AE24: 0.5 | AF24: 0.5 | AG24: ='[1]01'!$G$6 -> 1 | AH24: ='[1]01'!$G$6 -> 1
A25: 4 | B25: Garbage room | D25: 0.5 | E25: 0.5 | F25: 0.5 | G25: 0.5 | H25: 0.5 | I25: 0.5 | J25: 0.5 | K25: 0.5 | L25: 0.5 | M25: 0.5 | N25: 0.5 | O25: 0.5 | P25: 0.5 | Q25: 0.5 | R25: 0.5 | S25: 0.5 | T25: 0.5 | U25: 0.5 | V25: 0.5 | W25: 0.5 | X25: 0.5 | Y25: 0.5 | Z25: 0.5 | AA25: 0.5 | AB25: 0.5 | AC25: 0.5 | AD25: 0.5 | AE25: 0.5 | AF25: 0.5 | AG25: 0.5 | AH25: 0.5
B26: Ceiling pips | C26: Free of dust
B27: Garbage baskets | C27: Clean, and not smelly
B28: Garbage room walls | C28: Free of dust and spots
B29: Garbage room door | C29: Free of dust and spots
B30: Garbage room floors | C30: Free of dust, spots, and dry
B31: Drains | C31: Clean and not blocked
D32: ='[1]01'!$G$7 -> 0.5 | E32: ='[1]01'!$G$7 -> 0.5 | F32: ='[1]01'!$G$7 -> 0.5 | G32: ='[1]01'!$G$7 -> 0.5 | H32: ='[1]01'!$G$7 -> 0.5 | I32: ='[1]01'!$G$7 -> 0.5 | J32: ='[1]01'!$G$7 -> 0.5 | K32: ='[1]01'!$G$7 -> 0.5 | ... AH32: ='[1]01'!$G$7 -> 0.5
A33: 5 | B33: Floors | D33: 1 | E33: 1 | F33: 1 | G33: 1 | H33: 1 | I33: 1 | J33: 1 | K33: 1 | L33: 1 | M33: 1 | N33: 1 | O33: 1 | P33: 1 | Q33: 1 | R33: 1 | S33: 1 | T33: 1 | U33: 1 | V33: 1 | W33: 1 | X33: 1 | Y33: 1 | Z33: 1 | AA33: 1 | AB33: 1 | AC33: 1 | AD33: 1 | AE33: 1 | AF33: 1 | AG33: 1 | AH33: 1
B34: Hard floors | C34: Free of dust, spots and shiny
B35: Drains | C35: Clean and not blocked
D36: ='[1]01'!$G$8 -> 1 | E36: ='[1]01'!$G$8 -> 1 | F36: ='[1]01'!$G$8 -> 1 | G36: ='[1]01'!$G$8 -> 1 | H36: ='[1]01'!$G$8 -> 1 | I36: ='[1]01'!$G$8 -> 1 | J36: ='[1]01'!$G$8 -> 1 | K36: ='[1]01'!$G$8 -> 1 | ... X36: ='[1]01'!$G$8 -> 1 | Y36: 0.5 | Z36: 0.5 | AA36: 0.5 | AB36: 0.5 | AC36: 0.5 | AD36: 0.5 | AE36: 0.5 | AF36: 0.5 | AG36: 0.5 | AH36: 0.5
A37: 6 | B37: Fire Boxes and extinguisher | D37: 0.5 | E37: 0.5 | F37: 0.5 | G37: 0.5 | H37: 0.5 | I37: 0.5 | J37: 0.5 | K37: 0.5 | L37: 0.5 | M37: 0.5 | N37: 0.5 | O37: 0.5 | P37: 0.5 | Q37: 0.5 | R37: 0.5 | S37: 0.5 | T37: 0.5 | U37: 0.5 | V37: 0.5 | W37: 0.5 | X37: 0.5 | Y37: 0.5 | Z37: 0.5 | AA37: 0.5 | AB37: 0.5 | AC37: 0.5 | AD37: 0.5 | AE37: 0.5 | AF37: 0.5 | AG37: 0.5 | AH37: 0.5
B38: Box in and out | C38: Free of dust, debris and garbage
B39: Fire extinguisher and holder | C39: Free of dust, spots
D40: ='[1]01'!$G$9 -> 0.5 | E40: ='[1]01'!$G$9 -> 0.5 | F40: ='[1]01'!$G$9 -> 0.5 | G40: ='[1]01'!$G$9 -> 0.5 | H40: ='[1]01'!$G$9 -> 0.5 | I40: ='[1]01'!$G$9 -> 0.5 | J40: ='[1]01'!$G$9 -> 0.5 | K40: ='[1]01'!$G$9 -> 0.5 | ... O40: ='[1]01'!$G$9 -> 0.5 | P40: 0.2 | Q40: 0.2 | R40: 0.2 | S40: 0.2 | T40: 0.2 | U40: 0.2 | V40: 0.2 | W40: 0.2 | X40: 0.2 | Y40: 0.2 | Z40: 0.2 | AA40: 0.2 | AB40: ='[1]01'!$G$9 -> 0.5 | AC40: ='[1]01'!$G$9 -> 0.5 | AD40: ='[1]01'!$G$9 -> 0.5 | AE40: ='[1]01'!$G$9 -> 0.5 | AF40: ='[1]01'!$G$9 -> 0.5 | AG40: ='[1]01'!$G$9 -> 0.5 | AH40: ='[1]01'!$G$9 -> 0.5
A41: 7 | B41: Equipment Standared | D41: 0.5 | E41: 0.5 | F41: 0.5 | G41: 0.5 | H41: 0.5 | I41: 0.5 | J41: 0.5 | K41: 0.5 | L41: 0.5 | M41: 0.5 | N41: 0.5 | O41: 0.5 | P41: 0.5 | Q41: 0.5 | R41: 0.5 | S41: 0.5 | T41: 0.5 | U41: 0.5 | V41: 0.5 | W41: 0.5 | X41: 0.5 | Y41: 0.5 | Z41: 0.5 | AA41: 0.5 | AB41: 0.5 | AC41: 0.5 | AD41: 0.5 | AE41: 0.5 | AF41: 0.5 | AG41: 0.5 | AH41: 0.5
...

Sheet Stairs
D2: 1 | E2: 2 | F2: 3 | G2: 4 | H2: 5 | I2: 6 | J2: 7 | K2: 8 | L2: 9 | M2: 10 | N2: 11 | O2: 12 | P2: 13 | Q2: 14 | R2: 15 | S2: 16 | T2: 17 | U2: 18 | V2: 19 | W2: 20 | X2: 21 | Y2: 22 | Z2: 23 | AA2: 24 | AB2: 25 | AC2: 26 | AD2: 27 | AE2: 28 | AF2: 29 | AG2: 30 | AH2: 31
B3: Area | C3: Standard | D3: Score
A4: 1 | B4: Ceiling | D4: 0.5 | E4: 0.5 | F4: 0.5 | G4: 0.5 | H4: 0.5 | I4: 0.5 | J4: 0.5 | K4: 0.5 | L4: 0.5 | M4: 0.5 | N4: 0.5 | O4: 0.5 | P4: 0.5 | Q4: 0.5 | R4: 0.5 | S4: 0.5 | T4: 0.5 | U4: 0.5 | V4: 0.5 | W4: 0.5 | X4: 0.5 | Y4: 0.5 | Z4: 0.5 | AA4: 0.5 | AB4: 0.5 | AC4: 0.5 | AD4: 0.5 | AE4: 0.5 | AF4: 0.5 | AG4: 0.5 | AH4: 0.5
B5: Ceiling | C5: Free of dust and no cobwebs
B6: Air diffusers | C6: Free of dust and no finger prints
B7: Light fixtures | C7: Free of dust and no finger prints
B8: Exhaust | C8: Free of dust and no finger prints
D9: ='[1]01'!$G$14 -> 0.5 | E9: ='[1]01'!$G$14 -> 0.5 | F9: ='[1]01'!$G$14 -> 0.5 | G9: ='[1]01'!$G$14 -> 0.5 | H9: ='[1]01'!$G$14 -> 0.5 | I9: ='[1]01'!$G$14 -> 0.5 | J9: ='[1]01'!$G$14 -> 0.5 | K9: ='[1]01'!$G$14 -> 0.5 | ... AH9: ='[1]01'!$G$14 -> 0.5
A10: 2 | B10: Walls and doors | D10: 1 | E10: 1 | F10: 1 | G10: 1 | H10: 1 | I10: 1 | J10: 1 | K10: 1 | L10: 1 | M10: 1 | N10: 1 | O10: 1 | P10: 1 | Q10: 1 | R10: 1 | S10: 1 | T10: 1 | U10: 1 | V10: 1 | W10: 1 | X10: 1 | Y10: 1 | Z10: 1 | AA10: 1 | AB10: 1 | AC10: 1 | AD10: 1 | AE10: 1 | AF10: 1 | AG10: 1 | AH10: 1
B11: Painted Walls | C11: No finger prints or black marks
B12: Ceramic walls | C12: Free of dust and no finger prints
B13: Corners and baseboard | C13: Free of dust and no cobwebs
B14: Signs | C14: Shiny and no finger prints
B15: Door and frame | C15: Free of dust, and no finger prints, or black marks
D16: 1 | E16: 1 | F16: 1 | G16: 1 | H16: 1 | I16: 1 | J16: 1 | K16: 1 | L16: 1 | M16: 1 | N16: 1 | O16: 1 | P16: 1 | Q16: 1 | R16: 0.5 | S16: 0.5 | T16: 0.5 | U16: 0.5 | V16: 0.5 | W16: 0.3 | X16: 0.3 | Y16: 0.3 | Z16: 1 | AA16: 1 | AB16: 1 | AC16: 1 | AD16: 1 | AE16: 1 | AF16: 1 | AG16: 1 | AH16: 1
A17: 3 | B17: Stairs | D17: 1 | E17: 1 | F17: 1 | G17: 1 | H17: 1 | I17: 1 | J17: 1 | K17: 1 | L17: 1 | M17: 1 | N17: 1 | O17: 1 | P17: 1 | Q17: 1 | R17: 1 | S17: 1 | T17: 1 | U17: 1 | V17: 1 | W17: 1 | X17: 1 | Y17: 1 | Z17: 1 | AA17: 1 | AB17: 1 | AC17: 1 | AD17: 1 | AE17: 1 | AF17: 1 | AG17: 1 | AH17: 1
B18: Hand rail | C18: Free of dust and spots
B19: Granite Steps | C19: Free of dust, and black marks
B20: Pips | C20: Free of dust, and black marks
D21: 1 | E21: 1 | F21: 1 | G21: 1 | H21: 0.5 | I21: 0.5 | J21: 0.5 | K21: 0.5 | L21: 0.5 | M21: 0.5 | N21: 0.5 | O21: 0.5 | P21: 0.5 | Q21: 0.5 | R21: 0.5 | S21: 0.5 | T21: 1 | U21: 1 | V21: 1 | W21: 1 | X21: 1 | Y21: 1 | Z21: 1 | AA21: 1 | AB21: 1 | AC21: 1 | AD21: 1 | AE21: 1 | AF21: 1 | AG21: 1 | AH21: 1
A22: 4 | B22: Floors | D22: 1 | E22: 1 | F22: 1 | G22: 1 | H22: 1 | I22: 1 | J22: 1 | K22: 1 | L22: 1 | M22: 1 | N22: 1 | O22: 1 | P22: 1 | Q22: 1 | R22: 1 | S22: 1 | T22: 1 | U22: 1 | V22: 1 | W22: 1 | X22: 1 | Y22: 1 | Z22: 1 | AA22: 1 | AB22: 1 | AC22: 1 | AD22: 1 | AE22: 1 | AF22: 1 | AG22: 1 | AH22: 1
B23: Hard floors | C23: Free of dust, spots and shiny
B24: Drains | C24: Clean and not blocked
D25: 0.5 | E25: 0.5 | F25: 0.5 | G25: 0.5 | H25: 0.5 | I25: 0.5 | J25: 0.5 | K25: 0.5 | L25: 0.5 | M25: 0.5 | N25: 0.5 | O25: 0.5 | P25: 0.5 | Q25: 0.5 | R25: 0.5 | S25: 0.5 | T25: 0.5 | U25: 0.5 | V25: 0.5 | W25: 0.5 | X25: 0.5 | Y25: 0.5 | Z25: 0.5 | AA25: 0.5 | AB25: 0.5 | AC25: 0.5 | AD25: 0.5 | AE25: 0.5 | AF25: 0.5 | AG25: 0.5 | AH25: 0.5
A26: 5 | B26: Fire Boxes and extinguisher | D26: 0.5 | E26: 0.5 | F26: 0.5 | G26: 0.5 | H26: 0.5 | I26: 0.5 | J26: 0.5 | K26: 0.5 | L26: 0.5 | M26: 0.5 | N26: 0.5 | O26: 0.5 | P26: 0.5 | Q26: 0.5 | R26: 0.5 | S26: 0.5 | T26: 0.5 | U26: 0.5 | V26: 0.5 | W26: 0.5 | X26: 0.5 | Y26: 0.5 | Z26: 0.5 | AA26: 0.5 | AB26: 0.5 | AC26: 0.5 | AD26: 0.5 | AE26: 0.5 | AF26: 0.5 | AG26: 0.5 | AH26: 0.5
B27: Box in and out | C27: Free of dust, debris and garbage
B28: Fire extinguisher and holder | C28: Free of dust, spots
B29: Emergency telephone
D30: ='[1]01'!$G$7 -> 0.5 | E30: ='[1]01'!$G$7 -> 0.5 | F30: ='[1]01'!$G$7 -> 0.5 | G30: ='[1]01'!$G$7 -> 0.5 | H30: ='[1]01'!$G$7 -> 0.5 | I30: ='[1]01'!$G$7 -> 0.5 | J30: ='[1]01'!$G$7 -> 0.5 | K30: ='[1]01'!$G$7 -> 0.5 | ... AH30: ='[1]01'!$G$7 -> 0.5
A31: 6 | B31: Equipment Standared | D31: 0.5 | E31: 0.5 | F31: 0.5 | G31: 0.5 | H31: 0.5 | I31: 0.5 | J31: 0.5 | K31: 0.5 | L31: 0.5 | M31: 0.5 | N31: 0.5 | O31: 0.5 | P31: 0.5 | Q31: 0.5 | R31: 0.5 | S31: 0.5 | T31: 0.5 | U31: 0.5 | V31: 0.5 | W31: 0.5 | X31: 0.5 | Y31: 0.5 | Z31: 0.5 | AA31: 0.5 | AB31: 0.5 | AC31: 0.5 | AD31: 0.5 | AE31: 0.5 | AF31: 0.5 | AG31: 0.5 | AH31: 0.5
B32: Wher to store it | C32: Janitor room
B33: Machines | C33: Clean, No bad smell, Not noisy
B34: Tools | C34: Clean, No bad smell,Not torn,and no broken stiks
B35: Chemicals | C35: bottels tobe keept at the tray, and keep it at the janitor room
D36: ='[1]01'!$G$19 -> 0.5 | E36: ='[1]01'!$G$19 -> 0.5 | F36: ='[1]01'!$G$19 -> 0.5 | G36: ='[1]01'!$G$19 -> 0.5 | H36: 0.5 | I36: 0.5 | J36: 0.5 | K36: 0.5 | L36: 0.5 | M36: 0.5 | N36: 0.5 | O36: 0.5 | P36: 0.5 | Q36: 0.5 | R36: 0.5 | S36: 0.5 | T36: 0.5 | U36: 0.5 | V36: 0.5 | W36: 0.5 | X36: 0.5 | Y36: 0.5 | Z36: 0.5 | AA36: 0.5 | AB36: 0.5 | AC36: 0.5 | AD36: 0.5 | AE36: 0.5 | AF36: ='[1]01'!$G$19 -> 0.5 | AG36: ='[1]01'!$G$19 -> 0.5 | AH36: ='[1]01'!$G$19 -> 0.5
A37: 7 | B37: Safty procedure | D37: 0.5 | E37: 0.5 | F37: 0.5 | G37: 0.5 | H37: 0.5 | I37: 0.5 | J37: 0.5 | K37: 0.5 | L37: 0.5 | M37: 0.5 | N37: 0.5 | O37: 0.5 | P37: 0.5 | Q37: 0.5 | R37: 0.5 | S37: 0.5 | T37: 0.5 | U37: 0.5 | V37: 0.5 | W37: 0.5 | X37: 0.5 | Y37: 0.5 | Z37: 0.5 | AA37: 0.5 | AB37: 0.5 | AC37: 0.5 | AD37: 0.5 | AE37: 0.5 | AF37: 0.5 | AG37: 0.5 | AH37: 0.5
B38: Machines | C38: The cable has no cutting, blug is fixed, warning sign to be used
B39: Tools | C39: Warning sign to be used, no ladder on wet floor
B40: Chemicals | C40: Known, covered, on the properet botteles
B41: Uniform | C41: shoes without heel, and not slippery
...

Sheet Back areas & service elevators
D2: 1 | E2: 2 | F2: 3 | G2: 4 | H2: 5 | I2: 6 | J2: 7 | K2: 8 | L2: 9 | M2: 10 | N2: 11 | O2: 12 | P2: 13 | Q2: 14 | R2: 15 | S2: 16 | T2: 17 | U2: 18 | V2: 19 | W2: 20 | X2: 21 | Y2: 22 | Z2: 23 | AA2: 24 | AB2: 25 | AC2: 26 | AD2: 27 | AE2: 28 | AF2: 29 | AG2: 30 | AH2: 31
B3: Area | C3: Standard | D3: Score
A4: 1 | B4: Ceiling | D4: 1 | E4: 1 | F4: 1 | G4: 1 | H4: 1 | I4: 1 | J4: 1 | K4: 1 | L4: 1 | M4: 1 | N4: 1 | O4: 1 | P4: 1 | Q4: 1 | R4: 1 | S4: 1 | T4: 1 | U4: 1 | V4: 1 | W4: 1 | X4: 1 | Y4: 1 | Z4: 1 | AA4: 1 | AB4: 1 | AC4: 1 | AD4: 1 | AE4: 1 | AF4: 1 | AG4: 1 | AH4: 1
B5: Ceiling | C5: Free of dust and no cobwebs
B6: Air diffusers | C6: Free of dust and no finger prints
B7: Light fixtures | C7: Free of dust and no finger prints
B8: Pips | C8: Free of dust, and black marks
D9: 1 | E9: 1 | F9: 1 | G9: 1 | H9: 1 | I9: 1 | J9: 1 | K9: 1 | L9: 0.6 | M9: 1 | N9: 1 | O9: 1 | P9: 0.6 | Q9: 0.6 | R9: 0.6 | S9: 0.6 | T9: 0.6 | U9: 1 | V9: 1 | W9: 0.3 | X9: 0.3 | Y9: 0.3 | Z9: 1 | AA9: 1 | AB9: 0.6 | AC9: 0.6 | AD9: 0.6 | AE9: 0.6 | AF9: 0.6 | AG9: 1 | AH9: 1
A10: 2 | B10: Walls and doors | D10: 0.5 | E10: 0.5 | F10: 0.5 | G10: 0.5 | H10: 0.5 | I10: 0.5 | J10: 0.5 | K10: 0.5 | L10: 0.5 | M10: 0.5 | N10: 0.5 | O10: 0.5 | P10: 0.5 | Q10: 0.5 | R10: 0.5 | S10: 0.5 | T10: 0.5 | U10: 0.5 | V10: 0.5 | W10: 0.5 | X10: 0.5 | Y10: 0.5 | Z10: 0.5 | AA10: 0.5 | AB10: 0.5 | AC10: 0.5 | AD10: 0.5 | AE10: 0.5 | AF10: 0.5 | AG10: 0.5 | AH10: 0.5
B11: Painted Walls | C11: No finger prints or black marks
B12: Ceramic walls | C12: Free of dust and no finger prints
B13: Corners and baseboard | C13: Free of dust and no cobwebs
B14: Signs | C14: Shiny and no finger prints
B15: Door and frame | C15: Free of dust, and no finger prints, or black marks
D16: 0.5 | E16: 0.5 | F16: 0.5 | G16: 0.5 | H16: 0.5 | I16: 0.2 | J16: 0.2 | K16: 0.5 | L16: 0.3 | M16: 0.3 | N16: 0.3 | O16: 0.3 | P16: 0.3 | Q16: 0.3 | R16: 0.3 | S16: 0.3 | T16: 0.3 | U16: 0.3 | V16: 0.2 | W16: 0.2 | X16: 0.2 | Y16: 0.2 | Z16: 0.2 | AA16: 0.2 | AB16: 0.5 | AC16: 0.5 | AD16: 0.5 | AE16: 0.5 | AF16: 0.5 | AG16: 0.5 | AH16: 0.5
A17: 3 | B17: Floors | D17: 1 | E17: 1 | F17: 1 | G17: 1 | H17: 1 | I17: 1 | J17: 1 | K17: 1 | L17: 1 | M17: 1 | N17: 1 | O17: 1 | P17: 1 | Q17: 1 | R17: 1 | S17: 1 | T17: 1 | U17: 1 | V17: 1 | W17: 1 | X17: 1 | Y17: 1 | Z17: 1 | AA17: 1 | AB17: 1 | AC17: 1 | AD17: 1 | AE17: 1 | AF17: 1 | AG17: 1 | AH17: 1
B18: Hard floors | C18: Free of dust, spots and shiny
B19: Drains | C19: Clean and not blocked
D20: 1 | E20: 1 | F20: 1 | G20: 1 | H20: 1 | I20: 1 | J20: 1 | K20: 1 | L20: 1 | M20: 1 | N20: 1 | O20: 1 | P20: 1 | Q20: 1 | R20: 1 | S20: 1 | T20: 1 | U20: 1 | V20: 1 | W20: 1 | X20: 1 | Y20: 0.3 | Z20: 0.3 | AA20: 0.3 | AB20: 0.3 | AC20: 0.3 | AD20: 0.3 | AE20: 0.3 | AF20: 0.3 | AG20: 0.3 | AH20: 1
A21: 4 | B21: Fire Boxes and extinguisher | D21: 0.5 | E21: 0.5 | F21: 0.5 | G21: 0.5 | H21: 0.5 | I21: 0.5 | J21: 0.5 | K21: 0.5 | L21: 0.5 | M21: 0.5 | N21: 0.5 | O21: 0.5 | P21: 0.5 | Q21: 0.5 | R21: 0.5 | S21: 0.5 | T21: 0.5 | U21: 0.5 | V21: 0.5 | W21: 0.5 | X21: 0.5 | Y21: 0.5 | Z21: 0.5 | AA21: 0.5 | AB21: 0.5 | AC21: 0.5 | AD21: 0.5 | AE21: 0.5 | AF21: 0.5 | AG21: 0.5 | AH21: 0.5
B22: Box in and out | C22: Free of dust, debris and garbage
B23: Fire extinguisher and holder | C23: Free of dust, spots
D24: ='[1]01'!$G$26 -> 0.5 | E24: ='[1]01'!$G$26 -> 0.5 | F24: ='[1]01'!$G$26 -> 0.5 | G24: ='[1]01'!$G$26 -> 0.5 | H24: ='[1]01'!$G$26 -> 0.5 | I24: ='[1]01'!$G$26 -> 0.5 | J24: ='[1]01'!$G$26 -> 0.5 | K24: ='[1]01'!$G$26 -> 0.5 | ... AH24: ='[1]01'!$G$26 -> 0.5
A25: 5 | B25: Glass work | D25: 0.5 | E25: 0.5 | F25: 0.5 | G25: 0.5 | H25: 0.5 | I25: 0.5 | J25: 0.5 | K25: 0.5 | L25: 0.5 | M25: 0.5 | N25: 0.5 | O25: 0.5 | P25: 0.5 | Q25: 0.5 | R25: 0.5 | S25: 0.5 | T25: 0.5 | U25: 0.5 | V25: 0.5 | W25: 0.5 | X25: 0.5 | Y25: 0.5 | Z25: 0.5 | AA25: 0.5 | AB25: 0.5 | AC25: 0.5 | AD25: 0.5 | AE25: 0.5 | AF25: 0.5 | AG25: 0.5 | AH25: 0.5
B26: Glass | C26: Free of dust and no finger prints
B27: Frames | C27: Free of dust and no finger prints
D28: ='[1]01'!$G$27 -> 0.5 | E28: ='[1]01'!$G$27 -> 0.5 | F28: ='[1]01'!$G$27 -> 0.5 | G28: ='[1]01'!$G$27 -> 0.5 | H28: ='[1]01'!$G$27 -> 0.5 | I28: ='[1]01'!$G$27 -> 0.5 | J28: ='[1]01'!$G$27 -> 0.5 | K28: ='[1]01'!$G$27 -> 0.5 | L28: 0.3 | M28: 0.3 | N28: 0.3 | O28: 0.3 | P28: 0.3 | Q28: 0.3 | R28: 0.3 | S28: 0.3 | T28: 0.3 | U28: 0.3 | V28: 0.3 | W28: ='[1]01'!$G$27 -> 0.5 | X28: ='[1]01'!$G$27 -> 0.5 | Y28: ='[1]01'!$G$27 -> 0.5 | Z28: ='[1]01'!$G$27 -> 0.5 | AA28: ='[1]01'!$G$27 -> 0.5 | AB28: ='[1]01'!$G$27 -> 0.5 | AC28: ='[1]01'!$G$27 -> 0.5 | AD28: ='[1]01'!$G$27 -> 0.5 | ... AH28: ='[1]01'!$G$27 -> 0.5
A29: 6 | B29: Service Elevators | D29: 0.5 | E29: 0.5 | F29: 0.5 | G29: 0.5 | H29: 0.5 | I29: 0.5 | J29: 0.5 | K29: 0.5 | L29: 0.5 | M29: 0.5 | N29: 0.5 | O29: 0.5 | P29: 0.5 | Q29: 0.5 | R29: 0.5 | S29: 0.5 | T29: 0.5 | U29: 0.5 | V29: 0.5 | W29: 0.5 | X29: 0.5 | Y29: 0.5 | Z29: 0.5 | AA29: 0.5 | AB29: 0.5 | AC29: 0.5 | AD29: 0.5 | AE29: 0.5 | AF29: 0.5 | AG29: 0.5 | AH29: 0.5
B30: Stainless walls | C30: Free of dust, spots, shads
B31: Stainless doors in and out | C31: Free of dust, spots, shads
B32: Stainless ceiling | C32: Free of dust, spots, shads
B33: Stainless entrance | C33: Free of dust, spots, shads
B34: Metal step | C34: Free of dust, spots, Dirt's
B35: Call buttons in and out | C35: Free of dust, spots, shads
B36: Signage | C36: Free of dust, spots and shiny
B37: Mirrors | C37: Free of dust, spots and shiny
B38: Floors | C38: Free of dust, spots, shiny
B39: Service elevators area walls | C39: Free of dust, spots, shads
B40: Electric boxes | C40: Free of dust, spots, shads
D41: 0.5 | E41: 0.5 | F41: 0.3 | G41: 0.3 | H41: 0.3 | I41: 0.3 | J41: 0.5 | K41: 0.5 | L41: 0.5 | M41: 0.5 | N41: 0.5 | O41: 0.5 | P41: 0.5 | Q41: 0.5 | R41: 0.5 | S41: 0.5 | T41: 0.5 | U41: 0.5 | V41: 0.5 | W41: 0.5 | X41: 0.5 | Y41: 0.5 | Z41: 0.5 | AA41: 0.5 | AB41: 0.5 | AC41: 0.5 | AD41: 0.5 | AE41: 0.5 | AF41: 0.5 | AG41: 0.5 | AH41: 0.5
...

Sheet Maintenance&mechanical rooms 
D2: 1 | E2: 2 | F2: 3 | G2: 4 | H2: 5 | I2: 6 | J2: 7 | K2: 8 | L2: 9 | M2: 10 | N2: 11 | O2: 12 | P2: 13 | Q2: 14 | R2: 15 | S2: 16 | T2: 17 | U2: 18 | V2: 19 | W2: 20 | X2: 21 | Y2: 22 | Z2: 23 | AA2: 24 | AB2: 25 | AC2: 26 | AD2: 27 | AE2: 28 | AF2: 29 | AG2: 30 | AH2: 31
B3: Area | C3: Standard | D3: Score
A4: 1 | B4: Ceiling | D4: 0.5 | E4: 0.5 | F4: 0.5 | G4: 0.5 | H4: 0.5 | I4: 0.5 | J4: 0.5 | K4: 0.5 | L4: 0.5 | M4: 0.5 | N4: 0.5 | O4: 0.5 | P4: 0.5 | Q4: 0.5 | R4: 0.5 | S4: 0.5 | T4: 0.5 | U4: 0.5 | V4: 0.5 | W4: 0.5 | X4: 0.5 | Y4: 0.5 | Z4: 0.5 | AA4: 0.5 | AB4: 0.5 | AC4: 0.5 | AD4: 0.5 | AE4: 0.5 | AF4: 0.5 | AG4: 0.5 | AH4: 0.5
B5: Pips | C5: Free of dust and no finger prints
B6: Air diffusers | C6: Free of dust and no finger prints
B7: Light fixtures | C7: Free of dust and no finger prints
D8: ='[1]01'!$G$33 -> 0.5 | E8: ='[1]01'!$G$33 -> 0.5 | F8: ='[1]01'!$G$33 -> 0.5 | G8: ='[1]01'!$G$33 -> 0.5 | H8: ='[1]01'!$G$33 -> 0.5 | I8: ='[1]01'!$G$33 -> 0.5 | J8: ='[1]01'!$G$33 -> 0.5 | K8: ='[1]01'!$G$33 -> 0.5 | ... AH8: ='[1]01'!$G$33 -> 0.5
A9: 2 | B9: Walls | D9: 1 | E9: 1 | F9: 1 | G9: 1 | H9: 1 | I9: 1 | J9: 1 | K9: 1 | L9: 1 | M9: 1 | N9: 1 | O9: 1 | P9: 1 | Q9: 1 | R9: 1 | S9: 1 | T9: 1 | U9: 1 | V9: 1 | W9: 1 | X9: 1 | Y9: 1 | Z9: 1 | AA9: 1 | AB9: 1 | AC9: 1 | AD9: 1 | AE9: 1 | AF9: 1 | AG9: 1 | AH9: 1
B10: Painted Walls | C10: No finger prints or black marks
B11: Corners and baseboard | C11: Free of dust dirts and black marks
B12: Switches and sockets | C12: Free of dust and no finger prints
B13: Signs | C13: free of dust, Shiny and no finger prints
D14: ='[1]01'!$G$34 -> 1 | E14: ='[1]01'!$G$34 -> 1 | F14: ='[1]01'!$G$34 -> 1 | G14: ='[1]01'!$G$34 -> 1 | H14: ='[1]01'!$G$34 -> 1 | I14: ='[1]01'!$G$34 -> 1 | J14: ='[1]01'!$G$34 -> 1 | K14: ='[1]01'!$G$34 -> 1 | ... AH14: ='[1]01'!$G$34 -> 1
A15: 3 | B15: Fire Boxes and extinguisher | D15: 0.5 | E15: 0.5 | F15: 0.5 | G15: 0.5 | H15: 0.5 | I15: 0.5 | J15: 0.5 | K15: 0.5 | L15: 0.5 | M15: 0.5 | N15: 0.5 | O15: 0.5 | P15: 0.5 | Q15: 0.5 | R15: 0.5 | S15: 0.5 | T15: 0.5 | U15: 0.5 | V15: 0.5 | W15: 0.5 | X15: 0.5 | Y15: 0.5 | Z15: 0.5 | AA15: 0.5 | AB15: 0.5 | AC15: 0.5 | AD15: 0.5 | AE15: 0.5 | AF15: 0.5 | AG15: 0.5 | AH15: 0.5
B16: Box in and out | C16: Free of dust, debris and garbage
B17: Fire extinguisher and holder | C17: Free of dust, spots
D18: ='[1]01'!$G$35 -> 0.5 | E18: ='[1]01'!$G$35 -> 0.5 | F18: ='[1]01'!$G$35 -> 0.5 | G18: ='[1]01'!$G$35 -> 0.5 | H18: ='[1]01'!$G$35 -> 0.5 | I18: ='[1]01'!$G$35 -> 0.5 | J18: ='[1]01'!$G$35 -> 0.5 | K18: ='[1]01'!$G$35 -> 0.5 | ... AH18: ='[1]01'!$G$35 -> 0.5
A19: 4 | B19: Floors | D19: 1 | E19: 1 | F19: 1 | G19: 1 | H19: 1 | I19: 1 | J19: 1 | K19: 1 | L19: 1 | M19: 1 | N19: 1 | O19: 1 | P19: 1 | Q19: 1 | R19: 1 | S19: 1 | T19: 1 | U19: 1 | V19: 1 | W19: 1 | X19: 1 | Y19: 1 | Z19: 1 | AA19: 1 | AB19: 1 | AC19: 1 | AD19: 1 | AE19: 1 | AF19: 1 | AG19: 1 | AH19: 1
B20: Hard floors | C20: Free of dust, spots, cement and black marks
B21: Drains | C21: Clean and not blocked
D22: 1 | E22: 1 | F22: 1 | G22: 1 | H22: 1 | I22: 1 | J22: 1 | K22: 1 | L22: 1 | M22: 1 | N22: 1 | O22: 1 | P22: 1 | Q22: 1 | R22: 1 | S22: 1 | T22: 1 | U22: 1 | V22: 1 | W22: 1 | X22: 1 | Y22: 1 | Z22: 1 | AA22: 1 | AB22: 1 | AC22: 1 | AD22: 1 | AE22: 1 | AF22: 1 | AG22: 1 | AH22: 1
A23: 5 | B23: Maintenance offices | D23: 1 | E23: 1 | F23: 1 | G23: 1 | H23: 1 | I23: 1 | J23: 1 | K23: 1 | L23: 1 | M23: 1 | N23: 1 | O23: 1 | P23: 1 | Q23: 1 | R23: 1 | S23: 1 | T23: 1 | U23: 1 | V23: 1 | W23: 1 | X23: 1 | Y23: 1 | Z23: 1 | AA23: 1 | AB23: 1 | AC23: 1 | AD23: 1 | AE23: 1 | AF23: 1 | AG23: 1 | AH23: 1
B24: Pips | C24: Free of dust and no finger prints
B25: Air diffusers | C25: Free of dust and no finger prints
B26: Light fixtures | C26: Free of dust and no finger prints
B27: Painted Walls | C27: No finger prints or black marks
B28: Corners and baseboard | C28: Free of dust and black marks
B29: Switches and sockets | C29: Free of dust and no finger prints
B30: Signs | C30: Shiny and no finger prints
B31: Stainless steel work | C31: Free of dust and no finger prints
B32: Desks | C32: Free of dust and no finger prints
B33: Computers & electronic eqt, screens, cables etc. | C33: Free of dust and no finger prints
B34: Cupboards | C34: Free of dust and no finger prints
B35: Corner and center tables | C35: Free of dust and no finger prints
... B37: Garbage bags | C37: Clean and not smelly
D38: 1 | E38: 1 | F38: 1 | G38: 1 | H38: 1 | I38: 1 | J38: 1 | K38: 1 | L38: 1 | M38: 1 | N38: 1 | O38: 1 | P38: 1 | Q38: 1 | R38: 1 | S38: 1 | T38: 1 | U38: 1 | V38: 1 | W38: 1 | X38: 1 | Y38: 1 | Z38: 1 | AA38: 1 | AB38: 1 | AC38: 1 | AD38: 1 | AE38: 1 | AF38: 1 | AG38: 1 | AH38: 1
A39: 6 | B39: Equipment Standared | D39: 0.5 | E39: 0.5 | F39: 0.5 | G39: 0.5 | H39: 0.5 | I39: 0.5 | J39: 0.5 | K39: 0.5 | L39: 0.5 | M39: 0.5 | N39: 0.5 | O39: 0.5 | P39: 0.5 | Q39: 0.5 | R39: 0.5 | S39: 0.5 | T39: 0.5 | U39: 0.5 | V39: 0.5 | W39: 0.5 | X39: 0.5 | Y39: 0.5 | Z39: 0.5 | AA39: 0.5 | AB39: 0.5 | AC39: 0.5 | AD39: 0.5 | AE39: 0.5 | AF39: 0.5 | AG39: 0.5 | AH39: 0.5
B40: Wher to store it | C40: Janitor room
B41: Machines | C41: Clean, No bad smell, Not noisy
B42: Tools | C42: Clean, No bad smell,Not torn,and no broken stiks
...

Sheet Environment
D2: 1 | E2: 2 | F2: 3 | G2: 4 | H2: 5 | I2: 6 | J2: 7 | K2: 8 | L2: 9 | M2: 10 | N2: 11 | O2: 12 | P2: 13 | Q2: 14 | R2: 15 | S2: 16 | T2: 17 | U2: 18 | V2: 19 | W2: 20 | X2: 21 | Y2: 22 | Z2: 23 | AA2: 24 | AB2: 25 | AC2: 26 | AD2: 27 | AE2: 28 | AF2: 29 | AG2: 30 | AH2: 31
B3: Area | C3: Standard | D3: Score | E3: Score | F3: Score | G3: Score | H3: Score | I3: Score | J3: Score | K3: Score | L3: Score | M3: Score | N3: Score | O3: Score | P3: Score | Q3: Score | R3: Score | S3: Score | T3: Score | U3: Score | V3: Score | W3: Score | X3: Score | Y3: Score | Z3: Score | AA3: Score | AB3: Score | AC3: Score | AD3: Score | AE3: Score | AF3: Score | AG3: Score | AH3: Score
A4: 1 | B4: Environment | D4: 1 | E4: 1 | F4: 1 | G4: 1 | H4: 1 | I4: 1 | J4: 1 | K4: 1 | L4: 1 | M4: 1 | N4: 1 | O4: 1 | P4: 1 | Q4: 1 | R4: 1 | S4: 1 | T4: 1 | U4: 1 | V4: 1 | W4: 1 | X4: 1 | Y4: 1 | Z4: 1 | AA4: 1 | AB4: 1 | AC4: 1 | AD4: 1 | AE4: 1 | AF4: 1 | AG4: 1 | AH4: 1
B5: Street | C5: Free of sand, papers, cans, and cigarettes
B6: Side walks | C6: Free of sand, papers, cans, and cigarettes
B7: Plants and grass | C7: No papers or plastic bags
D8: ='[1]01'!$G$42 -> 1 | E8: ='[1]01'!$G$42 -> 1 | F8: ='[1]01'!$G$42 -> 1 | G8: ='[1]01'!$G$42 -> 1 | H8: ='[1]01'!$G$42 -> 1 | I8: ='[1]01'!$G$42 -> 1 | J8: ='[1]01'!$G$42 -> 1 | K8: ='[1]01'!$G$42 -> 1 | ... AH8: ='[1]01'!$G$42 -> 1
A9: 2 | B9: Light fixtures | D9: 1 | E9: 1 | F9: 1 | G9: 1 | H9: 1 | I9: 1 | J9: 1 | K9: 1 | L9: 1 | M9: 1 | N9: 1 | O9: 1 | P9: 1 | Q9: 1 | R9: 1 | S9: 1 | T9: 1 | U9: 1 | V9: 1 | W9: 1 | X9: 1 | Y9: 1 | Z9: 1 | AA9: 1 | AB9: 1 | AC9: 1 | AD9: 1 | AE9: 1 | AF9: 1 | AG9: 1 | AH9: 1
B10: long light poles | C10: Free of dust, spots and shiny
B11: Short light poles | C11: Clean and not blocked
D12: ='[1]01'!$G$43 -> 1 | E12: ='[1]01'!$G$43 -> 1 | F12: ='[1]01'!$G$43 -> 1 | G12: ='[1]01'!$G$43 -> 1 | H12: ='[1]01'!$G$43 -> 1 | I12: ='[1]01'!$G$43 -> 1 | J12: ='[1]01'!$G$43 -> 1 | K12: ='[1]01'!$G$43 -> 1 | ... AH12: ='[1]01'!$G$43 -> 1
A13: 3 | B13: Security booth | D13: 1 | E13: 1 | F13: 1 | G13: 1 | H13: 1 | I13: 1 | J13: 1 | K13: 1 | L13: 1 | M13: 1 | N13: 1 | O13: 1 | P13: 1 | Q13: 1 | R13: 1 | S13: 1 | T13: 1 | U13: 1 | V13: 1 | W13: 1 | X13: 1 | Y13: 1 | Z13: 1 | AA13: 1 | AB13: 1 | AC13: 1 | AD13: 1 | AE13: 1 | AF13: 1 | AG13: 1 | AH13: 1
B14: Glass | C14: Free of dust and no finger prints
B15: Frames | C15: Free of dust and no finger prints
B16: Cladding | C16: Free of dust and no finger prints
B17: X Ray | C17: Free of dust and no finger prints
B18: Drapery/ blinds | C18: Free of dust and spots
D19: 1 | E19: 1 | F19: 1 | G19: 1 | H19: 1 | I19: 1 | J19: 1 | K19: 1 | L19: 1 | M19: 1 | N19: 1 | O19: 1 | P19: 1 | Q19: 1 | R19: 1 | S19: 1 | T19: 1 | U19: 1 | V19: 1 | W19: 1 | X19: 1 | Y19: 1 | Z19: 1 | AA19: 1 | AB19: 1 | AC19: 1 | AD19: 1 | AE19: 1 | AF19: 1 | AG19: 1 | AH19: 1
A20: 4 | B20: Signs | D20: 0.5 | E20: 0.5 | F20: 0.5 | G20: 0.5 | H20: 0.5 | I20: 0.5 | J20: 0.5 | K20: 0.5 | L20: 0.5 | M20: 0.5 | N20: 0.5 | O20: 0.5 | P20: 0.5 | Q20: 0.5 | R20: 0.5 | S20: 0.5 | T20: 0.5 | U20: 0.5 | V20: 0.5 | W20: 0.5 | X20: 0.5 | Y20: 0.5 | Z20: 0.5 | AA20: 0.5 | AB20: 0.5 | AC20: 0.5 | AD20: 0.5 | AE20: 0.5 | AF20: 0.5 | AG20: 0.5 | AH20: 0.5
B21: Guide signs | C21: Free of dust and black marks
D22: 0.5 | E22: 0.5 | F22: 0.5 | G22: 0.5 | H22: 0.5 | I22: 0.5 | J22: 0.5 | K22: 0.5 | L22: 0.5 | M22: 0.5 | N22: 0.5 | O22: 0.5 | P22: 0.5 | Q22: 0.5 | R22: 0.5 | S22: 0.5 | T22: 0.5 | U22: 0.5 | V22: 0.5 | W22: 0.5 | X22: 0.5 | Y22: 0.5 | Z22: 0.5 | AA22: 0.5 | AB22: 0.5 | AC22: 0.5 | AD22: 0.5 | AE22: 0.5 | AF22: 0.5 | AG22: 0.5 | AH22: 0.5
A23: 5 | B23: Equipment Standared | D23: 1 | E23: 1 | F23: 1 | G23: 1 | H23: 1 | I23: 1 | J23: 1 | K23: 1 | L23: 1 | M23: 1 | N23: 1 | O23: 1 | P23: 1 | Q23: 1 | R23: 1 | S23: 1 | T23: 1 | U23: 1 | V23: 1 | W23: 1 | X23: 1 | Y23: 1 | Z23: 1 | AA23: 1 | AB23: 1 | AC23: 1 | AD23: 1 | AE23: 1 | AF23: 1 | AG23: 1 | AH23: 1
B24: Wher to store it | C24: Janitor room
B25: Machines | C25: Clean, No bad smell, Not noisy
B26: Tools | C26: Clean, No bad smell,Not torn,and no broken stiks
B27: Chemicals | C27: bottels tobe keept at the tray, and keep it at the janitor room
D28: 1 | E28: 1 | F28: 1 | G28: 1 | H28: 1 | I28: 1 | J28: 1 | K28: 1 | L28: 1 | M28: 1 | N28: 1 | O28: 1 | P28: 1 | Q28: 1 | R28: 1 | S28: 1 | T28: 1 | U28: 1 | V28: 1 | W28: 1 | X28: 1 | Y28: 1 | Z28: 1 | AA28: 1 | AB28: 1 | AC28: 1 | AD28: 1 | AE28: 1 | AF28: 1 | AG28: 1 | AH28: 1
A29: 6 | B29: Safty procedure | D29: 0.5 | E29: 0.5 | F29: 0.5 | G29: 0.5 | H29: 0.5 | I29: 0.5 | J29: 0.5 | K29: 0.5 | L29: 0.5 | M29: 0.5 | N29: 0.5 | O29: 0.5 | P29: 0.5 | Q29: 0.5 | R29: 0.5 | S29: 0.5 | T29: 0.5 | U29: 0.5 | V29: 0.5 | W29: 0.5 | X29: 0.5 | Y29: 0.5 | Z29: 0.5 | AA29: 0.5 | AB29: 0.5 | AC29: 0.5 | AD29: 0.5 | AE29: 0.5 | AF29: 0.5 | AG29: 0.5 | AH29: 0.5
B30: Machines | C30: The cable has no cutting, blug is fixed, warning sign to be used
B31: Tools | C31: Warning sign to be used, no ladder on wet floor
B32: Chemicals | C32: Known, covered, on the properet botteles
B33: Uniform | C33: shoes without heel, and not slippery
D34: ='[1]01'!$G$47 -> 0.5 | E34: ='[1]01'!$G$47 -> 0.5 | F34: ='[1]01'!$G$47 -> 0.5 | G34: ='[1]01'!$G$47 -> 0.5 | H34: ='[1]01'!$G$47 -> 0.5 | I34: ='[1]01'!$G$47 -> 0.5 | J34: ='[1]01'!$G$47 -> 0.5 | K34: ='[1]01'!$G$47 -> 0.5 | ... AH34: ='[1]01'!$G$47 -> 0.5
B36: Total Score | D36: =D4+D9+D13+D20+D23+D29 -> 5 | E36: =E4+E9+E13+E20+E23+E29 -> 5 | F36: =F4+F9+F13+F20+F23+F29 -> 5 | G36: =G4+G9+G13+G20+G23+G29 -> 5 | H36: =H4+H9+H13+H20+H23+H29 -> 5 | I36: =I4+I9+I13+I20+I23+I29 -> 5 | J36: =J4+J9+J13+J20+J23+J29 -> 5 | K36: =K4+K9+K13+K20+K23+K29 -> 5 | ... AH36: =AH4+AH9+AH13+AH20+AH23+AH29 -> 5 | AI36: =SUM(D36:AH36) -> 155
B37: Actual score | D37: =D8+D12+D19+D22+D28+D34 -> 5 | E37: =E8+E12+E19+E22+E28+E34 -> 5 | F37: =F8+F12+F19+F22+F28+F34 -> 5 | G37: =G8+G12+G19+G22+G28+G34 -> 5 | H37: =H8+H12+H19+H22+H28+H34 -> 5 | I37: =I8+I12+I19+I22+I28+I34 -> 5 | J37: =J8+J12+J19+J22+J28+J34 -> 5 | K37: =K8+K12+K19+K22+K28+K34 -> 5 | ... AH37: =AH8+AH12+AH19+AH22+AH28+AH34 -> 5 | AI37: =SUM(D37:AH37) -> 155

Sheet Food hall
